BEGIN:VCALENDAR
VERSION:2.0
PRODID:-//YGAMETIME.com//YGT iCal Creator//EN
METHOD:PUBLISH
X-PUBLISHED-TTL:PT6H
REFRESH-INTERVAL;VALUE=DURATION:PT6H
CALSCALE:GREGORIAN
X-WR-CALNAME:YGAMETIME CALENDAR
BEGIN:VEVENT
UID:stonestown-198604@ygametime.com
DTSTAMP:20191214T223000Z
DTSTART;TZID=America/Los_Angeles:20191214T143000
DURATION:PT0H60M0S
SUMMARY:Raptors vs Denman Demons
DESCRIPTION:6-8TH GRADE | Basketball\nStonestown Family YMCA\n
URL;VALUE=URI:https://ygametime.com/branch/stonestown/sports/2020-winter-basketball/8038/?utm_medium=calendar&utm_source=team_cal&utm_content=league_url#game-198604
LOCATION:Serramonte Del Rey Court 3
BEGIN:VALARM
TRIGGER:-P2H
ACTION:DISPLAY
DESCRIPTION:Raptors vs Denman Demons
END:VALARM
END:VEVENT
BEGIN:VEVENT
UID:stonestown-198609@ygametime.com
DTSTAMP:20200111T233000Z
DTSTART;TZID=America/Los_Angeles:20200111T153000
DURATION:PT0H60M0S
SUMMARY:Aptos vs Raptors
DESCRIPTION:6-8TH GRADE | Basketball\nStonestown Family YMCA\n
URL;VALUE=URI:https://ygametime.com/branch/stonestown/sports/2020-winter-basketball/8038/?utm_medium=calendar&utm_source=team_cal&utm_content=league_url#game-198609
LOCATION:Serramonte Del Rey Court 3
BEGIN:VALARM
TRIGGER:-P2H
ACTION:DISPLAY
DESCRIPTION:Aptos vs Raptors
END:VALARM
END:VEVENT
BEGIN:VEVENT
UID:stonestown-198613@ygametime.com
DTSTAMP:20200118T233000Z
DTSTART;TZID=America/Los_Angeles:20200118T153000
DURATION:PT0H60M0S
SUMMARY:Raptors vs Rockets
DESCRIPTION:6-8TH GRADE | Basketball\nStonestown Family YMCA\n
URL;VALUE=URI:https://ygametime.com/branch/stonestown/sports/2020-winter-basketball/8038/?utm_medium=calendar&utm_source=team_cal&utm_content=league_url#game-198613
LOCATION:Serramonte Del Rey Court 3
BEGIN:VALARM
TRIGGER:-P2H
ACTION:DISPLAY
DESCRIPTION:Raptors vs Rockets
END:VALARM
END:VEVENT
BEGIN:VEVENT
UID:stonestown-198617@ygametime.com
DTSTAMP:20200125T233000Z
DTSTART;TZID=America/Los_Angeles:20200125T153000
DURATION:PT0H60M0S
SUMMARY:Raptors vs Blazers
DESCRIPTION:6-8TH GRADE | Basketball\nStonestown Family YMCA\n
URL;VALUE=URI:https://ygametime.com/branch/stonestown/sports/2020-winter-basketball/8038/?utm_medium=calendar&utm_source=team_cal&utm_content=league_url#game-198617
LOCATION:Serramonte Del Rey Court 3
BEGIN:VALARM
TRIGGER:-P2H
ACTION:DISPLAY
DESCRIPTION:Raptors vs Blazers
END:VALARM
END:VEVENT
BEGIN:VEVENT
UID:stonestown-198620@ygametime.com
DTSTAMP:20200201T223000Z
DTSTART;TZID=America/Los_Angeles:20200201T143000
DURATION:PT0H60M0S
SUMMARY:Raptors vs Aptos
DESCRIPTION:6-8TH GRADE | Basketball\nStonestown Family YMCA\n
URL;VALUE=URI:https://ygametime.com/branch/stonestown/sports/2020-winter-basketball/8038/?utm_medium=calendar&utm_source=team_cal&utm_content=league_url#game-198620
LOCATION:Serramonte Del Rey Court 3
BEGIN:VALARM
TRIGGER:-P2H
ACTION:DISPLAY
DESCRIPTION:Raptors vs Aptos
END:VALARM
END:VEVENT
BEGIN:VEVENT
UID:stonestown-198626@ygametime.com
DTSTAMP:20200209T003000Z
DTSTART;TZID=America/Los_Angeles:20200208T163000
DURATION:PT0H60M0S
SUMMARY:Blazers vs Raptors
DESCRIPTION:6-8TH GRADE | Basketball\nStonestown Family YMCA\n
URL;VALUE=URI:https://ygametime.com/branch/stonestown/sports/2020-winter-basketball/8038/?utm_medium=calendar&utm_source=team_cal&utm_content=league_url#game-198626
LOCATION:Serramonte Del Rey Court 3
BEGIN:VALARM
TRIGGER:-P2H
ACTION:DISPLAY
DESCRIPTION:Blazers vs Raptors
END:VALARM
END:VEVENT
BEGIN:VEVENT
UID:stonestown-198628@ygametime.com
DTSTAMP:20200215T223000Z
DTSTART;TZID=America/Los_Angeles:20200215T143000
DURATION:PT0H60M0S
SUMMARY:Raptors vs TECA Panthers
DESCRIPTION:6-8TH GRADE | Basketball\nStonestown Family YMCA\n
URL;VALUE=URI:https://ygametime.com/branch/stonestown/sports/2020-winter-basketball/8038/?utm_medium=calendar&utm_source=team_cal&utm_content=league_url#game-198628
LOCATION:Serramonte Del Rey Court 3
BEGIN:VALARM
TRIGGER:-P2H
ACTION:DISPLAY
DESCRIPTION:Raptors vs TECA Panthers
END:VALARM
END:VEVENT
BEGIN:VEVENT
UID:stonestown-198629@ygametime.com
DTSTAMP:20200215T233000Z
DTSTART;TZID=America/Los_Angeles:20200215T153000
DURATION:PT0H60M0S
SUMMARY:Raptors vs Aptos
DESCRIPTION:6-8TH GRADE | Basketball\nStonestown Family YMCA\n
URL;VALUE=URI:https://ygametime.com/branch/stonestown/sports/2020-winter-basketball/8038/?utm_medium=calendar&utm_source=team_cal&utm_content=league_url#game-198629
LOCATION:Serramonte Del Rey Court 3
BEGIN:VALARM
TRIGGER:-P2H
ACTION:DISPLAY
DESCRIPTION:Raptors vs Aptos
END:VALARM
END:VEVENT
BEGIN:VEVENT
UID:stonestown-198634@ygametime.com
DTSTAMP:20200223T003000Z
DTSTART;TZID=America/Los_Angeles:20200222T163000
DURATION:PT0H60M0S
SUMMARY:Gators vs Raptors
DESCRIPTION:6-8TH GRADE | Basketball\nStonestown Family YMCA\n
URL;VALUE=URI:https://ygametime.com/branch/stonestown/sports/2020-winter-basketball/8038/?utm_medium=calendar&utm_source=team_cal&utm_content=league_url#game-198634
LOCATION:Serramonte Del Rey Court 3
BEGIN:VALARM
TRIGGER:-P2H
ACTION:DISPLAY
DESCRIPTION:Gators vs Raptors
END:VALARM
END:VEVENT
END:VCALENDAR

