BEGIN:VCALENDAR
VERSION:2.0
PRODID:-//YGAMETIME.com//YGT iCal Creator//EN
METHOD:PUBLISH
X-PUBLISHED-TTL:PT6H
REFRESH-INTERVAL;VALUE=DURATION:PT6H
CALSCALE:GREGORIAN
X-WR-CALNAME:YGAMETIME CALENDAR
BEGIN:VEVENT
UID:stonestown-198605@ygametime.com
DTSTAMP:20191214T233000Z
DTSTART;TZID=America/Los_Angeles:20191214T153000
DURATION:PT0H60M0S
SUMMARY:TECA Panthers vs Rockets
DESCRIPTION:6-8TH GRADE | Basketball\nStonestown Family YMCA\n
URL;VALUE=URI:https://ygametime.com/branch/stonestown/sports/2020-winter-basketball/8038/?utm_medium=calendar&utm_source=team_cal&utm_content=league_url#game-198605
LOCATION:Serramonte Del Rey Court 3
BEGIN:VALARM
TRIGGER:-P2H
ACTION:DISPLAY
DESCRIPTION:TECA Panthers vs Rockets
END:VALARM
END:VEVENT
BEGIN:VEVENT
UID:stonestown-198607@ygametime.com
DTSTAMP:20191215T003000Z
DTSTART;TZID=America/Los_Angeles:20191214T163000
DURATION:PT0H60M0S
SUMMARY:TECA Panthers vs Blazers
DESCRIPTION:6-8TH GRADE | Basketball\nStonestown Family YMCA\n
URL;VALUE=URI:https://ygametime.com/branch/stonestown/sports/2020-winter-basketball/8038/?utm_medium=calendar&utm_source=team_cal&utm_content=league_url#game-198607
LOCATION:Serramonte Del Rey Court 1 
BEGIN:VALARM
TRIGGER:-P2H
ACTION:DISPLAY
DESCRIPTION:TECA Panthers vs Blazers
END:VALARM
END:VEVENT
BEGIN:VEVENT
UID:stonestown-198611@ygametime.com
DTSTAMP:20200112T003000Z
DTSTART;TZID=America/Los_Angeles:20200111T163000
DURATION:PT0H60M0S
SUMMARY:Gators vs TECA Panthers
DESCRIPTION:6-8TH GRADE | Basketball\nStonestown Family YMCA\n
URL;VALUE=URI:https://ygametime.com/branch/stonestown/sports/2020-winter-basketball/8038/?utm_medium=calendar&utm_source=team_cal&utm_content=league_url#game-198611
LOCATION:Serramonte Del Rey Court 1 
BEGIN:VALARM
TRIGGER:-P2H
ACTION:DISPLAY
DESCRIPTION:Gators vs TECA Panthers
END:VALARM
END:VEVENT
BEGIN:VEVENT
UID:stonestown-198614@ygametime.com
DTSTAMP:20200119T003000Z
DTSTART;TZID=America/Los_Angeles:20200118T163000
DURATION:PT0H60M0S
SUMMARY:TECA Panthers vs Rockets
DESCRIPTION:6-8TH GRADE | Basketball\nStonestown Family YMCA\n
URL;VALUE=URI:https://ygametime.com/branch/stonestown/sports/2020-winter-basketball/8038/?utm_medium=calendar&utm_source=team_cal&utm_content=league_url#game-198614
LOCATION:Serramonte Del Rey Court 3
BEGIN:VALARM
TRIGGER:-P2H
ACTION:DISPLAY
DESCRIPTION:TECA Panthers vs Rockets
END:VALARM
END:VEVENT
BEGIN:VEVENT
UID:stonestown-198616@ygametime.com
DTSTAMP:20200125T223000Z
DTSTART;TZID=America/Los_Angeles:20200125T143000
DURATION:PT0H60M0S
SUMMARY:Aptos vs TECA Panthers
DESCRIPTION:6-8TH GRADE | Basketball\nStonestown Family YMCA\n
URL;VALUE=URI:https://ygametime.com/branch/stonestown/sports/2020-winter-basketball/8038/?utm_medium=calendar&utm_source=team_cal&utm_content=league_url#game-198616
LOCATION:Serramonte Del Rey Court 3
BEGIN:VALARM
TRIGGER:-P2H
ACTION:DISPLAY
DESCRIPTION:Aptos vs TECA Panthers
END:VALARM
END:VEVENT
BEGIN:VEVENT
UID:stonestown-198622@ygametime.com
DTSTAMP:20200202T003000Z
DTSTART;TZID=America/Los_Angeles:20200201T163000
DURATION:PT0H60M0S
SUMMARY:TECA Panthers vs Blazers
DESCRIPTION:6-8TH GRADE | Basketball\nStonestown Family YMCA\n
URL;VALUE=URI:https://ygametime.com/branch/stonestown/sports/2020-winter-basketball/8038/?utm_medium=calendar&utm_source=team_cal&utm_content=league_url#game-198622
LOCATION:Serramonte Del Rey Court 3
BEGIN:VALARM
TRIGGER:-P2H
ACTION:DISPLAY
DESCRIPTION:TECA Panthers vs Blazers
END:VALARM
END:VEVENT
BEGIN:VEVENT
UID:stonestown-198624@ygametime.com
DTSTAMP:20200208T223000Z
DTSTART;TZID=America/Los_Angeles:20200208T143000
DURATION:PT0H60M0S
SUMMARY:TECA Panthers vs Denman Demons
DESCRIPTION:6-8TH GRADE | Basketball\nStonestown Family YMCA\n
URL;VALUE=URI:https://ygametime.com/branch/stonestown/sports/2020-winter-basketball/8038/?utm_medium=calendar&utm_source=team_cal&utm_content=league_url#game-198624
LOCATION:Serramonte Del Rey Court 3
BEGIN:VALARM
TRIGGER:-P2H
ACTION:DISPLAY
DESCRIPTION:TECA Panthers vs Denman Demons
END:VALARM
END:VEVENT
BEGIN:VEVENT
UID:stonestown-198625@ygametime.com
DTSTAMP:20200208T233000Z
DTSTART;TZID=America/Los_Angeles:20200208T153000
DURATION:PT0H60M0S
SUMMARY:Rockets vs TECA Panthers
DESCRIPTION:6-8TH GRADE | Basketball\nStonestown Family YMCA\n
URL;VALUE=URI:https://ygametime.com/branch/stonestown/sports/2020-winter-basketball/8038/?utm_medium=calendar&utm_source=team_cal&utm_content=league_url#game-198625
LOCATION:Serramonte Del Rey Court 3
BEGIN:VALARM
TRIGGER:-P2H
ACTION:DISPLAY
DESCRIPTION:Rockets vs TECA Panthers
END:VALARM
END:VEVENT
BEGIN:VEVENT
UID:stonestown-198628@ygametime.com
DTSTAMP:20200215T223000Z
DTSTART;TZID=America/Los_Angeles:20200215T143000
DURATION:PT0H60M0S
SUMMARY:Raptors vs TECA Panthers
DESCRIPTION:6-8TH GRADE | Basketball\nStonestown Family YMCA\n
URL;VALUE=URI:https://ygametime.com/branch/stonestown/sports/2020-winter-basketball/8038/?utm_medium=calendar&utm_source=team_cal&utm_content=league_url#game-198628
LOCATION:Serramonte Del Rey Court 3
BEGIN:VALARM
TRIGGER:-P2H
ACTION:DISPLAY
DESCRIPTION:Raptors vs TECA Panthers
END:VALARM
END:VEVENT
BEGIN:VEVENT
UID:stonestown-198633@ygametime.com
DTSTAMP:20200222T233000Z
DTSTART;TZID=America/Los_Angeles:20200222T153000
DURATION:PT0H60M0S
SUMMARY:Denman Demons vs TECA Panthers
DESCRIPTION:6-8TH GRADE | Basketball\nStonestown Family YMCA\n
URL;VALUE=URI:https://ygametime.com/branch/stonestown/sports/2020-winter-basketball/8038/?utm_medium=calendar&utm_source=team_cal&utm_content=league_url#game-198633
LOCATION:Serramonte Del Rey Court 3
BEGIN:VALARM
TRIGGER:-P2H
ACTION:DISPLAY
DESCRIPTION:Denman Demons vs TECA Panthers
END:VALARM
END:VEVENT
END:VCALENDAR

