BEGIN:VCALENDAR
VERSION:2.0
PRODID:-//YGAMETIME.com//YGT iCal Creator//EN
METHOD:PUBLISH
X-PUBLISHED-TTL:PT6H
REFRESH-INTERVAL;VALUE=DURATION:PT6H
CALSCALE:GREGORIAN
X-WR-CALNAME:YGAMETIME CALENDAR
BEGIN:VEVENT
UID:stonestown-198463@ygametime.com
DTSTAMP:20191214T170000Z
DTSTART;TZID=America/Los_Angeles:20191214T090000
DURATION:PT0H60M0S
SUMMARY:FSK Dragons vs Sunset Shooting Stars
DESCRIPTION:1ST GRADE | Basketball\nStonestown Family YMCA\n
URL;VALUE=URI:https://ygametime.com/branch/stonestown/sports/2020-winter-basketball/8034/?utm_medium=calendar&utm_source=team_cal&utm_content=league_url#game-198463
LOCATION:Serramonte Del Rey Court 2 
BEGIN:VALARM
TRIGGER:-P2H
ACTION:DISPLAY
DESCRIPTION:FSK Dragons vs Sunset Shooting Stars
END:VALARM
END:VEVENT
BEGIN:VEVENT
UID:stonestown-198469@ygametime.com
DTSTAMP:20200111T180000Z
DTSTART;TZID=America/Los_Angeles:20200111T100000
DURATION:PT0H60M0S
SUMMARY:FSK Jedi vs FSK Dragons
DESCRIPTION:1ST GRADE | Basketball\nStonestown Family YMCA\n
URL;VALUE=URI:https://ygametime.com/branch/stonestown/sports/2020-winter-basketball/8034/?utm_medium=calendar&utm_source=team_cal&utm_content=league_url#game-198469
LOCATION:Serramonte Del Rey Court 2 
BEGIN:VALARM
TRIGGER:-P2H
ACTION:DISPLAY
DESCRIPTION:FSK Jedi vs FSK Dragons
END:VALARM
END:VEVENT
BEGIN:VEVENT
UID:stonestown-198476@ygametime.com
DTSTAMP:20200118T190000Z
DTSTART;TZID=America/Los_Angeles:20200118T110000
DURATION:PT0H60M0S
SUMMARY:FSK Dragons vs Suns
DESCRIPTION:1ST GRADE | Basketball\nStonestown Family YMCA\n
URL;VALUE=URI:https://ygametime.com/branch/stonestown/sports/2020-winter-basketball/8034/?utm_medium=calendar&utm_source=team_cal&utm_content=league_url#game-198476
LOCATION:Serramonte Del Rey Court 1 
BEGIN:VALARM
TRIGGER:-P2H
ACTION:DISPLAY
DESCRIPTION:FSK Dragons vs Suns
END:VALARM
END:VEVENT
BEGIN:VEVENT
UID:stonestown-198481@ygametime.com
DTSTAMP:20200125T190000Z
DTSTART;TZID=America/Los_Angeles:20200125T110000
DURATION:PT0H60M0S
SUMMARY:FSK Dragons vs Spurs
DESCRIPTION:1ST GRADE | Basketball\nStonestown Family YMCA\n
URL;VALUE=URI:https://ygametime.com/branch/stonestown/sports/2020-winter-basketball/8034/?utm_medium=calendar&utm_source=team_cal&utm_content=league_url#game-198481
LOCATION:Serramonte Del Rey Court 1 
BEGIN:VALARM
TRIGGER:-P2H
ACTION:DISPLAY
DESCRIPTION:FSK Dragons vs Spurs
END:VALARM
END:VEVENT
BEGIN:VEVENT
UID:stonestown-198482@ygametime.com
DTSTAMP:20200125T200000Z
DTSTART;TZID=America/Los_Angeles:20200125T120000
DURATION:PT0H60M0S
SUMMARY:Sunset Shooting Stars vs FSK Dragons
DESCRIPTION:1ST GRADE | Basketball\nStonestown Family YMCA\n
URL;VALUE=URI:https://ygametime.com/branch/stonestown/sports/2020-winter-basketball/8034/?utm_medium=calendar&utm_source=team_cal&utm_content=league_url#game-198482
LOCATION:Serramonte Del Rey Court 1 
BEGIN:VALARM
TRIGGER:-P2H
ACTION:DISPLAY
DESCRIPTION:Sunset Shooting Stars vs FSK Dragons
END:VALARM
END:VEVENT
BEGIN:VEVENT
UID:stonestown-198487@ygametime.com
DTSTAMP:20200201T200000Z
DTSTART;TZID=America/Los_Angeles:20200201T120000
DURATION:PT0H60M0S
SUMMARY:Miraloma Fire Dragons vs FSK Dragons
DESCRIPTION:1ST GRADE | Basketball\nStonestown Family YMCA\n
URL;VALUE=URI:https://ygametime.com/branch/stonestown/sports/2020-winter-basketball/8034/?utm_medium=calendar&utm_source=team_cal&utm_content=league_url#game-198487
LOCATION:Serramonte Del Rey Court 1 
BEGIN:VALARM
TRIGGER:-P2H
ACTION:DISPLAY
DESCRIPTION:Miraloma Fire Dragons vs FSK Dragons
END:VALARM
END:VEVENT
BEGIN:VEVENT
UID:stonestown-198492@ygametime.com
DTSTAMP:20200208T200000Z
DTSTART;TZID=America/Los_Angeles:20200208T120000
DURATION:PT0H60M0S
SUMMARY:Miraloma Fire Dragons vs FSK Dragons
DESCRIPTION:1ST GRADE | Basketball\nStonestown Family YMCA\n
URL;VALUE=URI:https://ygametime.com/branch/stonestown/sports/2020-winter-basketball/8034/?utm_medium=calendar&utm_source=team_cal&utm_content=league_url#game-198492
LOCATION:Serramonte Del Rey Court 1 
BEGIN:VALARM
TRIGGER:-P2H
ACTION:DISPLAY
DESCRIPTION:Miraloma Fire Dragons vs FSK Dragons
END:VALARM
END:VEVENT
BEGIN:VEVENT
UID:stonestown-198496@ygametime.com
DTSTAMP:20200215T190000Z
DTSTART;TZID=America/Los_Angeles:20200215T110000
DURATION:PT0H60M0S
SUMMARY:Nuggets vs FSK Dragons
DESCRIPTION:1ST GRADE | Basketball\nStonestown Family YMCA\n
URL;VALUE=URI:https://ygametime.com/branch/stonestown/sports/2020-winter-basketball/8034/?utm_medium=calendar&utm_source=team_cal&utm_content=league_url#game-198496
LOCATION:Serramonte Del Rey Court 1 
BEGIN:VALARM
TRIGGER:-P2H
ACTION:DISPLAY
DESCRIPTION:Nuggets vs FSK Dragons
END:VALARM
END:VEVENT
BEGIN:VEVENT
UID:stonestown-198499@ygametime.com
DTSTAMP:20200222T190000Z
DTSTART;TZID=America/Los_Angeles:20200222T110000
DURATION:PT0H60M0S
SUMMARY:FSK Dragons vs Clarendon Huskies
DESCRIPTION:1ST GRADE | Basketball\nStonestown Family YMCA\n
URL;VALUE=URI:https://ygametime.com/branch/stonestown/sports/2020-winter-basketball/8034/?utm_medium=calendar&utm_source=team_cal&utm_content=league_url#game-198499
LOCATION:Serramonte Del Rey Court 1 
BEGIN:VALARM
TRIGGER:-P2H
ACTION:DISPLAY
DESCRIPTION:FSK Dragons vs Clarendon Huskies
END:VALARM
END:VEVENT
END:VCALENDAR

