BEGIN:VCALENDAR
VERSION:2.0
PRODID:-//YGAMETIME.com//YGT iCal Creator//EN
METHOD:PUBLISH
X-PUBLISHED-TTL:PT6H
REFRESH-INTERVAL;VALUE=DURATION:PT6H
CALSCALE:GREGORIAN
X-WR-CALNAME:YGAMETIME CALENDAR
BEGIN:VEVENT
UID:stonestown-198506@ygametime.com
DTSTAMP:20191214T223000Z
DTSTART;TZID=America/Los_Angeles:20191214T143000
DURATION:PT0H60M0S
SUMMARY:Bulls vs Leopards
DESCRIPTION:2ND GRADE | Basketball\nStonestown Family YMCA\n
URL;VALUE=URI:https://ygametime.com/branch/stonestown/sports/2020-winter-basketball/8035/?utm_medium=calendar&utm_source=team_cal&utm_content=league_url#game-198506
LOCATION:Serramonte Del Rey Court 1 
BEGIN:VALARM
TRIGGER:-P2H
ACTION:DISPLAY
DESCRIPTION:Bulls vs Leopards
END:VALARM
END:VEVENT
BEGIN:VEVENT
UID:stonestown-198512@ygametime.com
DTSTAMP:20200111T223000Z
DTSTART;TZID=America/Los_Angeles:20200111T143000
DURATION:PT0H60M0S
SUMMARY:Commodore Sloat Sea Dragons vs Bulls
DESCRIPTION:2ND GRADE | Basketball\nStonestown Family YMCA\n
URL;VALUE=URI:https://ygametime.com/branch/stonestown/sports/2020-winter-basketball/8035/?utm_medium=calendar&utm_source=team_cal&utm_content=league_url#game-198512
LOCATION:Serramonte Del Rey Court 2 
BEGIN:VALARM
TRIGGER:-P2H
ACTION:DISPLAY
DESCRIPTION:Commodore Sloat Sea Dragons vs Bulls
END:VALARM
END:VEVENT
BEGIN:VEVENT
UID:stonestown-198513@ygametime.com
DTSTAMP:20200118T200000Z
DTSTART;TZID=America/Los_Angeles:20200118T120000
DURATION:PT0H60M0S
SUMMARY:Bulls vs Lions
DESCRIPTION:2ND GRADE | Basketball\nStonestown Family YMCA\n
URL;VALUE=URI:https://ygametime.com/branch/stonestown/sports/2020-winter-basketball/8035/?utm_medium=calendar&utm_source=team_cal&utm_content=league_url#game-198513
LOCATION:Serramonte Del Rey Court 2 
BEGIN:VALARM
TRIGGER:-P2H
ACTION:DISPLAY
DESCRIPTION:Bulls vs Lions
END:VALARM
END:VEVENT
BEGIN:VEVENT
UID:stonestown-198521@ygametime.com
DTSTAMP:20200125T223000Z
DTSTART;TZID=America/Los_Angeles:20200125T143000
DURATION:PT0H60M0S
SUMMARY:Bulls vs Heat
DESCRIPTION:2ND GRADE | Basketball\nStonestown Family YMCA\n
URL;VALUE=URI:https://ygametime.com/branch/stonestown/sports/2020-winter-basketball/8035/?utm_medium=calendar&utm_source=team_cal&utm_content=league_url#game-198521
LOCATION:Serramonte Del Rey Court 1 
BEGIN:VALARM
TRIGGER:-P2H
ACTION:DISPLAY
DESCRIPTION:Bulls vs Heat
END:VALARM
END:VEVENT
BEGIN:VEVENT
UID:stonestown-198526@ygametime.com
DTSTAMP:20200201T223000Z
DTSTART;TZID=America/Los_Angeles:20200201T143000
DURATION:PT0H60M0S
SUMMARY:KZV Bears vs Bulls
DESCRIPTION:2ND GRADE | Basketball\nStonestown Family YMCA\n
URL;VALUE=URI:https://ygametime.com/branch/stonestown/sports/2020-winter-basketball/8035/?utm_medium=calendar&utm_source=team_cal&utm_content=league_url#game-198526
LOCATION:Serramonte Del Rey Court 1 
BEGIN:VALARM
TRIGGER:-P2H
ACTION:DISPLAY
DESCRIPTION:KZV Bears vs Bulls
END:VALARM
END:VEVENT
BEGIN:VEVENT
UID:stonestown-198531@ygametime.com
DTSTAMP:20200208T223000Z
DTSTART;TZID=America/Los_Angeles:20200208T143000
DURATION:PT0H60M0S
SUMMARY:Bulls vs Miraloma Fire Dragons
DESCRIPTION:2ND GRADE | Basketball\nStonestown Family YMCA\n
URL;VALUE=URI:https://ygametime.com/branch/stonestown/sports/2020-winter-basketball/8035/?utm_medium=calendar&utm_source=team_cal&utm_content=league_url#game-198531
LOCATION:Serramonte Del Rey Court 1 
BEGIN:VALARM
TRIGGER:-P2H
ACTION:DISPLAY
DESCRIPTION:Bulls vs Miraloma Fire Dragons
END:VALARM
END:VEVENT
BEGIN:VEVENT
UID:stonestown-198536@ygametime.com
DTSTAMP:20200215T223000Z
DTSTART;TZID=America/Los_Angeles:20200215T143000
DURATION:PT0H60M0S
SUMMARY:FSK Water Dragons vs Bulls
DESCRIPTION:2ND GRADE | Basketball\nStonestown Family YMCA\n
URL;VALUE=URI:https://ygametime.com/branch/stonestown/sports/2020-winter-basketball/8035/?utm_medium=calendar&utm_source=team_cal&utm_content=league_url#game-198536
LOCATION:Serramonte Del Rey Court 1 
BEGIN:VALARM
TRIGGER:-P2H
ACTION:DISPLAY
DESCRIPTION:FSK Water Dragons vs Bulls
END:VALARM
END:VEVENT
BEGIN:VEVENT
UID:stonestown-198539@ygametime.com
DTSTAMP:20200222T223000Z
DTSTART;TZID=America/Los_Angeles:20200222T143000
DURATION:PT0H60M0S
SUMMARY:Bulls vs Leopards
DESCRIPTION:2ND GRADE | Basketball\nStonestown Family YMCA\n
URL;VALUE=URI:https://ygametime.com/branch/stonestown/sports/2020-winter-basketball/8035/?utm_medium=calendar&utm_source=team_cal&utm_content=league_url#game-198539
LOCATION:Serramonte Del Rey Court 1 
BEGIN:VALARM
TRIGGER:-P2H
ACTION:DISPLAY
DESCRIPTION:Bulls vs Leopards
END:VALARM
END:VEVENT
END:VCALENDAR

