BEGIN:VCALENDAR
VERSION:2.0
PRODID:-//YGAMETIME.com//YGT iCal Creator//EN
METHOD:PUBLISH
X-PUBLISHED-TTL:PT6H
REFRESH-INTERVAL;VALUE=DURATION:PT6H
CALSCALE:GREGORIAN
X-WR-CALNAME:YGAMETIME CALENDAR
BEGIN:VEVENT
UID:stonestown-198606@ygametime.com
DTSTAMP:20191215T003000Z
DTSTART;TZID=America/Los_Angeles:20191214T163000
DURATION:PT0H60M0S
SUMMARY:Aptos vs Gators
DESCRIPTION:6-8TH GRADE | Basketball\nStonestown Family YMCA\n
URL;VALUE=URI:https://ygametime.com/branch/stonestown/sports/2020-winter-basketball/8038/?utm_medium=calendar&utm_source=team_cal&utm_content=league_url#game-198606
LOCATION:Serramonte Del Rey Court 3
BEGIN:VALARM
TRIGGER:-P2H
ACTION:DISPLAY
DESCRIPTION:Aptos vs Gators
END:VALARM
END:VEVENT
BEGIN:VEVENT
UID:stonestown-198611@ygametime.com
DTSTAMP:20200112T003000Z
DTSTART;TZID=America/Los_Angeles:20200111T163000
DURATION:PT0H60M0S
SUMMARY:Gators vs TECA Panthers
DESCRIPTION:6-8TH GRADE | Basketball\nStonestown Family YMCA\n
URL;VALUE=URI:https://ygametime.com/branch/stonestown/sports/2020-winter-basketball/8038/?utm_medium=calendar&utm_source=team_cal&utm_content=league_url#game-198611
LOCATION:Serramonte Del Rey Court 1 
BEGIN:VALARM
TRIGGER:-P2H
ACTION:DISPLAY
DESCRIPTION:Gators vs TECA Panthers
END:VALARM
END:VEVENT
BEGIN:VEVENT
UID:stonestown-198615@ygametime.com
DTSTAMP:20200119T003000Z
DTSTART;TZID=America/Los_Angeles:20200118T163000
DURATION:PT0H60M0S
SUMMARY:Denman Demons vs Gators
DESCRIPTION:6-8TH GRADE | Basketball\nStonestown Family YMCA\n
URL;VALUE=URI:https://ygametime.com/branch/stonestown/sports/2020-winter-basketball/8038/?utm_medium=calendar&utm_source=team_cal&utm_content=league_url#game-198615
LOCATION:Serramonte Del Rey Court 1 
BEGIN:VALARM
TRIGGER:-P2H
ACTION:DISPLAY
DESCRIPTION:Denman Demons vs Gators
END:VALARM
END:VEVENT
BEGIN:VEVENT
UID:stonestown-198619@ygametime.com
DTSTAMP:20200126T003000Z
DTSTART;TZID=America/Los_Angeles:20200125T163000
DURATION:PT0H60M0S
SUMMARY:Blazers vs Gators
DESCRIPTION:6-8TH GRADE | Basketball\nStonestown Family YMCA\n
URL;VALUE=URI:https://ygametime.com/branch/stonestown/sports/2020-winter-basketball/8038/?utm_medium=calendar&utm_source=team_cal&utm_content=league_url#game-198619
LOCATION:Serramonte Del Rey Court 1 
BEGIN:VALARM
TRIGGER:-P2H
ACTION:DISPLAY
DESCRIPTION:Blazers vs Gators
END:VALARM
END:VEVENT
BEGIN:VEVENT
UID:stonestown-198621@ygametime.com
DTSTAMP:20200201T233000Z
DTSTART;TZID=America/Los_Angeles:20200201T153000
DURATION:PT0H60M0S
SUMMARY:Denman Demons vs Gators
DESCRIPTION:6-8TH GRADE | Basketball\nStonestown Family YMCA\n
URL;VALUE=URI:https://ygametime.com/branch/stonestown/sports/2020-winter-basketball/8038/?utm_medium=calendar&utm_source=team_cal&utm_content=league_url#game-198621
LOCATION:Serramonte Del Rey Court 3
BEGIN:VALARM
TRIGGER:-P2H
ACTION:DISPLAY
DESCRIPTION:Denman Demons vs Gators
END:VALARM
END:VEVENT
BEGIN:VEVENT
UID:stonestown-198623@ygametime.com
DTSTAMP:20200202T003000Z
DTSTART;TZID=America/Los_Angeles:20200201T163000
DURATION:PT0H60M0S
SUMMARY:Gators vs Rockets
DESCRIPTION:6-8TH GRADE | Basketball\nStonestown Family YMCA\n
URL;VALUE=URI:https://ygametime.com/branch/stonestown/sports/2020-winter-basketball/8038/?utm_medium=calendar&utm_source=team_cal&utm_content=league_url#game-198623
LOCATION:Serramonte Del Rey Court 1 
BEGIN:VALARM
TRIGGER:-P2H
ACTION:DISPLAY
DESCRIPTION:Gators vs Rockets
END:VALARM
END:VEVENT
BEGIN:VEVENT
UID:stonestown-198627@ygametime.com
DTSTAMP:20200209T003000Z
DTSTART;TZID=America/Los_Angeles:20200208T163000
DURATION:PT0H60M0S
SUMMARY:Aptos vs Gators
DESCRIPTION:6-8TH GRADE | Basketball\nStonestown Family YMCA\n
URL;VALUE=URI:https://ygametime.com/branch/stonestown/sports/2020-winter-basketball/8038/?utm_medium=calendar&utm_source=team_cal&utm_content=league_url#game-198627
LOCATION:Serramonte Del Rey Court 1 
BEGIN:VALARM
TRIGGER:-P2H
ACTION:DISPLAY
DESCRIPTION:Aptos vs Gators
END:VALARM
END:VEVENT
BEGIN:VEVENT
UID:stonestown-198630@ygametime.com
DTSTAMP:20200216T003000Z
DTSTART;TZID=America/Los_Angeles:20200215T163000
DURATION:PT0H60M0S
SUMMARY:Gators vs Blazers
DESCRIPTION:6-8TH GRADE | Basketball\nStonestown Family YMCA\n
URL;VALUE=URI:https://ygametime.com/branch/stonestown/sports/2020-winter-basketball/8038/?utm_medium=calendar&utm_source=team_cal&utm_content=league_url#game-198630
LOCATION:Serramonte Del Rey Court 3
BEGIN:VALARM
TRIGGER:-P2H
ACTION:DISPLAY
DESCRIPTION:Gators vs Blazers
END:VALARM
END:VEVENT
BEGIN:VEVENT
UID:stonestown-198634@ygametime.com
DTSTAMP:20200223T003000Z
DTSTART;TZID=America/Los_Angeles:20200222T163000
DURATION:PT0H60M0S
SUMMARY:Gators vs Raptors
DESCRIPTION:6-8TH GRADE | Basketball\nStonestown Family YMCA\n
URL;VALUE=URI:https://ygametime.com/branch/stonestown/sports/2020-winter-basketball/8038/?utm_medium=calendar&utm_source=team_cal&utm_content=league_url#game-198634
LOCATION:Serramonte Del Rey Court 3
BEGIN:VALARM
TRIGGER:-P2H
ACTION:DISPLAY
DESCRIPTION:Gators vs Raptors
END:VALARM
END:VEVENT
END:VCALENDAR

