BEGIN:VCALENDAR
VERSION:2.0
PRODID:-//YGAMETIME.com//YGT iCal Creator//EN
METHOD:PUBLISH
X-PUBLISHED-TTL:PT6H
REFRESH-INTERVAL;VALUE=DURATION:PT6H
CALSCALE:GREGORIAN
X-WR-CALNAME:YGAMETIME CALENDAR
BEGIN:VTIMEZONE
TZID:America/Chicago
X-LIC-LOCATION:America/Chicago
BEGIN:DAYLIGHT
TZOFFSETFROM:-0600
TZOFFSETTO:-0500
TZNAME:CDT
DTSTART:19700308T020000
RRULE:FREQ=YEARLY;BYMONTH=3;BYDAY=2SU
END:DAYLIGHT
BEGIN:STANDARD
TZOFFSETFROM:-0500
TZOFFSETTO:-0600
TZNAME:CST
DTSTART:19701101T020000
RRULE:FREQ=YEARLY;BYMONTH=11;BYDAY=1SU
END:STANDARD
END:VTIMEZONE
BEGIN:VEVENT
UID:tandy-598207@ygametime.com
DTSTAMP:20260328T180000Z
DTSTART;TZID=America/Chicago:20260328T130000
DURATION:PT0H45M0S
SUMMARY:Team Huffman (TA) vs Team Gibbs (TA)
DESCRIPTION:5-6 CO-ED | Thunder Youth Basketball\nTandy Family YMCA\n
URL;VALUE=URI:https://ygametime.com/branch/tandy/sports/2026-spring-thunder-youth-basketball/25500/?utm_medium=calendar&utm_source=team_cal&utm_content=league_url#game-598207
LOCATION:Tandy YMCA Court 1
BEGIN:VALARM
TRIGGER:-P2H
ACTION:DISPLAY
DESCRIPTION:Team Huffman (TA) vs Team Gibbs (TA)
END:VALARM
END:VEVENT
BEGIN:VEVENT
UID:tandy-598236@ygametime.com
DTSTAMP:20260328T184500Z
DTSTART;TZID=America/Chicago:20260328T134500
DURATION:PT0H45M0S
SUMMARY:Team Gibbs (TA) vs Team Chastain (TA)
DESCRIPTION:5-6 CO-ED | Thunder Youth Basketball\nTandy Family YMCA\n
URL;VALUE=URI:https://ygametime.com/branch/tandy/sports/2026-spring-thunder-youth-basketball/25500/?utm_medium=calendar&utm_source=team_cal&utm_content=league_url#game-598236
LOCATION:Tandy YMCA Court 1
BEGIN:VALARM
TRIGGER:-P2H
ACTION:DISPLAY
DESCRIPTION:Team Gibbs (TA) vs Team Chastain (TA)
END:VALARM
END:VEVENT
BEGIN:VEVENT
UID:tandy-598214@ygametime.com
DTSTAMP:20260404T200000Z
DTSTART;TZID=America/Chicago:20260404T150000
DURATION:PT0H45M0S
SUMMARY:Team Gibbs (TA) vs Team Biggs (TA)
DESCRIPTION:5-6 CO-ED | Thunder Youth Basketball\nTandy Family YMCA\n
URL;VALUE=URI:https://ygametime.com/branch/tandy/sports/2026-spring-thunder-youth-basketball/25500/?utm_medium=calendar&utm_source=team_cal&utm_content=league_url#game-598214
LOCATION:Tandy YMCA Court 3
BEGIN:VALARM
TRIGGER:-P2H
ACTION:DISPLAY
DESCRIPTION:Team Gibbs (TA) vs Team Biggs (TA)
END:VALARM
END:VEVENT
BEGIN:VEVENT
UID:tandy-598217@ygametime.com
DTSTAMP:20260411T183000Z
DTSTART;TZID=America/Chicago:20260411T133000
DURATION:PT0H45M0S
SUMMARY:Team Skaggs (TA) vs Team Gibbs (TA)
DESCRIPTION:5-6 CO-ED | Thunder Youth Basketball\nTandy Family YMCA\n
URL;VALUE=URI:https://ygametime.com/branch/tandy/sports/2026-spring-thunder-youth-basketball/25500/?utm_medium=calendar&utm_source=team_cal&utm_content=league_url#game-598217
LOCATION:Tandy YMCA Court 3
BEGIN:VALARM
TRIGGER:-P2H
ACTION:DISPLAY
DESCRIPTION:Team Skaggs (TA) vs Team Gibbs (TA)
END:VALARM
END:VEVENT
BEGIN:VEVENT
UID:tandy-598239@ygametime.com
DTSTAMP:20260418T184500Z
DTSTART;TZID=America/Chicago:20260418T134500
DURATION:PT0H45M0S
SUMMARY:Team Potter (TA) vs Team Gibbs (TA)
DESCRIPTION:5-6 CO-ED | Thunder Youth Basketball\nTandy Family YMCA\n
URL;VALUE=URI:https://ygametime.com/branch/tandy/sports/2026-spring-thunder-youth-basketball/25500/?utm_medium=calendar&utm_source=team_cal&utm_content=league_url#game-598239
LOCATION:Tandy YMCA Court 1
BEGIN:VALARM
TRIGGER:-P2H
ACTION:DISPLAY
DESCRIPTION:Team Potter (TA) vs Team Gibbs (TA)
END:VALARM
END:VEVENT
BEGIN:VEVENT
UID:tandy-598220@ygametime.com
DTSTAMP:20260418T193000Z
DTSTART;TZID=America/Chicago:20260418T143000
DURATION:PT0H45M0S
SUMMARY:Team Gibbs (TA) vs Team OneHope (TA)
DESCRIPTION:5-6 CO-ED | Thunder Youth Basketball\nTandy Family YMCA\n
URL;VALUE=URI:https://ygametime.com/branch/tandy/sports/2026-spring-thunder-youth-basketball/25500/?utm_medium=calendar&utm_source=team_cal&utm_content=league_url#game-598220
LOCATION:Tandy YMCA Court 1
BEGIN:VALARM
TRIGGER:-P2H
ACTION:DISPLAY
DESCRIPTION:Team Gibbs (TA) vs Team OneHope (TA)
END:VALARM
END:VEVENT
BEGIN:VEVENT
UID:tandy-598230@ygametime.com
DTSTAMP:20260502T193000Z
DTSTART;TZID=America/Chicago:20260502T143000
DURATION:PT0H45M0S
SUMMARY:Team Gibbs (TA) vs Team Cozad (TA)
DESCRIPTION:5-6 CO-ED | Thunder Youth Basketball\nTandy Family YMCA\n
URL;VALUE=URI:https://ygametime.com/branch/tandy/sports/2026-spring-thunder-youth-basketball/25500/?utm_medium=calendar&utm_source=team_cal&utm_content=league_url#game-598230
LOCATION:Tandy YMCA Court 3
BEGIN:VALARM
TRIGGER:-P2H
ACTION:DISPLAY
DESCRIPTION:Team Gibbs (TA) vs Team Cozad (TA)
END:VALARM
END:VEVENT
BEGIN:VEVENT
UID:tandy-598233@ygametime.com
DTSTAMP:20260509T183000Z
DTSTART;TZID=America/Chicago:20260509T133000
DURATION:PT0H45M0S
SUMMARY:Team Mason (TA) vs Team Gibbs (TA)
DESCRIPTION:5-6 CO-ED | Thunder Youth Basketball\nTandy Family YMCA\n
URL;VALUE=URI:https://ygametime.com/branch/tandy/sports/2026-spring-thunder-youth-basketball/25500/?utm_medium=calendar&utm_source=team_cal&utm_content=league_url#game-598233
LOCATION:Tandy YMCA Court 3
BEGIN:VALARM
TRIGGER:-P2H
ACTION:DISPLAY
DESCRIPTION:Team Mason (TA) vs Team Gibbs (TA)
END:VALARM
END:VEVENT
END:VCALENDAR

