BEGIN:VCALENDAR
VERSION:2.0
PRODID:-//YGAMETIME.com//YGT iCal Creator//EN
METHOD:PUBLISH
X-PUBLISHED-TTL:PT6H
REFRESH-INTERVAL;VALUE=DURATION:PT6H
CALSCALE:GREGORIAN
X-WR-CALNAME:YGAMETIME CALENDAR
BEGIN:VTIMEZONE
TZID:America/Chicago
X-LIC-LOCATION:America/Chicago
BEGIN:DAYLIGHT
TZOFFSETFROM:-0600
TZOFFSETTO:-0500
TZNAME:CDT
DTSTART:19700308T020000
RRULE:FREQ=YEARLY;BYMONTH=3;BYDAY=2SU
END:DAYLIGHT
BEGIN:STANDARD
TZOFFSETFROM:-0500
TZOFFSETTO:-0600
TZNAME:CST
DTSTART:19701101T020000
RRULE:FREQ=YEARLY;BYMONTH=11;BYDAY=1SU
END:STANDARD
END:VTIMEZONE
BEGIN:VEVENT
UID:tandy-598207@ygametime.com
DTSTAMP:20260328T180000Z
DTSTART;TZID=America/Chicago:20260328T130000
DURATION:PT0H45M0S
SUMMARY:Team Huffman (TA) vs Team Gibbs (TA)
DESCRIPTION:5-6 CO-ED | Thunder Youth Basketball\nTandy Family YMCA\n
URL;VALUE=URI:https://ygametime.com/branch/tandy/sports/2026-spring-thunder-youth-basketball/25500/?utm_medium=calendar&utm_source=team_cal&utm_content=league_url#game-598207
LOCATION:Tandy YMCA Court 1
BEGIN:VALARM
TRIGGER:-P2H
ACTION:DISPLAY
DESCRIPTION:Team Huffman (TA) vs Team Gibbs (TA)
END:VALARM
END:VEVENT
BEGIN:VEVENT
UID:tandy-598226@ygametime.com
DTSTAMP:20260404T184500Z
DTSTART;TZID=America/Chicago:20260404T134500
DURATION:PT0H45M0S
SUMMARY:Team Huffman (TA) vs Team Potter (TA)
DESCRIPTION:5-6 CO-ED | Thunder Youth Basketball\nTandy Family YMCA\n
URL;VALUE=URI:https://ygametime.com/branch/tandy/sports/2026-spring-thunder-youth-basketball/25500/?utm_medium=calendar&utm_source=team_cal&utm_content=league_url#game-598226
LOCATION:Tandy YMCA Court 1
BEGIN:VALARM
TRIGGER:-P2H
ACTION:DISPLAY
DESCRIPTION:Team Huffman (TA) vs Team Potter (TA)
END:VALARM
END:VEVENT
BEGIN:VEVENT
UID:tandy-598211@ygametime.com
DTSTAMP:20260404T193000Z
DTSTART;TZID=America/Chicago:20260404T143000
DURATION:PT0H45M0S
SUMMARY:Team Skaggs (TA) vs Team Huffman (TA)
DESCRIPTION:5-6 CO-ED | Thunder Youth Basketball\nTandy Family YMCA\n
URL;VALUE=URI:https://ygametime.com/branch/tandy/sports/2026-spring-thunder-youth-basketball/25500/?utm_medium=calendar&utm_source=team_cal&utm_content=league_url#game-598211
LOCATION:Tandy YMCA Court 1
BEGIN:VALARM
TRIGGER:-P2H
ACTION:DISPLAY
DESCRIPTION:Team Skaggs (TA) vs Team Huffman (TA)
END:VALARM
END:VEVENT
BEGIN:VEVENT
UID:tandy-598222@ygametime.com
DTSTAMP:20260418T191500Z
DTSTART;TZID=America/Chicago:20260418T141500
DURATION:PT0H45M0S
SUMMARY:Team Mason (TA) vs Team Huffman (TA)
DESCRIPTION:5-6 CO-ED | Thunder Youth Basketball\nTandy Family YMCA\n
URL;VALUE=URI:https://ygametime.com/branch/tandy/sports/2026-spring-thunder-youth-basketball/25500/?utm_medium=calendar&utm_source=team_cal&utm_content=league_url#game-598222
LOCATION:Tandy YMCA Court 3
BEGIN:VALARM
TRIGGER:-P2H
ACTION:DISPLAY
DESCRIPTION:Team Mason (TA) vs Team Huffman (TA)
END:VALARM
END:VEVENT
BEGIN:VEVENT
UID:tandy-598240@ygametime.com
DTSTAMP:20260425T184500Z
DTSTART;TZID=America/Chicago:20260425T134500
DURATION:PT0H45M0S
SUMMARY:Team Huffman (TA) vs Team Chastain (TA)
DESCRIPTION:5-6 CO-ED | Thunder Youth Basketball\nTandy Family YMCA\n
URL;VALUE=URI:https://ygametime.com/branch/tandy/sports/2026-spring-thunder-youth-basketball/25500/?utm_medium=calendar&utm_source=team_cal&utm_content=league_url#game-598240
LOCATION:Tandy YMCA Court 3
BEGIN:VALARM
TRIGGER:-P2H
ACTION:DISPLAY
DESCRIPTION:Team Huffman (TA) vs Team Chastain (TA)
END:VALARM
END:VEVENT
BEGIN:VEVENT
UID:tandy-598238@ygametime.com
DTSTAMP:20260425T193000Z
DTSTART;TZID=America/Chicago:20260425T143000
DURATION:PT0H45M0S
SUMMARY:Team Cozad (TA) vs Team Huffman (TA)
DESCRIPTION:5-6 CO-ED | Thunder Youth Basketball\nTandy Family YMCA\n
URL;VALUE=URI:https://ygametime.com/branch/tandy/sports/2026-spring-thunder-youth-basketball/25500/?utm_medium=calendar&utm_source=team_cal&utm_content=league_url#game-598238
LOCATION:Tandy YMCA Court 1
BEGIN:VALARM
TRIGGER:-P2H
ACTION:DISPLAY
DESCRIPTION:Team Cozad (TA) vs Team Huffman (TA)
END:VALARM
END:VEVENT
BEGIN:VEVENT
UID:tandy-598229@ygametime.com
DTSTAMP:20260502T201500Z
DTSTART;TZID=America/Chicago:20260502T151500
DURATION:PT0H45M0S
SUMMARY:Team Biggs (TA) vs Team Huffman (TA)
DESCRIPTION:5-6 CO-ED | Thunder Youth Basketball\nTandy Family YMCA\n
URL;VALUE=URI:https://ygametime.com/branch/tandy/sports/2026-spring-thunder-youth-basketball/25500/?utm_medium=calendar&utm_source=team_cal&utm_content=league_url#game-598229
LOCATION:Tandy YMCA Court 1
BEGIN:VALARM
TRIGGER:-P2H
ACTION:DISPLAY
DESCRIPTION:Team Biggs (TA) vs Team Huffman (TA)
END:VALARM
END:VEVENT
BEGIN:VEVENT
UID:tandy-598231@ygametime.com
DTSTAMP:20260509T180000Z
DTSTART;TZID=America/Chicago:20260509T130000
DURATION:PT0H45M0S
SUMMARY:Team Huffman (TA) vs Team OneHope (TA)
DESCRIPTION:5-6 CO-ED | Thunder Youth Basketball\nTandy Family YMCA\n
URL;VALUE=URI:https://ygametime.com/branch/tandy/sports/2026-spring-thunder-youth-basketball/25500/?utm_medium=calendar&utm_source=team_cal&utm_content=league_url#game-598231
LOCATION:Tandy YMCA Court 1
BEGIN:VALARM
TRIGGER:-P2H
ACTION:DISPLAY
DESCRIPTION:Team Huffman (TA) vs Team OneHope (TA)
END:VALARM
END:VEVENT
END:VCALENDAR

