BEGIN:VCALENDAR
VERSION:2.0
PRODID:-//YGAMETIME.com//YGT iCal Creator//EN
METHOD:PUBLISH
X-PUBLISHED-TTL:PT6H
REFRESH-INTERVAL;VALUE=DURATION:PT6H
CALSCALE:GREGORIAN
X-WR-CALNAME:YGAMETIME CALENDAR
BEGIN:VTIMEZONE
TZID:America/Chicago
X-LIC-LOCATION:America/Chicago
BEGIN:DAYLIGHT
TZOFFSETFROM:-0600
TZOFFSETTO:-0500
TZNAME:CDT
DTSTART:19700308T020000
RRULE:FREQ=YEARLY;BYMONTH=3;BYDAY=2SU
END:DAYLIGHT
BEGIN:STANDARD
TZOFFSETFROM:-0500
TZOFFSETTO:-0600
TZNAME:CST
DTSTART:19701101T020000
RRULE:FREQ=YEARLY;BYMONTH=11;BYDAY=1SU
END:STANDARD
END:VTIMEZONE
BEGIN:VEVENT
UID:tandy-598209@ygametime.com
DTSTAMP:20260328T193000Z
DTSTART;TZID=America/Chicago:20260328T143000
DURATION:PT0H45M0S
SUMMARY:Team Chastain (TA) vs Team Skaggs (TA)
DESCRIPTION:5-6 CO-ED | Thunder Youth Basketball\nTandy Family YMCA\n
URL;VALUE=URI:https://ygametime.com/branch/tandy/sports/2026-spring-thunder-youth-basketball/25500/?utm_medium=calendar&utm_source=team_cal&utm_content=league_url#game-598209
LOCATION:Tandy YMCA Court 1
BEGIN:VALARM
TRIGGER:-P2H
ACTION:DISPLAY
DESCRIPTION:Team Chastain (TA) vs Team Skaggs (TA)
END:VALARM
END:VEVENT
BEGIN:VEVENT
UID:tandy-598211@ygametime.com
DTSTAMP:20260404T193000Z
DTSTART;TZID=America/Chicago:20260404T143000
DURATION:PT0H45M0S
SUMMARY:Team Skaggs (TA) vs Team Huffman (TA)
DESCRIPTION:5-6 CO-ED | Thunder Youth Basketball\nTandy Family YMCA\n
URL;VALUE=URI:https://ygametime.com/branch/tandy/sports/2026-spring-thunder-youth-basketball/25500/?utm_medium=calendar&utm_source=team_cal&utm_content=league_url#game-598211
LOCATION:Tandy YMCA Court 1
BEGIN:VALARM
TRIGGER:-P2H
ACTION:DISPLAY
DESCRIPTION:Team Skaggs (TA) vs Team Huffman (TA)
END:VALARM
END:VEVENT
BEGIN:VEVENT
UID:tandy-598217@ygametime.com
DTSTAMP:20260411T183000Z
DTSTART;TZID=America/Chicago:20260411T133000
DURATION:PT0H45M0S
SUMMARY:Team Skaggs (TA) vs Team Gibbs (TA)
DESCRIPTION:5-6 CO-ED | Thunder Youth Basketball\nTandy Family YMCA\n
URL;VALUE=URI:https://ygametime.com/branch/tandy/sports/2026-spring-thunder-youth-basketball/25500/?utm_medium=calendar&utm_source=team_cal&utm_content=league_url#game-598217
LOCATION:Tandy YMCA Court 3
BEGIN:VALARM
TRIGGER:-P2H
ACTION:DISPLAY
DESCRIPTION:Team Skaggs (TA) vs Team Gibbs (TA)
END:VALARM
END:VEVENT
BEGIN:VEVENT
UID:tandy-598224@ygametime.com
DTSTAMP:20260425T180000Z
DTSTART;TZID=America/Chicago:20260425T130000
DURATION:PT0H45M0S
SUMMARY:Team Skaggs (TA) vs Team Mason (TA)
DESCRIPTION:5-6 CO-ED | Thunder Youth Basketball\nTandy Family YMCA\n
URL;VALUE=URI:https://ygametime.com/branch/tandy/sports/2026-spring-thunder-youth-basketball/25500/?utm_medium=calendar&utm_source=team_cal&utm_content=league_url#game-598224
LOCATION:Tandy YMCA Court 1
BEGIN:VALARM
TRIGGER:-P2H
ACTION:DISPLAY
DESCRIPTION:Team Skaggs (TA) vs Team Mason (TA)
END:VALARM
END:VEVENT
BEGIN:VEVENT
UID:tandy-598242@ygametime.com
DTSTAMP:20260502T184500Z
DTSTART;TZID=America/Chicago:20260502T134500
DURATION:PT0H45M0S
SUMMARY:Team Skaggs (TA) vs Team Cozad (TA)
DESCRIPTION:5-6 CO-ED | Thunder Youth Basketball\nTandy Family YMCA\n
URL;VALUE=URI:https://ygametime.com/branch/tandy/sports/2026-spring-thunder-youth-basketball/25500/?utm_medium=calendar&utm_source=team_cal&utm_content=league_url#game-598242
LOCATION:Tandy YMCA Court 1
BEGIN:VALARM
TRIGGER:-P2H
ACTION:DISPLAY
DESCRIPTION:Team Skaggs (TA) vs Team Cozad (TA)
END:VALARM
END:VEVENT
BEGIN:VEVENT
UID:tandy-598228@ygametime.com
DTSTAMP:20260502T193000Z
DTSTART;TZID=America/Chicago:20260502T143000
DURATION:PT0H45M0S
SUMMARY:Team Potter (TA) vs Team Skaggs (TA)
DESCRIPTION:5-6 CO-ED | Thunder Youth Basketball\nTandy Family YMCA\n
URL;VALUE=URI:https://ygametime.com/branch/tandy/sports/2026-spring-thunder-youth-basketball/25500/?utm_medium=calendar&utm_source=team_cal&utm_content=league_url#game-598228
LOCATION:Tandy YMCA Court 1
BEGIN:VALARM
TRIGGER:-P2H
ACTION:DISPLAY
DESCRIPTION:Team Potter (TA) vs Team Skaggs (TA)
END:VALARM
END:VEVENT
BEGIN:VEVENT
UID:tandy-598235@ygametime.com
DTSTAMP:20260509T184500Z
DTSTART;TZID=America/Chicago:20260509T134500
DURATION:PT0H45M0S
SUMMARY:Team OneHope (TA) vs Team Skaggs (TA)
DESCRIPTION:5-6 CO-ED | Thunder Youth Basketball\nTandy Family YMCA\n
URL;VALUE=URI:https://ygametime.com/branch/tandy/sports/2026-spring-thunder-youth-basketball/25500/?utm_medium=calendar&utm_source=team_cal&utm_content=league_url#game-598235
LOCATION:Tandy YMCA Court 1
BEGIN:VALARM
TRIGGER:-P2H
ACTION:DISPLAY
DESCRIPTION:Team OneHope (TA) vs Team Skaggs (TA)
END:VALARM
END:VEVENT
BEGIN:VEVENT
UID:tandy-598232@ygametime.com
DTSTAMP:20260509T193000Z
DTSTART;TZID=America/Chicago:20260509T143000
DURATION:PT0H45M0S
SUMMARY:Team Skaggs (TA) vs Team Biggs (TA)
DESCRIPTION:5-6 CO-ED | Thunder Youth Basketball\nTandy Family YMCA\n
URL;VALUE=URI:https://ygametime.com/branch/tandy/sports/2026-spring-thunder-youth-basketball/25500/?utm_medium=calendar&utm_source=team_cal&utm_content=league_url#game-598232
LOCATION:Tandy YMCA Court 1
BEGIN:VALARM
TRIGGER:-P2H
ACTION:DISPLAY
DESCRIPTION:Team Skaggs (TA) vs Team Biggs (TA)
END:VALARM
END:VEVENT
END:VCALENDAR

