BEGIN:VCALENDAR
VERSION:2.0
PRODID:-//YGAMETIME.com//YGT iCal Creator//EN
METHOD:PUBLISH
X-PUBLISHED-TTL:PT6H
REFRESH-INTERVAL;VALUE=DURATION:PT6H
CALSCALE:GREGORIAN
X-WR-CALNAME:YGAMETIME CALENDAR
BEGIN:VTIMEZONE
TZID:America/Chicago
X-LIC-LOCATION:America/Chicago
BEGIN:DAYLIGHT
TZOFFSETFROM:-0600
TZOFFSETTO:-0500
TZNAME:CDT
DTSTART:19700308T020000
RRULE:FREQ=YEARLY;BYMONTH=3;BYDAY=2SU
END:DAYLIGHT
BEGIN:STANDARD
TZOFFSETFROM:-0500
TZOFFSETTO:-0600
TZNAME:CST
DTSTART:19701101T020000
RRULE:FREQ=YEARLY;BYMONTH=11;BYDAY=1SU
END:STANDARD
END:VTIMEZONE
BEGIN:VEVENT
UID:tandy-597609@ygametime.com
DTSTAMP:20260328T133000Z
DTSTART;TZID=America/Chicago:20260328T083000
DURATION:PT0H60M0S
SUMMARY:Team Wheeler (HT) vs Team Dauphin (TA)
DESCRIPTION:11-12 Boys | Thunder Youth Basketball\nTandy Family YMCA\n
URL;VALUE=URI:https://ygametime.com/branch/tandy/sports/2026-spring-thunder-youth-basketball/25503/?utm_medium=calendar&utm_source=team_cal&utm_content=league_url#game-597609
LOCATION:East Central YMCA Court
BEGIN:VALARM
TRIGGER:-P2H
ACTION:DISPLAY
DESCRIPTION:Team Wheeler (HT) vs Team Dauphin (TA)
END:VALARM
END:VEVENT
BEGIN:VEVENT
UID:tandy-597618@ygametime.com
DTSTAMP:20260404T183000Z
DTSTART;TZID=America/Chicago:20260404T133000
DURATION:PT0H60M0S
SUMMARY:Team Dauphin (TA) vs Team Iverson (DA)
DESCRIPTION:11-12 Boys | Thunder Youth Basketball\nTandy Family YMCA\n
URL;VALUE=URI:https://ygametime.com/branch/tandy/sports/2026-spring-thunder-youth-basketball/25503/?utm_medium=calendar&utm_source=team_cal&utm_content=league_url#game-597618
LOCATION:East Central YMCA Court
BEGIN:VALARM
TRIGGER:-P2H
ACTION:DISPLAY
DESCRIPTION:Team Dauphin (TA) vs Team Iverson (DA)
END:VALARM
END:VEVENT
BEGIN:VEVENT
UID:tandy-597622@ygametime.com
DTSTAMP:20260411T173000Z
DTSTART;TZID=America/Chicago:20260411T123000
DURATION:PT0H60M0S
SUMMARY:Team Haney (DA) vs Team Dauphin (TA)
DESCRIPTION:11-12 Boys | Thunder Youth Basketball\nTandy Family YMCA\n
URL;VALUE=URI:https://ygametime.com/branch/tandy/sports/2026-spring-thunder-youth-basketball/25503/?utm_medium=calendar&utm_source=team_cal&utm_content=league_url#game-597622
LOCATION:East Central YMCA Court
BEGIN:VALARM
TRIGGER:-P2H
ACTION:DISPLAY
DESCRIPTION:Team Haney (DA) vs Team Dauphin (TA)
END:VALARM
END:VEVENT
BEGIN:VEVENT
UID:tandy-597647@ygametime.com
DTSTAMP:20260418T133000Z
DTSTART;TZID=America/Chicago:20260418T083000
DURATION:PT0H60M0S
SUMMARY:Team Dauphin (TA) vs Team Smith (TA)
DESCRIPTION:11-12 Boys | Thunder Youth Basketball\nTandy Family YMCA\n
URL;VALUE=URI:https://ygametime.com/branch/tandy/sports/2026-spring-thunder-youth-basketball/25503/?utm_medium=calendar&utm_source=team_cal&utm_content=league_url#game-597647
LOCATION:East Central YMCA Court
BEGIN:VALARM
TRIGGER:-P2H
ACTION:DISPLAY
DESCRIPTION:Team Dauphin (TA) vs Team Smith (TA)
END:VALARM
END:VEVENT
BEGIN:VEVENT
UID:tandy-597630@ygametime.com
DTSTAMP:20260425T143000Z
DTSTART;TZID=America/Chicago:20260425T093000
DURATION:PT0H60M0S
SUMMARY:Team Doering (OW) vs Team Dauphin (TA)
DESCRIPTION:11-12 Boys | Thunder Youth Basketball\nTandy Family YMCA\n
URL;VALUE=URI:https://ygametime.com/branch/tandy/sports/2026-spring-thunder-youth-basketball/25503/?utm_medium=calendar&utm_source=team_cal&utm_content=league_url#game-597630
LOCATION:East Central YMCA Court
BEGIN:VALARM
TRIGGER:-P2H
ACTION:DISPLAY
DESCRIPTION:Team Doering (OW) vs Team Dauphin (TA)
END:VALARM
END:VEVENT
BEGIN:VEVENT
UID:tandy-597626@ygametime.com
DTSTAMP:20260425T153000Z
DTSTART;TZID=America/Chicago:20260425T103000
DURATION:PT0H60M0S
SUMMARY:Team Dauphin (TA) vs Team Vandenschrick (OW)
DESCRIPTION:11-12 Boys | Thunder Youth Basketball\nTandy Family YMCA\n
URL;VALUE=URI:https://ygametime.com/branch/tandy/sports/2026-spring-thunder-youth-basketball/25503/?utm_medium=calendar&utm_source=team_cal&utm_content=league_url#game-597626
LOCATION:East Central YMCA Court
BEGIN:VALARM
TRIGGER:-P2H
ACTION:DISPLAY
DESCRIPTION:Team Dauphin (TA) vs Team Vandenschrick (OW)
END:VALARM
END:VEVENT
BEGIN:VEVENT
UID:tandy-597634@ygametime.com
DTSTAMP:20260502T133000Z
DTSTART;TZID=America/Chicago:20260502T083000
DURATION:PT0H60M0S
SUMMARY:Team Dauphin (TA) vs Team Porter (TA)
DESCRIPTION:11-12 Boys | Thunder Youth Basketball\nTandy Family YMCA\n
URL;VALUE=URI:https://ygametime.com/branch/tandy/sports/2026-spring-thunder-youth-basketball/25503/?utm_medium=calendar&utm_source=team_cal&utm_content=league_url#game-597634
LOCATION:East Central YMCA Court
BEGIN:VALARM
TRIGGER:-P2H
ACTION:DISPLAY
DESCRIPTION:Team Dauphin (TA) vs Team Porter (TA)
END:VALARM
END:VEVENT
BEGIN:VEVENT
UID:tandy-597643@ygametime.com
DTSTAMP:20260509T173000Z
DTSTART;TZID=America/Chicago:20260509T123000
DURATION:PT0H60M0S
SUMMARY:Team Littlejohn (TA) vs Team Dauphin (TA)
DESCRIPTION:11-12 Boys | Thunder Youth Basketball\nTandy Family YMCA\n
URL;VALUE=URI:https://ygametime.com/branch/tandy/sports/2026-spring-thunder-youth-basketball/25503/?utm_medium=calendar&utm_source=team_cal&utm_content=league_url#game-597643
LOCATION:East Central YMCA Court
BEGIN:VALARM
TRIGGER:-P2H
ACTION:DISPLAY
DESCRIPTION:Team Littlejohn (TA) vs Team Dauphin (TA)
END:VALARM
END:VEVENT
END:VCALENDAR

