BEGIN:VCALENDAR
VERSION:2.0
PRODID:-//YGAMETIME.com//YGT iCal Creator//EN
METHOD:PUBLISH
X-PUBLISHED-TTL:PT6H
REFRESH-INTERVAL;VALUE=DURATION:PT6H
CALSCALE:GREGORIAN
X-WR-CALNAME:YGAMETIME CALENDAR
BEGIN:VTIMEZONE
TZID:America/Chicago
X-LIC-LOCATION:America/Chicago
BEGIN:DAYLIGHT
TZOFFSETFROM:-0600
TZOFFSETTO:-0500
TZNAME:CDT
DTSTART:19700308T020000
RRULE:FREQ=YEARLY;BYMONTH=3;BYDAY=2SU
END:DAYLIGHT
BEGIN:STANDARD
TZOFFSETFROM:-0500
TZOFFSETTO:-0600
TZNAME:CST
DTSTART:19701101T020000
RRULE:FREQ=YEARLY;BYMONTH=11;BYDAY=1SU
END:STANDARD
END:VTIMEZONE
BEGIN:VEVENT
UID:tandy-597610@ygametime.com
DTSTAMP:20260328T153000Z
DTSTART;TZID=America/Chicago:20260328T103000
DURATION:PT0H60M0S
SUMMARY:Team Iverson (DA) vs Team Brooks (TA)
DESCRIPTION:11-12 Boys | Thunder Youth Basketball\nTandy Family YMCA\n
URL;VALUE=URI:https://ygametime.com/branch/tandy/sports/2026-spring-thunder-youth-basketball/25503/?utm_medium=calendar&utm_source=team_cal&utm_content=league_url#game-597610
LOCATION:East Central YMCA Court
BEGIN:VALARM
TRIGGER:-P2H
ACTION:DISPLAY
DESCRIPTION:Team Iverson (DA) vs Team Brooks (TA)
END:VALARM
END:VEVENT
BEGIN:VEVENT
UID:tandy-597615@ygametime.com
DTSTAMP:20260404T143000Z
DTSTART;TZID=America/Chicago:20260404T093000
DURATION:PT0H60M0S
SUMMARY:Team Brooks (TA) vs Team Vandenschrick (OW)
DESCRIPTION:11-12 Boys | Thunder Youth Basketball\nTandy Family YMCA\n
URL;VALUE=URI:https://ygametime.com/branch/tandy/sports/2026-spring-thunder-youth-basketball/25503/?utm_medium=calendar&utm_source=team_cal&utm_content=league_url#game-597615
LOCATION:East Central YMCA Court
BEGIN:VALARM
TRIGGER:-P2H
ACTION:DISPLAY
DESCRIPTION:Team Brooks (TA) vs Team Vandenschrick (OW)
END:VALARM
END:VEVENT
BEGIN:VEVENT
UID:tandy-597620@ygametime.com
DTSTAMP:20260411T153000Z
DTSTART;TZID=America/Chicago:20260411T103000
DURATION:PT0H60M0S
SUMMARY:Team Porter (TA) vs Team Brooks (TA)
DESCRIPTION:11-12 Boys | Thunder Youth Basketball\nTandy Family YMCA\n
URL;VALUE=URI:https://ygametime.com/branch/tandy/sports/2026-spring-thunder-youth-basketball/25503/?utm_medium=calendar&utm_source=team_cal&utm_content=league_url#game-597620
LOCATION:East Central YMCA Court
BEGIN:VALARM
TRIGGER:-P2H
ACTION:DISPLAY
DESCRIPTION:Team Porter (TA) vs Team Brooks (TA)
END:VALARM
END:VEVENT
BEGIN:VEVENT
UID:tandy-597625@ygametime.com
DTSTAMP:20260418T143000Z
DTSTART;TZID=America/Chicago:20260418T093000
DURATION:PT0H60M0S
SUMMARY:Team Brooks (TA) vs Team Smith (TA)
DESCRIPTION:11-12 Boys | Thunder Youth Basketball\nTandy Family YMCA\n
URL;VALUE=URI:https://ygametime.com/branch/tandy/sports/2026-spring-thunder-youth-basketball/25503/?utm_medium=calendar&utm_source=team_cal&utm_content=league_url#game-597625
LOCATION:East Central YMCA Court
BEGIN:VALARM
TRIGGER:-P2H
ACTION:DISPLAY
DESCRIPTION:Team Brooks (TA) vs Team Smith (TA)
END:VALARM
END:VEVENT
BEGIN:VEVENT
UID:tandy-597648@ygametime.com
DTSTAMP:20260418T153000Z
DTSTART;TZID=America/Chicago:20260418T103000
DURATION:PT0H60M0S
SUMMARY:Team Brooks (TA) vs Team Littlejohn (TA)
DESCRIPTION:11-12 Boys | Thunder Youth Basketball\nTandy Family YMCA\n
URL;VALUE=URI:https://ygametime.com/branch/tandy/sports/2026-spring-thunder-youth-basketball/25503/?utm_medium=calendar&utm_source=team_cal&utm_content=league_url#game-597648
LOCATION:East Central YMCA Court
BEGIN:VALARM
TRIGGER:-P2H
ACTION:DISPLAY
DESCRIPTION:Team Brooks (TA) vs Team Littlejohn (TA)
END:VALARM
END:VEVENT
BEGIN:VEVENT
UID:tandy-597629@ygametime.com
DTSTAMP:20260425T133000Z
DTSTART;TZID=America/Chicago:20260425T083000
DURATION:PT0H60M0S
SUMMARY:Team Wheeler (HT) vs Team Brooks (TA)
DESCRIPTION:11-12 Boys | Thunder Youth Basketball\nTandy Family YMCA\n
URL;VALUE=URI:https://ygametime.com/branch/tandy/sports/2026-spring-thunder-youth-basketball/25503/?utm_medium=calendar&utm_source=team_cal&utm_content=league_url#game-597629
LOCATION:East Central YMCA Court
BEGIN:VALARM
TRIGGER:-P2H
ACTION:DISPLAY
DESCRIPTION:Team Wheeler (HT) vs Team Brooks (TA)
END:VALARM
END:VEVENT
BEGIN:VEVENT
UID:tandy-597637@ygametime.com
DTSTAMP:20260502T173000Z
DTSTART;TZID=America/Chicago:20260502T123000
DURATION:PT0H60M0S
SUMMARY:Team Brooks (TA) vs Team Haney (DA)
DESCRIPTION:11-12 Boys | Thunder Youth Basketball\nTandy Family YMCA\n
URL;VALUE=URI:https://ygametime.com/branch/tandy/sports/2026-spring-thunder-youth-basketball/25503/?utm_medium=calendar&utm_source=team_cal&utm_content=league_url#game-597637
LOCATION:East Central YMCA Court
BEGIN:VALARM
TRIGGER:-P2H
ACTION:DISPLAY
DESCRIPTION:Team Brooks (TA) vs Team Haney (DA)
END:VALARM
END:VEVENT
BEGIN:VEVENT
UID:tandy-597640@ygametime.com
DTSTAMP:20260509T143000Z
DTSTART;TZID=America/Chicago:20260509T093000
DURATION:PT0H60M0S
SUMMARY:Team Doering (OW) vs Team Brooks (TA)
DESCRIPTION:11-12 Boys | Thunder Youth Basketball\nTandy Family YMCA\n
URL;VALUE=URI:https://ygametime.com/branch/tandy/sports/2026-spring-thunder-youth-basketball/25503/?utm_medium=calendar&utm_source=team_cal&utm_content=league_url#game-597640
LOCATION:East Central YMCA Court
BEGIN:VALARM
TRIGGER:-P2H
ACTION:DISPLAY
DESCRIPTION:Team Doering (OW) vs Team Brooks (TA)
END:VALARM
END:VEVENT
END:VCALENDAR

