BEGIN:VCALENDAR
VERSION:2.0
PRODID:-//YGAMETIME.com//YGT iCal Creator//EN
METHOD:PUBLISH
X-PUBLISHED-TTL:PT6H
REFRESH-INTERVAL;VALUE=DURATION:PT6H
CALSCALE:GREGORIAN
X-WR-CALNAME:YGAMETIME CALENDAR
BEGIN:VTIMEZONE
TZID:America/Chicago
X-LIC-LOCATION:America/Chicago
BEGIN:DAYLIGHT
TZOFFSETFROM:-0600
TZOFFSETTO:-0500
TZNAME:CDT
DTSTART:19700308T020000
RRULE:FREQ=YEARLY;BYMONTH=3;BYDAY=2SU
END:DAYLIGHT
BEGIN:STANDARD
TZOFFSETFROM:-0500
TZOFFSETTO:-0600
TZNAME:CST
DTSTART:19701101T020000
RRULE:FREQ=YEARLY;BYMONTH=11;BYDAY=1SU
END:STANDARD
END:VTIMEZONE
BEGIN:VEVENT
UID:tandy-597378@ygametime.com
DTSTAMP:20260328T163000Z
DTSTART;TZID=America/Chicago:20260328T113000
DURATION:PT0H45M0S
SUMMARY:Team Martin (TA) vs Team Shriver (OW)
DESCRIPTION:3-4 CO-ED | Thunder Youth Basketball\nTandy Family YMCA\n
URL;VALUE=URI:https://ygametime.com/branch/tandy/sports/2026-spring-thunder-youth-basketball/25499/?utm_medium=calendar&utm_source=team_cal&utm_content=league_url#game-597378
LOCATION:Tandy YMCA Court 1
BEGIN:VALARM
TRIGGER:-P2H
ACTION:DISPLAY
DESCRIPTION:Team Martin (TA) vs Team Shriver (OW)
END:VALARM
END:VEVENT
BEGIN:VEVENT
UID:tandy-597384@ygametime.com
DTSTAMP:20260328T171500Z
DTSTART;TZID=America/Chicago:20260328T121500
DURATION:PT0H45M0S
SUMMARY:Team Younger (HT) vs Team Martin (TA)
DESCRIPTION:3-4 CO-ED | Thunder Youth Basketball\nTandy Family YMCA\n
URL;VALUE=URI:https://ygametime.com/branch/tandy/sports/2026-spring-thunder-youth-basketball/25499/?utm_medium=calendar&utm_source=team_cal&utm_content=league_url#game-597384
LOCATION:Tandy YMCA Court 1
BEGIN:VALARM
TRIGGER:-P2H
ACTION:DISPLAY
DESCRIPTION:Team Younger (HT) vs Team Martin (TA)
END:VALARM
END:VEVENT
BEGIN:VEVENT
UID:tandy-597383@ygametime.com
DTSTAMP:20260404T133000Z
DTSTART;TZID=America/Chicago:20260404T083000
DURATION:PT0H45M0S
SUMMARY:Team Trinidad (TA) vs Team Martin (TA)
DESCRIPTION:3-4 CO-ED | Thunder Youth Basketball\nTandy Family YMCA\n
URL;VALUE=URI:https://ygametime.com/branch/tandy/sports/2026-spring-thunder-youth-basketball/25499/?utm_medium=calendar&utm_source=team_cal&utm_content=league_url#game-597383
LOCATION:Tandy YMCA Court 1
BEGIN:VALARM
TRIGGER:-P2H
ACTION:DISPLAY
DESCRIPTION:Team Trinidad (TA) vs Team Martin (TA)
END:VALARM
END:VEVENT
BEGIN:VEVENT
UID:tandy-597389@ygametime.com
DTSTAMP:20260411T133000Z
DTSTART;TZID=America/Chicago:20260411T083000
DURATION:PT0H45M0S
SUMMARY:Team Martin (TA) vs Team Trinidad (TA)
DESCRIPTION:3-4 CO-ED | Thunder Youth Basketball\nTandy Family YMCA\n
URL;VALUE=URI:https://ygametime.com/branch/tandy/sports/2026-spring-thunder-youth-basketball/25499/?utm_medium=calendar&utm_source=team_cal&utm_content=league_url#game-597389
LOCATION:Tandy YMCA Court 1
BEGIN:VALARM
TRIGGER:-P2H
ACTION:DISPLAY
DESCRIPTION:Team Martin (TA) vs Team Trinidad (TA)
END:VALARM
END:VEVENT
BEGIN:VEVENT
UID:tandy-597393@ygametime.com
DTSTAMP:20260418T141500Z
DTSTART;TZID=America/Chicago:20260418T091500
DURATION:PT0H45M0S
SUMMARY:Team Mitchell (TA) vs Team Martin (TA)
DESCRIPTION:3-4 CO-ED | Thunder Youth Basketball\nTandy Family YMCA\n
URL;VALUE=URI:https://ygametime.com/branch/tandy/sports/2026-spring-thunder-youth-basketball/25499/?utm_medium=calendar&utm_source=team_cal&utm_content=league_url#game-597393
LOCATION:Tandy YMCA Court 1
BEGIN:VALARM
TRIGGER:-P2H
ACTION:DISPLAY
DESCRIPTION:Team Mitchell (TA) vs Team Martin (TA)
END:VALARM
END:VEVENT
BEGIN:VEVENT
UID:tandy-597403@ygametime.com
DTSTAMP:20260425T171500Z
DTSTART;TZID=America/Chicago:20260425T121500
DURATION:PT0H45M0S
SUMMARY:Team Martin (TA) vs Team Woodard/Bunch (DA)
DESCRIPTION:3-4 CO-ED | Thunder Youth Basketball\nTandy Family YMCA\n
URL;VALUE=URI:https://ygametime.com/branch/tandy/sports/2026-spring-thunder-youth-basketball/25499/?utm_medium=calendar&utm_source=team_cal&utm_content=league_url#game-597403
LOCATION:Tandy YMCA Court 1
BEGIN:VALARM
TRIGGER:-P2H
ACTION:DISPLAY
DESCRIPTION:Team Martin (TA) vs Team Woodard/Bunch (DA)
END:VALARM
END:VEVENT
BEGIN:VEVENT
UID:tandy-597407@ygametime.com
DTSTAMP:20260502T154500Z
DTSTART;TZID=America/Chicago:20260502T104500
DURATION:PT0H45M0S
SUMMARY:Team Sewell (OW) vs Team Martin (TA)
DESCRIPTION:3-4 CO-ED | Thunder Youth Basketball\nTandy Family YMCA\n
URL;VALUE=URI:https://ygametime.com/branch/tandy/sports/2026-spring-thunder-youth-basketball/25499/?utm_medium=calendar&utm_source=team_cal&utm_content=league_url#game-597407
LOCATION:Tandy YMCA Court 1
BEGIN:VALARM
TRIGGER:-P2H
ACTION:DISPLAY
DESCRIPTION:Team Sewell (OW) vs Team Martin (TA)
END:VALARM
END:VEVENT
BEGIN:VEVENT
UID:tandy-597411@ygametime.com
DTSTAMP:20260509T141500Z
DTSTART;TZID=America/Chicago:20260509T091500
DURATION:PT0H45M0S
SUMMARY:Team Martin (TA) vs Team Younger (HT)
DESCRIPTION:3-4 CO-ED | Thunder Youth Basketball\nTandy Family YMCA\n
URL;VALUE=URI:https://ygametime.com/branch/tandy/sports/2026-spring-thunder-youth-basketball/25499/?utm_medium=calendar&utm_source=team_cal&utm_content=league_url#game-597411
LOCATION:Tandy YMCA Court 1
BEGIN:VALARM
TRIGGER:-P2H
ACTION:DISPLAY
DESCRIPTION:Team Martin (TA) vs Team Younger (HT)
END:VALARM
END:VEVENT
END:VCALENDAR

