BEGIN:VCALENDAR
VERSION:2.0
PRODID:-//YGAMETIME.com//YGT iCal Creator//EN
METHOD:PUBLISH
X-PUBLISHED-TTL:PT6H
REFRESH-INTERVAL;VALUE=DURATION:PT6H
CALSCALE:GREGORIAN
X-WR-CALNAME:YGAMETIME CALENDAR
BEGIN:VTIMEZONE
TZID:America/Chicago
X-LIC-LOCATION:America/Chicago
BEGIN:DAYLIGHT
TZOFFSETFROM:-0600
TZOFFSETTO:-0500
TZNAME:CDT
DTSTART:19700308T020000
RRULE:FREQ=YEARLY;BYMONTH=3;BYDAY=2SU
END:DAYLIGHT
BEGIN:STANDARD
TZOFFSETFROM:-0500
TZOFFSETTO:-0600
TZNAME:CST
DTSTART:19701101T020000
RRULE:FREQ=YEARLY;BYMONTH=11;BYDAY=1SU
END:STANDARD
END:VTIMEZONE
BEGIN:VEVENT
UID:tandy-598106@ygametime.com
DTSTAMP:20260328T183000Z
DTSTART;TZID=America/Chicago:20260328T133000
DURATION:PT0H60M0S
SUMMARY:Team Price (TA) vs Team OneHope (TA)
DESCRIPTION:12-14 | Youth Volleyball\nTandy Family YMCA\n
URL;VALUE=URI:https://ygametime.com/branch/tandy/sports/2026-spring-youth-volleyball/25512/?utm_medium=calendar&utm_source=team_cal&utm_content=league_url#game-598106
LOCATION:HERMAN & KATE YMCA Court 1 
BEGIN:VALARM
TRIGGER:-P2H
ACTION:DISPLAY
DESCRIPTION:Team Price (TA) vs Team OneHope (TA)
END:VALARM
END:VEVENT
BEGIN:VEVENT
UID:tandy-598158@ygametime.com
DTSTAMP:20260328T193000Z
DTSTART;TZID=America/Chicago:20260328T143000
DURATION:PT0H60M0S
SUMMARY:Team Price (TA) vs Team West (TA)
DESCRIPTION:12-14 | Youth Volleyball\nTandy Family YMCA\n
URL;VALUE=URI:https://ygametime.com/branch/tandy/sports/2026-spring-youth-volleyball/25512/?utm_medium=calendar&utm_source=team_cal&utm_content=league_url#game-598158
LOCATION:
BEGIN:VALARM
TRIGGER:-P2H
ACTION:DISPLAY
DESCRIPTION:Team Price (TA) vs Team West (TA)
END:VALARM
END:VEVENT
BEGIN:VEVENT
UID:tandy-598112@ygametime.com
DTSTAMP:20260404T133000Z
DTSTART;TZID=America/Chicago:20260404T083000
DURATION:PT0H60M0S
SUMMARY:Team Kelly Titans (HK) vs Team Price (TA)
DESCRIPTION:12-14 | Youth Volleyball\nTandy Family YMCA\n
URL;VALUE=URI:https://ygametime.com/branch/tandy/sports/2026-spring-youth-volleyball/25512/?utm_medium=calendar&utm_source=team_cal&utm_content=league_url#game-598112
LOCATION:HERMAN & KATE YMCA Court 1 
BEGIN:VALARM
TRIGGER:-P2H
ACTION:DISPLAY
DESCRIPTION:Team Kelly Titans (HK) vs Team Price (TA)
END:VALARM
END:VEVENT
BEGIN:VEVENT
UID:tandy-598123@ygametime.com
DTSTAMP:20260418T183000Z
DTSTART;TZID=America/Chicago:20260418T133000
DURATION:PT0H60M0S
SUMMARY:Team Claw (TA) vs Team Price (TA)
DESCRIPTION:12-14 | Youth Volleyball\nTandy Family YMCA\n
URL;VALUE=URI:https://ygametime.com/branch/tandy/sports/2026-spring-youth-volleyball/25512/?utm_medium=calendar&utm_source=team_cal&utm_content=league_url#game-598123
LOCATION:HERMAN & KATE YMCA Court 1 
BEGIN:VALARM
TRIGGER:-P2H
ACTION:DISPLAY
DESCRIPTION:Team Claw (TA) vs Team Price (TA)
END:VALARM
END:VEVENT
BEGIN:VEVENT
UID:tandy-598129@ygametime.com
DTSTAMP:20260425T153000Z
DTSTART;TZID=America/Chicago:20260425T103000
DURATION:PT0H60M0S
SUMMARY:Team Price (TA) vs Guardians 7 (TA)
DESCRIPTION:12-14 | Youth Volleyball\nTandy Family YMCA\n
URL;VALUE=URI:https://ygametime.com/branch/tandy/sports/2026-spring-youth-volleyball/25512/?utm_medium=calendar&utm_source=team_cal&utm_content=league_url#game-598129
LOCATION:HERMAN & KATE YMCA Court 1 
BEGIN:VALARM
TRIGGER:-P2H
ACTION:DISPLAY
DESCRIPTION:Team Price (TA) vs Guardians 7 (TA)
END:VALARM
END:VEVENT
BEGIN:VEVENT
UID:tandy-598152@ygametime.com
DTSTAMP:20260502T143000Z
DTSTART;TZID=America/Chicago:20260502T093000
DURATION:PT0H60M0S
SUMMARY:Team Price (TA) vs Team Kelly Storm (HK)
DESCRIPTION:12-14 | Youth Volleyball\nTandy Family YMCA\n
URL;VALUE=URI:https://ygametime.com/branch/tandy/sports/2026-spring-youth-volleyball/25512/?utm_medium=calendar&utm_source=team_cal&utm_content=league_url#game-598152
LOCATION:HERMAN & KATE YMCA Court 1 
BEGIN:VALARM
TRIGGER:-P2H
ACTION:DISPLAY
DESCRIPTION:Team Price (TA) vs Team Kelly Storm (HK)
END:VALARM
END:VEVENT
BEGIN:VEVENT
UID:tandy-598134@ygametime.com
DTSTAMP:20260502T153000Z
DTSTART;TZID=America/Chicago:20260502T103000
DURATION:PT0H60M0S
SUMMARY:Team West (TA) vs Team Price (TA)
DESCRIPTION:12-14 | Youth Volleyball\nTandy Family YMCA\n
URL;VALUE=URI:https://ygametime.com/branch/tandy/sports/2026-spring-youth-volleyball/25512/?utm_medium=calendar&utm_source=team_cal&utm_content=league_url#game-598134
LOCATION:HERMAN & KATE YMCA Court 1 
BEGIN:VALARM
TRIGGER:-P2H
ACTION:DISPLAY
DESCRIPTION:Team West (TA) vs Team Price (TA)
END:VALARM
END:VEVENT
BEGIN:VEVENT
UID:tandy-598144@ygametime.com
DTSTAMP:20260509T203000Z
DTSTART;TZID=America/Chicago:20260509T153000
DURATION:PT0H60M0S
SUMMARY:Team Price (TA) vs Team Weierbach (TA)
DESCRIPTION:12-14 | Youth Volleyball\nTandy Family YMCA\n
URL;VALUE=URI:https://ygametime.com/branch/tandy/sports/2026-spring-youth-volleyball/25512/?utm_medium=calendar&utm_source=team_cal&utm_content=league_url#game-598144
LOCATION:HERMAN & KATE YMCA Court 1 
BEGIN:VALARM
TRIGGER:-P2H
ACTION:DISPLAY
DESCRIPTION:Team Price (TA) vs Team Weierbach (TA)
END:VALARM
END:VEVENT
END:VCALENDAR

