BEGIN:VCALENDAR
VERSION:2.0
PRODID:-//YGAMETIME.com//YGT iCal Creator//EN
METHOD:PUBLISH
X-PUBLISHED-TTL:PT6H
REFRESH-INTERVAL;VALUE=DURATION:PT6H
CALSCALE:GREGORIAN
X-WR-CALNAME:YGAMETIME CALENDAR
BEGIN:VTIMEZONE
TZID:America/Chicago
X-LIC-LOCATION:America/Chicago
BEGIN:DAYLIGHT
TZOFFSETFROM:-0600
TZOFFSETTO:-0500
TZNAME:CDT
DTSTART:19700308T020000
RRULE:FREQ=YEARLY;BYMONTH=3;BYDAY=2SU
END:DAYLIGHT
BEGIN:STANDARD
TZOFFSETFROM:-0500
TZOFFSETTO:-0600
TZNAME:CST
DTSTART:19701101T020000
RRULE:FREQ=YEARLY;BYMONTH=11;BYDAY=1SU
END:STANDARD
END:VTIMEZONE
BEGIN:VEVENT
UID:tandy-598107@ygametime.com
DTSTAMP:20260328T133000Z
DTSTART;TZID=America/Chicago:20260328T083000
DURATION:PT0H60M0S
SUMMARY:Team Kelly United (HK) vs Guardians 7 (TA)
DESCRIPTION:12-14 | Youth Volleyball\nTandy Family YMCA\n
URL;VALUE=URI:https://ygametime.com/branch/tandy/sports/2026-spring-youth-volleyball/25512/?utm_medium=calendar&utm_source=team_cal&utm_content=league_url#game-598107
LOCATION:HERMAN & KATE YMCA Court 1 
BEGIN:VALARM
TRIGGER:-P2H
ACTION:DISPLAY
DESCRIPTION:Team Kelly United (HK) vs Guardians 7 (TA)
END:VALARM
END:VEVENT
BEGIN:VEVENT
UID:tandy-598113@ygametime.com
DTSTAMP:20260404T143000Z
DTSTART;TZID=America/Chicago:20260404T093000
DURATION:PT0H60M0S
SUMMARY:Guardians 7 (TA) vs Team Kelly Storm (HK)
DESCRIPTION:12-14 | Youth Volleyball\nTandy Family YMCA\n
URL;VALUE=URI:https://ygametime.com/branch/tandy/sports/2026-spring-youth-volleyball/25512/?utm_medium=calendar&utm_source=team_cal&utm_content=league_url#game-598113
LOCATION:HERMAN & KATE YMCA Court 1 
BEGIN:VALARM
TRIGGER:-P2H
ACTION:DISPLAY
DESCRIPTION:Guardians 7 (TA) vs Team Kelly Storm (HK)
END:VALARM
END:VEVENT
BEGIN:VEVENT
UID:tandy-598118@ygametime.com
DTSTAMP:20260411T153000Z
DTSTART;TZID=America/Chicago:20260411T103000
DURATION:PT0H60M0S
SUMMARY:Team Murray (TA) vs Guardians 7 (TA)
DESCRIPTION:12-14 | Youth Volleyball\nTandy Family YMCA\n
URL;VALUE=URI:https://ygametime.com/branch/tandy/sports/2026-spring-youth-volleyball/25512/?utm_medium=calendar&utm_source=team_cal&utm_content=league_url#game-598118
LOCATION:HERMAN & KATE YMCA Court 1 
BEGIN:VALARM
TRIGGER:-P2H
ACTION:DISPLAY
DESCRIPTION:Team Murray (TA) vs Guardians 7 (TA)
END:VALARM
END:VEVENT
BEGIN:VEVENT
UID:tandy-598124@ygametime.com
DTSTAMP:20260418T193000Z
DTSTART;TZID=America/Chicago:20260418T143000
DURATION:PT0H60M0S
SUMMARY:Guardians 7 (TA) vs Guardians 6 (TA)
DESCRIPTION:12-14 | Youth Volleyball\nTandy Family YMCA\n
URL;VALUE=URI:https://ygametime.com/branch/tandy/sports/2026-spring-youth-volleyball/25512/?utm_medium=calendar&utm_source=team_cal&utm_content=league_url#game-598124
LOCATION:HERMAN & KATE YMCA Court 1 
BEGIN:VALARM
TRIGGER:-P2H
ACTION:DISPLAY
DESCRIPTION:Guardians 7 (TA) vs Guardians 6 (TA)
END:VALARM
END:VEVENT
BEGIN:VEVENT
UID:tandy-598147@ygametime.com
DTSTAMP:20260425T143000Z
DTSTART;TZID=America/Chicago:20260425T093000
DURATION:PT0H60M0S
SUMMARY:Guardians 7 (TA) vs Team Kelly Titans (HK)
DESCRIPTION:12-14 | Youth Volleyball\nTandy Family YMCA\n
URL;VALUE=URI:https://ygametime.com/branch/tandy/sports/2026-spring-youth-volleyball/25512/?utm_medium=calendar&utm_source=team_cal&utm_content=league_url#game-598147
LOCATION:HERMAN & KATE YMCA Court 1 
BEGIN:VALARM
TRIGGER:-P2H
ACTION:DISPLAY
DESCRIPTION:Guardians 7 (TA) vs Team Kelly Titans (HK)
END:VALARM
END:VEVENT
BEGIN:VEVENT
UID:tandy-598129@ygametime.com
DTSTAMP:20260425T153000Z
DTSTART;TZID=America/Chicago:20260425T103000
DURATION:PT0H60M0S
SUMMARY:Team Price (TA) vs Guardians 7 (TA)
DESCRIPTION:12-14 | Youth Volleyball\nTandy Family YMCA\n
URL;VALUE=URI:https://ygametime.com/branch/tandy/sports/2026-spring-youth-volleyball/25512/?utm_medium=calendar&utm_source=team_cal&utm_content=league_url#game-598129
LOCATION:HERMAN & KATE YMCA Court 1 
BEGIN:VALARM
TRIGGER:-P2H
ACTION:DISPLAY
DESCRIPTION:Team Price (TA) vs Guardians 7 (TA)
END:VALARM
END:VEVENT
BEGIN:VEVENT
UID:tandy-598139@ygametime.com
DTSTAMP:20260502T203000Z
DTSTART;TZID=America/Chicago:20260502T153000
DURATION:PT0H60M0S
SUMMARY:Guardians 7 (TA) vs Team Nichols (TA)
DESCRIPTION:12-14 | Youth Volleyball\nTandy Family YMCA\n
URL;VALUE=URI:https://ygametime.com/branch/tandy/sports/2026-spring-youth-volleyball/25512/?utm_medium=calendar&utm_source=team_cal&utm_content=league_url#game-598139
LOCATION:HERMAN & KATE YMCA Court 1 
BEGIN:VALARM
TRIGGER:-P2H
ACTION:DISPLAY
DESCRIPTION:Guardians 7 (TA) vs Team Nichols (TA)
END:VALARM
END:VEVENT
BEGIN:VEVENT
UID:tandy-598143@ygametime.com
DTSTAMP:20260509T193000Z
DTSTART;TZID=America/Chicago:20260509T143000
DURATION:PT0H60M0S
SUMMARY:Team OneHope (TA) vs Guardians 7 (TA)
DESCRIPTION:12-14 | Youth Volleyball\nTandy Family YMCA\n
URL;VALUE=URI:https://ygametime.com/branch/tandy/sports/2026-spring-youth-volleyball/25512/?utm_medium=calendar&utm_source=team_cal&utm_content=league_url#game-598143
LOCATION:HERMAN & KATE YMCA Court 1 
BEGIN:VALARM
TRIGGER:-P2H
ACTION:DISPLAY
DESCRIPTION:Team OneHope (TA) vs Guardians 7 (TA)
END:VALARM
END:VEVENT
END:VCALENDAR

