BEGIN:VCALENDAR
VERSION:2.0
PRODID:-//YGAMETIME.com//YGT iCal Creator//EN
METHOD:PUBLISH
X-PUBLISHED-TTL:PT6H
REFRESH-INTERVAL;VALUE=DURATION:PT6H
CALSCALE:GREGORIAN
X-WR-CALNAME:YGAMETIME CALENDAR
BEGIN:VTIMEZONE
TZID:America/Chicago
X-LIC-LOCATION:America/Chicago
BEGIN:DAYLIGHT
TZOFFSETFROM:-0600
TZOFFSETTO:-0500
TZNAME:CDT
DTSTART:19700308T020000
RRULE:FREQ=YEARLY;BYMONTH=3;BYDAY=2SU
END:DAYLIGHT
BEGIN:STANDARD
TZOFFSETFROM:-0500
TZOFFSETTO:-0600
TZNAME:CST
DTSTART:19701101T020000
RRULE:FREQ=YEARLY;BYMONTH=11;BYDAY=1SU
END:STANDARD
END:VTIMEZONE
BEGIN:VEVENT
UID:tandy-598108@ygametime.com
DTSTAMP:20260328T143000Z
DTSTART;TZID=America/Chicago:20260328T093000
DURATION:PT0H60M0S
SUMMARY:Guardians 6 (TA) vs Team Kelly Storm (HK)
DESCRIPTION:12-14 | Youth Volleyball\nTandy Family YMCA\n
URL;VALUE=URI:https://ygametime.com/branch/tandy/sports/2026-spring-youth-volleyball/25512/?utm_medium=calendar&utm_source=team_cal&utm_content=league_url#game-598108
LOCATION:HERMAN & KATE YMCA Court 1 
BEGIN:VALARM
TRIGGER:-P2H
ACTION:DISPLAY
DESCRIPTION:Guardians 6 (TA) vs Team Kelly Storm (HK)
END:VALARM
END:VEVENT
BEGIN:VEVENT
UID:tandy-598146@ygametime.com
DTSTAMP:20260328T153000Z
DTSTART;TZID=America/Chicago:20260328T103000
DURATION:PT0H60M0S
SUMMARY:Team Kelly Titans (HK) vs Guardians 6 (TA)
DESCRIPTION:12-14 | Youth Volleyball\nTandy Family YMCA\n
URL;VALUE=URI:https://ygametime.com/branch/tandy/sports/2026-spring-youth-volleyball/25512/?utm_medium=calendar&utm_source=team_cal&utm_content=league_url#game-598146
LOCATION:HERMAN & KATE YMCA Court 1 
BEGIN:VALARM
TRIGGER:-P2H
ACTION:DISPLAY
DESCRIPTION:Team Kelly Titans (HK) vs Guardians 6 (TA)
END:VALARM
END:VEVENT
BEGIN:VEVENT
UID:tandy-598157@ygametime.com
DTSTAMP:20260411T163000Z
DTSTART;TZID=America/Chicago:20260411T113000
DURATION:PT0H60M0S
SUMMARY:Guardians 6 (TA) vs Team Murray (TA)
DESCRIPTION:12-14 | Youth Volleyball\nTandy Family YMCA\n
URL;VALUE=URI:https://ygametime.com/branch/tandy/sports/2026-spring-youth-volleyball/25512/?utm_medium=calendar&utm_source=team_cal&utm_content=league_url#game-598157
LOCATION:HERMAN & KATE YMCA Court 1 
BEGIN:VALARM
TRIGGER:-P2H
ACTION:DISPLAY
DESCRIPTION:Guardians 6 (TA) vs Team Murray (TA)
END:VALARM
END:VEVENT
BEGIN:VEVENT
UID:tandy-598119@ygametime.com
DTSTAMP:20260411T173000Z
DTSTART;TZID=America/Chicago:20260411T123000
DURATION:PT0H60M0S
SUMMARY:Guardians 6 (TA) vs Team Claw (TA)
DESCRIPTION:12-14 | Youth Volleyball\nTandy Family YMCA\n
URL;VALUE=URI:https://ygametime.com/branch/tandy/sports/2026-spring-youth-volleyball/25512/?utm_medium=calendar&utm_source=team_cal&utm_content=league_url#game-598119
LOCATION:HERMAN & KATE YMCA Court 1 
BEGIN:VALARM
TRIGGER:-P2H
ACTION:DISPLAY
DESCRIPTION:Guardians 6 (TA) vs Team Claw (TA)
END:VALARM
END:VEVENT
BEGIN:VEVENT
UID:tandy-598124@ygametime.com
DTSTAMP:20260418T193000Z
DTSTART;TZID=America/Chicago:20260418T143000
DURATION:PT0H60M0S
SUMMARY:Guardians 7 (TA) vs Guardians 6 (TA)
DESCRIPTION:12-14 | Youth Volleyball\nTandy Family YMCA\n
URL;VALUE=URI:https://ygametime.com/branch/tandy/sports/2026-spring-youth-volleyball/25512/?utm_medium=calendar&utm_source=team_cal&utm_content=league_url#game-598124
LOCATION:HERMAN & KATE YMCA Court 1 
BEGIN:VALARM
TRIGGER:-P2H
ACTION:DISPLAY
DESCRIPTION:Guardians 7 (TA) vs Guardians 6 (TA)
END:VALARM
END:VEVENT
BEGIN:VEVENT
UID:tandy-598128@ygametime.com
DTSTAMP:20260425T163000Z
DTSTART;TZID=America/Chicago:20260425T113000
DURATION:PT0H60M0S
SUMMARY:Guardians 6 (TA) vs Team West (TA)
DESCRIPTION:12-14 | Youth Volleyball\nTandy Family YMCA\n
URL;VALUE=URI:https://ygametime.com/branch/tandy/sports/2026-spring-youth-volleyball/25512/?utm_medium=calendar&utm_source=team_cal&utm_content=league_url#game-598128
LOCATION:HERMAN & KATE YMCA Court 1 
BEGIN:VALARM
TRIGGER:-P2H
ACTION:DISPLAY
DESCRIPTION:Guardians 6 (TA) vs Team West (TA)
END:VALARM
END:VEVENT
BEGIN:VEVENT
UID:tandy-598138@ygametime.com
DTSTAMP:20260502T193000Z
DTSTART;TZID=America/Chicago:20260502T143000
DURATION:PT0H60M0S
SUMMARY:Team Weierbach (TA) vs Guardians 6 (TA)
DESCRIPTION:12-14 | Youth Volleyball\nTandy Family YMCA\n
URL;VALUE=URI:https://ygametime.com/branch/tandy/sports/2026-spring-youth-volleyball/25512/?utm_medium=calendar&utm_source=team_cal&utm_content=league_url#game-598138
LOCATION:HERMAN & KATE YMCA Court 1 
BEGIN:VALARM
TRIGGER:-P2H
ACTION:DISPLAY
DESCRIPTION:Team Weierbach (TA) vs Guardians 6 (TA)
END:VALARM
END:VEVENT
BEGIN:VEVENT
UID:tandy-598142@ygametime.com
DTSTAMP:20260509T143000Z
DTSTART;TZID=America/Chicago:20260509T093000
DURATION:PT0H60M0S
SUMMARY:Guardians 6 (TA) vs Team Kelly United (HK)
DESCRIPTION:12-14 | Youth Volleyball\nTandy Family YMCA\n
URL;VALUE=URI:https://ygametime.com/branch/tandy/sports/2026-spring-youth-volleyball/25512/?utm_medium=calendar&utm_source=team_cal&utm_content=league_url#game-598142
LOCATION:HERMAN & KATE YMCA Court 1 
BEGIN:VALARM
TRIGGER:-P2H
ACTION:DISPLAY
DESCRIPTION:Guardians 6 (TA) vs Team Kelly United (HK)
END:VALARM
END:VEVENT
END:VCALENDAR

