BEGIN:VCALENDAR
VERSION:2.0
PRODID:-//YGAMETIME.com//YGT iCal Creator//EN
METHOD:PUBLISH
X-PUBLISHED-TTL:PT6H
REFRESH-INTERVAL;VALUE=DURATION:PT6H
CALSCALE:GREGORIAN
X-WR-CALNAME:YGAMETIME CALENDAR
BEGIN:VTIMEZONE
TZID:America/Chicago
X-LIC-LOCATION:America/Chicago
BEGIN:DAYLIGHT
TZOFFSETFROM:-0600
TZOFFSETTO:-0500
TZNAME:CDT
DTSTART:19700308T020000
RRULE:FREQ=YEARLY;BYMONTH=3;BYDAY=2SU
END:DAYLIGHT
BEGIN:STANDARD
TZOFFSETFROM:-0500
TZOFFSETTO:-0600
TZNAME:CST
DTSTART:19701101T020000
RRULE:FREQ=YEARLY;BYMONTH=11;BYDAY=1SU
END:STANDARD
END:VTIMEZONE
BEGIN:VEVENT
UID:tandy-599417@ygametime.com
DTSTAMP:20260328T133000Z
DTSTART;TZID=America/Chicago:20260328T083000
DURATION:PT0H60M0S
SUMMARY:Team Jarrett (TA) vs Team Newkirk (TA)
DESCRIPTION:8-11 | Youth Volleyball\nTandy Family YMCA\n
URL;VALUE=URI:https://ygametime.com/branch/tandy/sports/2026-spring-youth-volleyball/25511/?utm_medium=calendar&utm_source=team_cal&utm_content=league_url#game-599417
LOCATION:Tandy YMCA Court 3
BEGIN:VALARM
TRIGGER:-P2H
ACTION:DISPLAY
DESCRIPTION:Team Jarrett (TA) vs Team Newkirk (TA)
END:VALARM
END:VEVENT
BEGIN:VEVENT
UID:tandy-599424@ygametime.com
DTSTAMP:20260404T173000Z
DTSTART;TZID=America/Chicago:20260404T123000
DURATION:PT0H60M0S
SUMMARY:Team Newkirk (TA) vs Team Linville (TA)
DESCRIPTION:8-11 | Youth Volleyball\nTandy Family YMCA\n
URL;VALUE=URI:https://ygametime.com/branch/tandy/sports/2026-spring-youth-volleyball/25511/?utm_medium=calendar&utm_source=team_cal&utm_content=league_url#game-599424
LOCATION:Tandy YMCA Court 3
BEGIN:VALARM
TRIGGER:-P2H
ACTION:DISPLAY
DESCRIPTION:Team Newkirk (TA) vs Team Linville (TA)
END:VALARM
END:VEVENT
BEGIN:VEVENT
UID:tandy-599427@ygametime.com
DTSTAMP:20260411T173000Z
DTSTART;TZID=America/Chicago:20260411T123000
DURATION:PT0H60M0S
SUMMARY:Team Theriot (HK) vs Team Newkirk (TA)
DESCRIPTION:8-11 | Youth Volleyball\nTandy Family YMCA\n
URL;VALUE=URI:https://ygametime.com/branch/tandy/sports/2026-spring-youth-volleyball/25511/?utm_medium=calendar&utm_source=team_cal&utm_content=league_url#game-599427
LOCATION:Tandy YMCA Court 3
BEGIN:VALARM
TRIGGER:-P2H
ACTION:DISPLAY
DESCRIPTION:Team Theriot (HK) vs Team Newkirk (TA)
END:VALARM
END:VEVENT
BEGIN:VEVENT
UID:tandy-599446@ygametime.com
DTSTAMP:20260418T143000Z
DTSTART;TZID=America/Chicago:20260418T093000
DURATION:PT0H60M0S
SUMMARY:Team Jarrett (TA) vs Team Newkirk (TA)
DESCRIPTION:8-11 | Youth Volleyball\nTandy Family YMCA\n
URL;VALUE=URI:https://ygametime.com/branch/tandy/sports/2026-spring-youth-volleyball/25511/?utm_medium=calendar&utm_source=team_cal&utm_content=league_url#game-599446
LOCATION:Tandy YMCA Court 3
BEGIN:VALARM
TRIGGER:-P2H
ACTION:DISPLAY
DESCRIPTION:Team Jarrett (TA) vs Team Newkirk (TA)
END:VALARM
END:VEVENT
BEGIN:VEVENT
UID:tandy-599430@ygametime.com
DTSTAMP:20260418T153000Z
DTSTART;TZID=America/Chicago:20260418T103000
DURATION:PT0H60M0S
SUMMARY:Team Newkirk (TA) vs Team Bradley (HK)
DESCRIPTION:8-11 | Youth Volleyball\nTandy Family YMCA\n
URL;VALUE=URI:https://ygametime.com/branch/tandy/sports/2026-spring-youth-volleyball/25511/?utm_medium=calendar&utm_source=team_cal&utm_content=league_url#game-599430
LOCATION:Tandy YMCA Court 3
BEGIN:VALARM
TRIGGER:-P2H
ACTION:DISPLAY
DESCRIPTION:Team Newkirk (TA) vs Team Bradley (HK)
END:VALARM
END:VEVENT
BEGIN:VEVENT
UID:tandy-599433@ygametime.com
DTSTAMP:20260425T133000Z
DTSTART;TZID=America/Chicago:20260425T083000
DURATION:PT0H60M0S
SUMMARY:Team Segovia (TA) vs Team Newkirk (TA)
DESCRIPTION:8-11 | Youth Volleyball\nTandy Family YMCA\n
URL;VALUE=URI:https://ygametime.com/branch/tandy/sports/2026-spring-youth-volleyball/25511/?utm_medium=calendar&utm_source=team_cal&utm_content=league_url#game-599433
LOCATION:Tandy YMCA Court 3
BEGIN:VALARM
TRIGGER:-P2H
ACTION:DISPLAY
DESCRIPTION:Team Segovia (TA) vs Team Newkirk (TA)
END:VALARM
END:VEVENT
BEGIN:VEVENT
UID:tandy-599440@ygametime.com
DTSTAMP:20260502T173000Z
DTSTART;TZID=America/Chicago:20260502T123000
DURATION:PT0H60M0S
SUMMARY:Team Newkirk (TA) vs Team Baxter (TA)
DESCRIPTION:8-11 | Youth Volleyball\nTandy Family YMCA\n
URL;VALUE=URI:https://ygametime.com/branch/tandy/sports/2026-spring-youth-volleyball/25511/?utm_medium=calendar&utm_source=team_cal&utm_content=league_url#game-599440
LOCATION:Tandy YMCA Court 3
BEGIN:VALARM
TRIGGER:-P2H
ACTION:DISPLAY
DESCRIPTION:Team Newkirk (TA) vs Team Baxter (TA)
END:VALARM
END:VEVENT
BEGIN:VEVENT
UID:tandy-599443@ygametime.com
DTSTAMP:20260509T153000Z
DTSTART;TZID=America/Chicago:20260509T103000
DURATION:PT0H60M0S
SUMMARY:Team Johnson (TA) vs Team Newkirk (TA)
DESCRIPTION:8-11 | Youth Volleyball\nTandy Family YMCA\n
URL;VALUE=URI:https://ygametime.com/branch/tandy/sports/2026-spring-youth-volleyball/25511/?utm_medium=calendar&utm_source=team_cal&utm_content=league_url#game-599443
LOCATION:Tandy YMCA Court 3
BEGIN:VALARM
TRIGGER:-P2H
ACTION:DISPLAY
DESCRIPTION:Team Johnson (TA) vs Team Newkirk (TA)
END:VALARM
END:VEVENT
END:VCALENDAR

