BEGIN:VCALENDAR
VERSION:2.0
PRODID:-//YGAMETIME.com//YGT iCal Creator//EN
METHOD:PUBLISH
X-PUBLISHED-TTL:PT6H
REFRESH-INTERVAL;VALUE=DURATION:PT6H
CALSCALE:GREGORIAN
X-WR-CALNAME:YGAMETIME CALENDAR
BEGIN:VTIMEZONE
TZID:America/Chicago
X-LIC-LOCATION:America/Chicago
BEGIN:DAYLIGHT
TZOFFSETFROM:-0600
TZOFFSETTO:-0500
TZNAME:CDT
DTSTART:19700308T020000
RRULE:FREQ=YEARLY;BYMONTH=3;BYDAY=2SU
END:DAYLIGHT
BEGIN:STANDARD
TZOFFSETFROM:-0500
TZOFFSETTO:-0600
TZNAME:CST
DTSTART:19701101T020000
RRULE:FREQ=YEARLY;BYMONTH=11;BYDAY=1SU
END:STANDARD
END:VTIMEZONE
BEGIN:VEVENT
UID:tandy-599418@ygametime.com
DTSTAMP:20260328T143000Z
DTSTART;TZID=America/Chicago:20260328T093000
DURATION:PT0H60M0S
SUMMARY:Team Linville (TA) vs Team Johnson (TA)
DESCRIPTION:8-11 | Youth Volleyball\nTandy Family YMCA\n
URL;VALUE=URI:https://ygametime.com/branch/tandy/sports/2026-spring-youth-volleyball/25511/?utm_medium=calendar&utm_source=team_cal&utm_content=league_url#game-599418
LOCATION:Tandy YMCA Court 3
BEGIN:VALARM
TRIGGER:-P2H
ACTION:DISPLAY
DESCRIPTION:Team Linville (TA) vs Team Johnson (TA)
END:VALARM
END:VEVENT
BEGIN:VEVENT
UID:tandy-599422@ygametime.com
DTSTAMP:20260404T163000Z
DTSTART;TZID=America/Chicago:20260404T113000
DURATION:PT0H60M0S
SUMMARY:Team Johnson (TA) vs Team Bradley (HK)
DESCRIPTION:8-11 | Youth Volleyball\nTandy Family YMCA\n
URL;VALUE=URI:https://ygametime.com/branch/tandy/sports/2026-spring-youth-volleyball/25511/?utm_medium=calendar&utm_source=team_cal&utm_content=league_url#game-599422
LOCATION:Tandy YMCA Court 3
BEGIN:VALARM
TRIGGER:-P2H
ACTION:DISPLAY
DESCRIPTION:Team Johnson (TA) vs Team Bradley (HK)
END:VALARM
END:VEVENT
BEGIN:VEVENT
UID:tandy-599426@ygametime.com
DTSTAMP:20260411T143000Z
DTSTART;TZID=America/Chicago:20260411T093000
DURATION:PT0H60M0S
SUMMARY:Team Baxter (TA) vs Team Johnson (TA)
DESCRIPTION:8-11 | Youth Volleyball\nTandy Family YMCA\n
URL;VALUE=URI:https://ygametime.com/branch/tandy/sports/2026-spring-youth-volleyball/25511/?utm_medium=calendar&utm_source=team_cal&utm_content=league_url#game-599426
LOCATION:Tandy YMCA Court 3
BEGIN:VALARM
TRIGGER:-P2H
ACTION:DISPLAY
DESCRIPTION:Team Baxter (TA) vs Team Johnson (TA)
END:VALARM
END:VEVENT
BEGIN:VEVENT
UID:tandy-599447@ygametime.com
DTSTAMP:20260411T153000Z
DTSTART;TZID=America/Chicago:20260411T103000
DURATION:PT0H60M0S
SUMMARY:Team Linville (TA) vs Team Johnson (TA)
DESCRIPTION:8-11 | Youth Volleyball\nTandy Family YMCA\n
URL;VALUE=URI:https://ygametime.com/branch/tandy/sports/2026-spring-youth-volleyball/25511/?utm_medium=calendar&utm_source=team_cal&utm_content=league_url#game-599447
LOCATION:Tandy YMCA Court 3
BEGIN:VALARM
TRIGGER:-P2H
ACTION:DISPLAY
DESCRIPTION:Team Linville (TA) vs Team Johnson (TA)
END:VALARM
END:VEVENT
BEGIN:VEVENT
UID:tandy-599429@ygametime.com
DTSTAMP:20260418T133000Z
DTSTART;TZID=America/Chicago:20260418T083000
DURATION:PT0H60M0S
SUMMARY:Team Johnson (TA) vs Team Jarrett (TA)
DESCRIPTION:8-11 | Youth Volleyball\nTandy Family YMCA\n
URL;VALUE=URI:https://ygametime.com/branch/tandy/sports/2026-spring-youth-volleyball/25511/?utm_medium=calendar&utm_source=team_cal&utm_content=league_url#game-599429
LOCATION:Tandy YMCA Court 3
BEGIN:VALARM
TRIGGER:-P2H
ACTION:DISPLAY
DESCRIPTION:Team Johnson (TA) vs Team Jarrett (TA)
END:VALARM
END:VEVENT
BEGIN:VEVENT
UID:tandy-599435@ygametime.com
DTSTAMP:20260425T153000Z
DTSTART;TZID=America/Chicago:20260425T103000
DURATION:PT0H60M0S
SUMMARY:Team Theriot (HK) vs Team Johnson (TA)
DESCRIPTION:8-11 | Youth Volleyball\nTandy Family YMCA\n
URL;VALUE=URI:https://ygametime.com/branch/tandy/sports/2026-spring-youth-volleyball/25511/?utm_medium=calendar&utm_source=team_cal&utm_content=league_url#game-599435
LOCATION:Tandy YMCA Court 3
BEGIN:VALARM
TRIGGER:-P2H
ACTION:DISPLAY
DESCRIPTION:Team Theriot (HK) vs Team Johnson (TA)
END:VALARM
END:VEVENT
BEGIN:VEVENT
UID:tandy-599437@ygametime.com
DTSTAMP:20260502T133000Z
DTSTART;TZID=America/Chicago:20260502T083000
DURATION:PT0H60M0S
SUMMARY:Team Johnson (TA) vs Team Segovia (TA)
DESCRIPTION:8-11 | Youth Volleyball\nTandy Family YMCA\n
URL;VALUE=URI:https://ygametime.com/branch/tandy/sports/2026-spring-youth-volleyball/25511/?utm_medium=calendar&utm_source=team_cal&utm_content=league_url#game-599437
LOCATION:Tandy YMCA Court 3
BEGIN:VALARM
TRIGGER:-P2H
ACTION:DISPLAY
DESCRIPTION:Team Johnson (TA) vs Team Segovia (TA)
END:VALARM
END:VEVENT
BEGIN:VEVENT
UID:tandy-599443@ygametime.com
DTSTAMP:20260509T153000Z
DTSTART;TZID=America/Chicago:20260509T103000
DURATION:PT0H60M0S
SUMMARY:Team Johnson (TA) vs Team Newkirk (TA)
DESCRIPTION:8-11 | Youth Volleyball\nTandy Family YMCA\n
URL;VALUE=URI:https://ygametime.com/branch/tandy/sports/2026-spring-youth-volleyball/25511/?utm_medium=calendar&utm_source=team_cal&utm_content=league_url#game-599443
LOCATION:Tandy YMCA Court 3
BEGIN:VALARM
TRIGGER:-P2H
ACTION:DISPLAY
DESCRIPTION:Team Johnson (TA) vs Team Newkirk (TA)
END:VALARM
END:VEVENT
END:VCALENDAR

