BEGIN:VCALENDAR
VERSION:2.0
PRODID:-//YGAMETIME.com//YGT iCal Creator//EN
METHOD:PUBLISH
X-PUBLISHED-TTL:PT6H
REFRESH-INTERVAL;VALUE=DURATION:PT6H
CALSCALE:GREGORIAN
X-WR-CALNAME:YGAMETIME CALENDAR
BEGIN:VTIMEZONE
TZID:America/Chicago
X-LIC-LOCATION:America/Chicago
BEGIN:DAYLIGHT
TZOFFSETFROM:-0600
TZOFFSETTO:-0500
TZNAME:CDT
DTSTART:19700308T020000
RRULE:FREQ=YEARLY;BYMONTH=3;BYDAY=2SU
END:DAYLIGHT
BEGIN:STANDARD
TZOFFSETFROM:-0500
TZOFFSETTO:-0600
TZNAME:CST
DTSTART:19701101T020000
RRULE:FREQ=YEARLY;BYMONTH=11;BYDAY=1SU
END:STANDARD
END:VTIMEZONE
BEGIN:VEVENT
UID:tandy-599420@ygametime.com
DTSTAMP:20260328T163000Z
DTSTART;TZID=America/Chicago:20260328T113000
DURATION:PT0H60M0S
SUMMARY:Team Bradley (HK) vs Team Segovia (TA)
DESCRIPTION:8-11 | Youth Volleyball\nTandy Family YMCA\n
URL;VALUE=URI:https://ygametime.com/branch/tandy/sports/2026-spring-youth-volleyball/25511/?utm_medium=calendar&utm_source=team_cal&utm_content=league_url#game-599420
LOCATION:Tandy YMCA Court 3
BEGIN:VALARM
TRIGGER:-P2H
ACTION:DISPLAY
DESCRIPTION:Team Bradley (HK) vs Team Segovia (TA)
END:VALARM
END:VEVENT
BEGIN:VEVENT
UID:tandy-599423@ygametime.com
DTSTAMP:20260404T153000Z
DTSTART;TZID=America/Chicago:20260404T103000
DURATION:PT0H60M0S
SUMMARY:Team Segovia (TA) vs Team Baxter (TA)
DESCRIPTION:8-11 | Youth Volleyball\nTandy Family YMCA\n
URL;VALUE=URI:https://ygametime.com/branch/tandy/sports/2026-spring-youth-volleyball/25511/?utm_medium=calendar&utm_source=team_cal&utm_content=league_url#game-599423
LOCATION:Tandy YMCA Court 3
BEGIN:VALARM
TRIGGER:-P2H
ACTION:DISPLAY
DESCRIPTION:Team Segovia (TA) vs Team Baxter (TA)
END:VALARM
END:VEVENT
BEGIN:VEVENT
UID:tandy-599425@ygametime.com
DTSTAMP:20260411T133000Z
DTSTART;TZID=America/Chicago:20260411T083000
DURATION:PT0H60M0S
SUMMARY:Team Jarrett (TA) vs Team Segovia (TA)
DESCRIPTION:8-11 | Youth Volleyball\nTandy Family YMCA\n
URL;VALUE=URI:https://ygametime.com/branch/tandy/sports/2026-spring-youth-volleyball/25511/?utm_medium=calendar&utm_source=team_cal&utm_content=league_url#game-599425
LOCATION:Tandy YMCA Court 3
BEGIN:VALARM
TRIGGER:-P2H
ACTION:DISPLAY
DESCRIPTION:Team Jarrett (TA) vs Team Segovia (TA)
END:VALARM
END:VEVENT
BEGIN:VEVENT
UID:tandy-599431@ygametime.com
DTSTAMP:20260418T163000Z
DTSTART;TZID=America/Chicago:20260418T113000
DURATION:PT0H60M0S
SUMMARY:Team Segovia (TA) vs Team Theriot (HK)
DESCRIPTION:8-11 | Youth Volleyball\nTandy Family YMCA\n
URL;VALUE=URI:https://ygametime.com/branch/tandy/sports/2026-spring-youth-volleyball/25511/?utm_medium=calendar&utm_source=team_cal&utm_content=league_url#game-599431
LOCATION:Tandy YMCA Court 3
BEGIN:VALARM
TRIGGER:-P2H
ACTION:DISPLAY
DESCRIPTION:Team Segovia (TA) vs Team Theriot (HK)
END:VALARM
END:VEVENT
BEGIN:VEVENT
UID:tandy-599433@ygametime.com
DTSTAMP:20260425T133000Z
DTSTART;TZID=America/Chicago:20260425T083000
DURATION:PT0H60M0S
SUMMARY:Team Segovia (TA) vs Team Newkirk (TA)
DESCRIPTION:8-11 | Youth Volleyball\nTandy Family YMCA\n
URL;VALUE=URI:https://ygametime.com/branch/tandy/sports/2026-spring-youth-volleyball/25511/?utm_medium=calendar&utm_source=team_cal&utm_content=league_url#game-599433
LOCATION:Tandy YMCA Court 3
BEGIN:VALARM
TRIGGER:-P2H
ACTION:DISPLAY
DESCRIPTION:Team Segovia (TA) vs Team Newkirk (TA)
END:VALARM
END:VEVENT
BEGIN:VEVENT
UID:tandy-599437@ygametime.com
DTSTAMP:20260502T133000Z
DTSTART;TZID=America/Chicago:20260502T083000
DURATION:PT0H60M0S
SUMMARY:Team Johnson (TA) vs Team Segovia (TA)
DESCRIPTION:8-11 | Youth Volleyball\nTandy Family YMCA\n
URL;VALUE=URI:https://ygametime.com/branch/tandy/sports/2026-spring-youth-volleyball/25511/?utm_medium=calendar&utm_source=team_cal&utm_content=league_url#game-599437
LOCATION:Tandy YMCA Court 3
BEGIN:VALARM
TRIGGER:-P2H
ACTION:DISPLAY
DESCRIPTION:Team Johnson (TA) vs Team Segovia (TA)
END:VALARM
END:VEVENT
BEGIN:VEVENT
UID:tandy-599445@ygametime.com
DTSTAMP:20260502T143000Z
DTSTART;TZID=America/Chicago:20260502T093000
DURATION:PT0H60M0S
SUMMARY:Team Bradley (HK) vs Team Segovia (TA)
DESCRIPTION:8-11 | Youth Volleyball\nTandy Family YMCA\n
URL;VALUE=URI:https://ygametime.com/branch/tandy/sports/2026-spring-youth-volleyball/25511/?utm_medium=calendar&utm_source=team_cal&utm_content=league_url#game-599445
LOCATION:Tandy YMCA Court 3
BEGIN:VALARM
TRIGGER:-P2H
ACTION:DISPLAY
DESCRIPTION:Team Bradley (HK) vs Team Segovia (TA)
END:VALARM
END:VEVENT
BEGIN:VEVENT
UID:tandy-599441@ygametime.com
DTSTAMP:20260509T133000Z
DTSTART;TZID=America/Chicago:20260509T083000
DURATION:PT0H60M0S
SUMMARY:Team Segovia (TA) vs Team Linville (TA)
DESCRIPTION:8-11 | Youth Volleyball\nTandy Family YMCA\n
URL;VALUE=URI:https://ygametime.com/branch/tandy/sports/2026-spring-youth-volleyball/25511/?utm_medium=calendar&utm_source=team_cal&utm_content=league_url#game-599441
LOCATION:Tandy YMCA Court 3
BEGIN:VALARM
TRIGGER:-P2H
ACTION:DISPLAY
DESCRIPTION:Team Segovia (TA) vs Team Linville (TA)
END:VALARM
END:VEVENT
END:VCALENDAR

