BEGIN:VCALENDAR
VERSION:2.0
PRODID:-//YGAMETIME.com//YGT iCal Creator//EN
METHOD:PUBLISH
X-PUBLISHED-TTL:PT6H
REFRESH-INTERVAL;VALUE=DURATION:PT6H
CALSCALE:GREGORIAN
X-WR-CALNAME:YGAMETIME CALENDAR
BEGIN:VTIMEZONE
TZID:America/Chicago
X-LIC-LOCATION:America/Chicago
BEGIN:DAYLIGHT
TZOFFSETFROM:-0600
TZOFFSETTO:-0500
TZNAME:CDT
DTSTART:19700308T020000
RRULE:FREQ=YEARLY;BYMONTH=3;BYDAY=2SU
END:DAYLIGHT
BEGIN:STANDARD
TZOFFSETFROM:-0500
TZOFFSETTO:-0600
TZNAME:CST
DTSTART:19701101T020000
RRULE:FREQ=YEARLY;BYMONTH=11;BYDAY=1SU
END:STANDARD
END:VTIMEZONE
BEGIN:VEVENT
UID:tandy-598210@ygametime.com
DTSTAMP:20260328T191500Z
DTSTART;TZID=America/Chicago:20260328T141500
DURATION:PT0H45M0S
SUMMARY:Team OneHope (TA) vs Team Mason (TA)
DESCRIPTION:5-6 CO-ED | Thunder Youth Basketball\nTandy Family YMCA\n
URL;VALUE=URI:https://ygametime.com/branch/tandy/sports/2026-spring-thunder-youth-basketball/25500/?utm_medium=calendar&utm_source=team_cal&utm_content=league_url#game-598210
LOCATION:Tandy YMCA Court 3
BEGIN:VALARM
TRIGGER:-P2H
ACTION:DISPLAY
DESCRIPTION:Team OneHope (TA) vs Team Mason (TA)
END:VALARM
END:VEVENT
BEGIN:VEVENT
UID:tandy-598212@ygametime.com
DTSTAMP:20260404T180000Z
DTSTART;TZID=America/Chicago:20260404T130000
DURATION:PT0H45M0S
SUMMARY:Team Potter (TA) vs Team OneHope (TA)
DESCRIPTION:5-6 CO-ED | Thunder Youth Basketball\nTandy Family YMCA\n
URL;VALUE=URI:https://ygametime.com/branch/tandy/sports/2026-spring-thunder-youth-basketball/25500/?utm_medium=calendar&utm_source=team_cal&utm_content=league_url#game-598212
LOCATION:Tandy YMCA Court 1
BEGIN:VALARM
TRIGGER:-P2H
ACTION:DISPLAY
DESCRIPTION:Team Potter (TA) vs Team OneHope (TA)
END:VALARM
END:VEVENT
BEGIN:VEVENT
UID:tandy-598218@ygametime.com
DTSTAMP:20260411T191500Z
DTSTART;TZID=America/Chicago:20260411T141500
DURATION:PT0H45M0S
SUMMARY:Team OneHope (TA) vs Team Biggs (TA)
DESCRIPTION:5-6 CO-ED | Thunder Youth Basketball\nTandy Family YMCA\n
URL;VALUE=URI:https://ygametime.com/branch/tandy/sports/2026-spring-thunder-youth-basketball/25500/?utm_medium=calendar&utm_source=team_cal&utm_content=league_url#game-598218
LOCATION:Tandy YMCA Court 3
BEGIN:VALARM
TRIGGER:-P2H
ACTION:DISPLAY
DESCRIPTION:Team OneHope (TA) vs Team Biggs (TA)
END:VALARM
END:VEVENT
BEGIN:VEVENT
UID:tandy-598220@ygametime.com
DTSTAMP:20260418T193000Z
DTSTART;TZID=America/Chicago:20260418T143000
DURATION:PT0H45M0S
SUMMARY:Team Gibbs (TA) vs Team OneHope (TA)
DESCRIPTION:5-6 CO-ED | Thunder Youth Basketball\nTandy Family YMCA\n
URL;VALUE=URI:https://ygametime.com/branch/tandy/sports/2026-spring-thunder-youth-basketball/25500/?utm_medium=calendar&utm_source=team_cal&utm_content=league_url#game-598220
LOCATION:Tandy YMCA Court 1
BEGIN:VALARM
TRIGGER:-P2H
ACTION:DISPLAY
DESCRIPTION:Team Gibbs (TA) vs Team OneHope (TA)
END:VALARM
END:VEVENT
BEGIN:VEVENT
UID:tandy-598223@ygametime.com
DTSTAMP:20260425T184500Z
DTSTART;TZID=America/Chicago:20260425T134500
DURATION:PT0H45M0S
SUMMARY:Team Cozad (TA) vs Team OneHope (TA)
DESCRIPTION:5-6 CO-ED | Thunder Youth Basketball\nTandy Family YMCA\n
URL;VALUE=URI:https://ygametime.com/branch/tandy/sports/2026-spring-thunder-youth-basketball/25500/?utm_medium=calendar&utm_source=team_cal&utm_content=league_url#game-598223
LOCATION:Tandy YMCA Court 1
BEGIN:VALARM
TRIGGER:-P2H
ACTION:DISPLAY
DESCRIPTION:Team Cozad (TA) vs Team OneHope (TA)
END:VALARM
END:VEVENT
BEGIN:VEVENT
UID:tandy-598227@ygametime.com
DTSTAMP:20260502T184500Z
DTSTART;TZID=America/Chicago:20260502T134500
DURATION:PT0H45M0S
SUMMARY:Team OneHope (TA) vs Team Chastain (TA)
DESCRIPTION:5-6 CO-ED | Thunder Youth Basketball\nTandy Family YMCA\n
URL;VALUE=URI:https://ygametime.com/branch/tandy/sports/2026-spring-thunder-youth-basketball/25500/?utm_medium=calendar&utm_source=team_cal&utm_content=league_url#game-598227
LOCATION:Tandy YMCA Court 3
BEGIN:VALARM
TRIGGER:-P2H
ACTION:DISPLAY
DESCRIPTION:Team OneHope (TA) vs Team Chastain (TA)
END:VALARM
END:VEVENT
BEGIN:VEVENT
UID:tandy-598231@ygametime.com
DTSTAMP:20260509T180000Z
DTSTART;TZID=America/Chicago:20260509T130000
DURATION:PT0H45M0S
SUMMARY:Team Huffman (TA) vs Team OneHope (TA)
DESCRIPTION:5-6 CO-ED | Thunder Youth Basketball\nTandy Family YMCA\n
URL;VALUE=URI:https://ygametime.com/branch/tandy/sports/2026-spring-thunder-youth-basketball/25500/?utm_medium=calendar&utm_source=team_cal&utm_content=league_url#game-598231
LOCATION:Tandy YMCA Court 1
BEGIN:VALARM
TRIGGER:-P2H
ACTION:DISPLAY
DESCRIPTION:Team Huffman (TA) vs Team OneHope (TA)
END:VALARM
END:VEVENT
BEGIN:VEVENT
UID:tandy-598235@ygametime.com
DTSTAMP:20260509T184500Z
DTSTART;TZID=America/Chicago:20260509T134500
DURATION:PT0H45M0S
SUMMARY:Team OneHope (TA) vs Team Skaggs (TA)
DESCRIPTION:5-6 CO-ED | Thunder Youth Basketball\nTandy Family YMCA\n
URL;VALUE=URI:https://ygametime.com/branch/tandy/sports/2026-spring-thunder-youth-basketball/25500/?utm_medium=calendar&utm_source=team_cal&utm_content=league_url#game-598235
LOCATION:Tandy YMCA Court 1
BEGIN:VALARM
TRIGGER:-P2H
ACTION:DISPLAY
DESCRIPTION:Team OneHope (TA) vs Team Skaggs (TA)
END:VALARM
END:VEVENT
END:VCALENDAR

