BEGIN:VCALENDAR
VERSION:2.0
PRODID:-//YGAMETIME.com//YGT iCal Creator//EN
METHOD:PUBLISH
X-PUBLISHED-TTL:PT6H
REFRESH-INTERVAL;VALUE=DURATION:PT6H
CALSCALE:GREGORIAN
X-WR-CALNAME:YGAMETIME CALENDAR
BEGIN:VTIMEZONE
TZID:America/Chicago
X-LIC-LOCATION:America/Chicago
BEGIN:DAYLIGHT
TZOFFSETFROM:-0600
TZOFFSETTO:-0500
TZNAME:CDT
DTSTART:19700308T020000
RRULE:FREQ=YEARLY;BYMONTH=3;BYDAY=2SU
END:DAYLIGHT
BEGIN:STANDARD
TZOFFSETFROM:-0500
TZOFFSETTO:-0600
TZNAME:CST
DTSTART:19701101T020000
RRULE:FREQ=YEARLY;BYMONTH=11;BYDAY=1SU
END:STANDARD
END:VTIMEZONE
BEGIN:VEVENT
UID:tandy-597384@ygametime.com
DTSTAMP:20260328T171500Z
DTSTART;TZID=America/Chicago:20260328T121500
DURATION:PT0H45M0S
SUMMARY:Team Younger (HT) vs Team Martin (TA)
DESCRIPTION:3-4 CO-ED | Thunder Youth Basketball\nTandy Family YMCA\n
URL;VALUE=URI:https://ygametime.com/branch/tandy/sports/2026-spring-thunder-youth-basketball/25499/?utm_medium=calendar&utm_source=team_cal&utm_content=league_url#game-597384
LOCATION:Tandy YMCA Court 1
BEGIN:VALARM
TRIGGER:-P2H
ACTION:DISPLAY
DESCRIPTION:Team Younger (HT) vs Team Martin (TA)
END:VALARM
END:VEVENT
BEGIN:VEVENT
UID:tandy-597416@ygametime.com
DTSTAMP:20260404T141500Z
DTSTART;TZID=America/Chicago:20260404T091500
DURATION:PT0H45M0S
SUMMARY:Team Trinidad (TA) vs Team Younger (HT)
DESCRIPTION:3-4 CO-ED | Thunder Youth Basketball\nTandy Family YMCA\n
URL;VALUE=URI:https://ygametime.com/branch/tandy/sports/2026-spring-thunder-youth-basketball/25499/?utm_medium=calendar&utm_source=team_cal&utm_content=league_url#game-597416
LOCATION:Tandy YMCA Court 1
BEGIN:VALARM
TRIGGER:-P2H
ACTION:DISPLAY
DESCRIPTION:Team Trinidad (TA) vs Team Younger (HT)
END:VALARM
END:VEVENT
BEGIN:VEVENT
UID:tandy-597388@ygametime.com
DTSTAMP:20260411T171500Z
DTSTART;TZID=America/Chicago:20260411T121500
DURATION:PT0H45M0S
SUMMARY:Team Jones (TA) vs Team Younger (HT)
DESCRIPTION:3-4 CO-ED | Thunder Youth Basketball\nTandy Family YMCA\n
URL;VALUE=URI:https://ygametime.com/branch/tandy/sports/2026-spring-thunder-youth-basketball/25499/?utm_medium=calendar&utm_source=team_cal&utm_content=league_url#game-597388
LOCATION:Tandy YMCA Court 1
BEGIN:VALARM
TRIGGER:-P2H
ACTION:DISPLAY
DESCRIPTION:Team Jones (TA) vs Team Younger (HT)
END:VALARM
END:VEVENT
BEGIN:VEVENT
UID:tandy-597392@ygametime.com
DTSTAMP:20260418T133000Z
DTSTART;TZID=America/Chicago:20260418T083000
DURATION:PT0H45M0S
SUMMARY:Team Younger (HT) vs Team Hunter (DA)
DESCRIPTION:3-4 CO-ED | Thunder Youth Basketball\nTandy Family YMCA\n
URL;VALUE=URI:https://ygametime.com/branch/tandy/sports/2026-spring-thunder-youth-basketball/25499/?utm_medium=calendar&utm_source=team_cal&utm_content=league_url#game-597392
LOCATION:Tandy YMCA Court 1
BEGIN:VALARM
TRIGGER:-P2H
ACTION:DISPLAY
DESCRIPTION:Team Younger (HT) vs Team Hunter (DA)
END:VALARM
END:VEVENT
BEGIN:VEVENT
UID:tandy-597402@ygametime.com
DTSTAMP:20260425T163000Z
DTSTART;TZID=America/Chicago:20260425T113000
DURATION:PT0H45M0S
SUMMARY:Team Lively (DA) vs Team Younger (HT)
DESCRIPTION:3-4 CO-ED | Thunder Youth Basketball\nTandy Family YMCA\n
URL;VALUE=URI:https://ygametime.com/branch/tandy/sports/2026-spring-thunder-youth-basketball/25499/?utm_medium=calendar&utm_source=team_cal&utm_content=league_url#game-597402
LOCATION:Tandy YMCA Court 1
BEGIN:VALARM
TRIGGER:-P2H
ACTION:DISPLAY
DESCRIPTION:Team Lively (DA) vs Team Younger (HT)
END:VALARM
END:VEVENT
BEGIN:VEVENT
UID:tandy-597406@ygametime.com
DTSTAMP:20260502T150000Z
DTSTART;TZID=America/Chicago:20260502T100000
DURATION:PT0H45M0S
SUMMARY:Team Younger (HT) vs Team Shriver (OW)
DESCRIPTION:3-4 CO-ED | Thunder Youth Basketball\nTandy Family YMCA\n
URL;VALUE=URI:https://ygametime.com/branch/tandy/sports/2026-spring-thunder-youth-basketball/25499/?utm_medium=calendar&utm_source=team_cal&utm_content=league_url#game-597406
LOCATION:Tandy YMCA Court 1
BEGIN:VALARM
TRIGGER:-P2H
ACTION:DISPLAY
DESCRIPTION:Team Younger (HT) vs Team Shriver (OW)
END:VALARM
END:VEVENT
BEGIN:VEVENT
UID:tandy-597410@ygametime.com
DTSTAMP:20260509T133000Z
DTSTART;TZID=America/Chicago:20260509T083000
DURATION:PT0H45M0S
SUMMARY:Team Younger (HT) vs Team Horn (TA)
DESCRIPTION:3-4 CO-ED | Thunder Youth Basketball\nTandy Family YMCA\n
URL;VALUE=URI:https://ygametime.com/branch/tandy/sports/2026-spring-thunder-youth-basketball/25499/?utm_medium=calendar&utm_source=team_cal&utm_content=league_url#game-597410
LOCATION:Tandy YMCA Court 1
BEGIN:VALARM
TRIGGER:-P2H
ACTION:DISPLAY
DESCRIPTION:Team Younger (HT) vs Team Horn (TA)
END:VALARM
END:VEVENT
BEGIN:VEVENT
UID:tandy-597411@ygametime.com
DTSTAMP:20260509T141500Z
DTSTART;TZID=America/Chicago:20260509T091500
DURATION:PT0H45M0S
SUMMARY:Team Martin (TA) vs Team Younger (HT)
DESCRIPTION:3-4 CO-ED | Thunder Youth Basketball\nTandy Family YMCA\n
URL;VALUE=URI:https://ygametime.com/branch/tandy/sports/2026-spring-thunder-youth-basketball/25499/?utm_medium=calendar&utm_source=team_cal&utm_content=league_url#game-597411
LOCATION:Tandy YMCA Court 1
BEGIN:VALARM
TRIGGER:-P2H
ACTION:DISPLAY
DESCRIPTION:Team Martin (TA) vs Team Younger (HT)
END:VALARM
END:VEVENT
END:VCALENDAR

