BEGIN:VCALENDAR
VERSION:2.0
PRODID:-//YGAMETIME.com//YGT iCal Creator//EN
METHOD:PUBLISH
X-PUBLISHED-TTL:PT6H
REFRESH-INTERVAL;VALUE=DURATION:PT6H
CALSCALE:GREGORIAN
X-WR-CALNAME:YGAMETIME CALENDAR
BEGIN:VTIMEZONE
TZID:America/Chicago
X-LIC-LOCATION:America/Chicago
BEGIN:DAYLIGHT
TZOFFSETFROM:-0600
TZOFFSETTO:-0500
TZNAME:CDT
DTSTART:19700308T020000
RRULE:FREQ=YEARLY;BYMONTH=3;BYDAY=2SU
END:DAYLIGHT
BEGIN:STANDARD
TZOFFSETFROM:-0500
TZOFFSETTO:-0600
TZNAME:CST
DTSTART:19701101T020000
RRULE:FREQ=YEARLY;BYMONTH=11;BYDAY=1SU
END:STANDARD
END:VTIMEZONE
BEGIN:VEVENT
UID:tandy-597374@ygametime.com
DTSTAMP:20260328T141500Z
DTSTART;TZID=America/Chicago:20260328T091500
DURATION:PT0H45M0S
SUMMARY:Team Hunter (DA) vs Team Horn (TA)
DESCRIPTION:3-4 CO-ED | Thunder Youth Basketball\nTandy Family YMCA\n
URL;VALUE=URI:https://ygametime.com/branch/tandy/sports/2026-spring-thunder-youth-basketball/25499/?utm_medium=calendar&utm_source=team_cal&utm_content=league_url#game-597374
LOCATION:Tandy YMCA Court 1
BEGIN:VALARM
TRIGGER:-P2H
ACTION:DISPLAY
DESCRIPTION:Team Hunter (DA) vs Team Horn (TA)
END:VALARM
END:VEVENT
BEGIN:VEVENT
UID:tandy-597380@ygametime.com
DTSTAMP:20260404T150000Z
DTSTART;TZID=America/Chicago:20260404T100000
DURATION:PT0H45M0S
SUMMARY:Team Lively (DA) vs Team Hunter (DA)
DESCRIPTION:3-4 CO-ED | Thunder Youth Basketball\nTandy Family YMCA\n
URL;VALUE=URI:https://ygametime.com/branch/tandy/sports/2026-spring-thunder-youth-basketball/25499/?utm_medium=calendar&utm_source=team_cal&utm_content=league_url#game-597380
LOCATION:Tandy YMCA Court 1
BEGIN:VALARM
TRIGGER:-P2H
ACTION:DISPLAY
DESCRIPTION:Team Lively (DA) vs Team Hunter (DA)
END:VALARM
END:VEVENT
BEGIN:VEVENT
UID:tandy-597386@ygametime.com
DTSTAMP:20260411T141500Z
DTSTART;TZID=America/Chicago:20260411T091500
DURATION:PT0H45M0S
SUMMARY:Team Hunter (DA) vs Team Shriver (OW)
DESCRIPTION:3-4 CO-ED | Thunder Youth Basketball\nTandy Family YMCA\n
URL;VALUE=URI:https://ygametime.com/branch/tandy/sports/2026-spring-thunder-youth-basketball/25499/?utm_medium=calendar&utm_source=team_cal&utm_content=league_url#game-597386
LOCATION:Tandy YMCA Court 1
BEGIN:VALARM
TRIGGER:-P2H
ACTION:DISPLAY
DESCRIPTION:Team Hunter (DA) vs Team Shriver (OW)
END:VALARM
END:VEVENT
BEGIN:VEVENT
UID:tandy-597417@ygametime.com
DTSTAMP:20260411T150000Z
DTSTART;TZID=America/Chicago:20260411T100000
DURATION:PT0H45M0S
SUMMARY:Team Sewell (OW) vs Team Hunter (DA)
DESCRIPTION:3-4 CO-ED | Thunder Youth Basketball\nTandy Family YMCA\n
URL;VALUE=URI:https://ygametime.com/branch/tandy/sports/2026-spring-thunder-youth-basketball/25499/?utm_medium=calendar&utm_source=team_cal&utm_content=league_url#game-597417
LOCATION:Tandy YMCA Court 1
BEGIN:VALARM
TRIGGER:-P2H
ACTION:DISPLAY
DESCRIPTION:Team Sewell (OW) vs Team Hunter (DA)
END:VALARM
END:VEVENT
BEGIN:VEVENT
UID:tandy-597392@ygametime.com
DTSTAMP:20260418T133000Z
DTSTART;TZID=America/Chicago:20260418T083000
DURATION:PT0H45M0S
SUMMARY:Team Younger (HT) vs Team Hunter (DA)
DESCRIPTION:3-4 CO-ED | Thunder Youth Basketball\nTandy Family YMCA\n
URL;VALUE=URI:https://ygametime.com/branch/tandy/sports/2026-spring-thunder-youth-basketball/25499/?utm_medium=calendar&utm_source=team_cal&utm_content=league_url#game-597392
LOCATION:Tandy YMCA Court 1
BEGIN:VALARM
TRIGGER:-P2H
ACTION:DISPLAY
DESCRIPTION:Team Younger (HT) vs Team Hunter (DA)
END:VALARM
END:VEVENT
BEGIN:VEVENT
UID:tandy-597398@ygametime.com
DTSTAMP:20260425T133000Z
DTSTART;TZID=America/Chicago:20260425T083000
DURATION:PT0H45M0S
SUMMARY:Team Hunter (DA) vs Team Trinidad (TA)
DESCRIPTION:3-4 CO-ED | Thunder Youth Basketball\nTandy Family YMCA\n
URL;VALUE=URI:https://ygametime.com/branch/tandy/sports/2026-spring-thunder-youth-basketball/25499/?utm_medium=calendar&utm_source=team_cal&utm_content=league_url#game-597398
LOCATION:Tandy YMCA Court 1
BEGIN:VALARM
TRIGGER:-P2H
ACTION:DISPLAY
DESCRIPTION:Team Hunter (DA) vs Team Trinidad (TA)
END:VALARM
END:VEVENT
BEGIN:VEVENT
UID:tandy-597404@ygametime.com
DTSTAMP:20260502T133000Z
DTSTART;TZID=America/Chicago:20260502T083000
DURATION:PT0H45M0S
SUMMARY:Team Mitchell (TA) vs Team Hunter (DA)
DESCRIPTION:3-4 CO-ED | Thunder Youth Basketball\nTandy Family YMCA\n
URL;VALUE=URI:https://ygametime.com/branch/tandy/sports/2026-spring-thunder-youth-basketball/25499/?utm_medium=calendar&utm_source=team_cal&utm_content=league_url#game-597404
LOCATION:Tandy YMCA Court 1
BEGIN:VALARM
TRIGGER:-P2H
ACTION:DISPLAY
DESCRIPTION:Team Mitchell (TA) vs Team Hunter (DA)
END:VALARM
END:VEVENT
BEGIN:VEVENT
UID:tandy-597415@ygametime.com
DTSTAMP:20260509T171500Z
DTSTART;TZID=America/Chicago:20260509T121500
DURATION:PT0H45M0S
SUMMARY:Team Hunter (DA) vs Team Woodard/Bunch (DA)
DESCRIPTION:3-4 CO-ED | Thunder Youth Basketball\nTandy Family YMCA\n
URL;VALUE=URI:https://ygametime.com/branch/tandy/sports/2026-spring-thunder-youth-basketball/25499/?utm_medium=calendar&utm_source=team_cal&utm_content=league_url#game-597415
LOCATION:Tandy YMCA Court 1
BEGIN:VALARM
TRIGGER:-P2H
ACTION:DISPLAY
DESCRIPTION:Team Hunter (DA) vs Team Woodard/Bunch (DA)
END:VALARM
END:VEVENT
END:VCALENDAR

