BEGIN:VCALENDAR
VERSION:2.0
PRODID:-//YGAMETIME.com//YGT iCal Creator//EN
METHOD:PUBLISH
X-PUBLISHED-TTL:PT6H
REFRESH-INTERVAL;VALUE=DURATION:PT6H
CALSCALE:GREGORIAN
X-WR-CALNAME:YGAMETIME CALENDAR
BEGIN:VTIMEZONE
TZID:America/Chicago
X-LIC-LOCATION:America/Chicago
BEGIN:DAYLIGHT
TZOFFSETFROM:-0600
TZOFFSETTO:-0500
TZNAME:CDT
DTSTART:19700308T020000
RRULE:FREQ=YEARLY;BYMONTH=3;BYDAY=2SU
END:DAYLIGHT
BEGIN:STANDARD
TZOFFSETFROM:-0500
TZOFFSETTO:-0600
TZNAME:CST
DTSTART:19701101T020000
RRULE:FREQ=YEARLY;BYMONTH=11;BYDAY=1SU
END:STANDARD
END:VTIMEZONE
BEGIN:VEVENT
UID:tandy-597376@ygametime.com
DTSTAMP:20260328T154500Z
DTSTART;TZID=America/Chicago:20260328T104500
DURATION:PT0H45M0S
SUMMARY:Team Jones (TA) vs Team Lively (DA)
DESCRIPTION:3-4 CO-ED | Thunder Youth Basketball\nTandy Family YMCA\n
URL;VALUE=URI:https://ygametime.com/branch/tandy/sports/2026-spring-thunder-youth-basketball/25499/?utm_medium=calendar&utm_source=team_cal&utm_content=league_url#game-597376
LOCATION:Tandy YMCA Court 1
BEGIN:VALARM
TRIGGER:-P2H
ACTION:DISPLAY
DESCRIPTION:Team Jones (TA) vs Team Lively (DA)
END:VALARM
END:VEVENT
BEGIN:VEVENT
UID:tandy-597380@ygametime.com
DTSTAMP:20260404T150000Z
DTSTART;TZID=America/Chicago:20260404T100000
DURATION:PT0H45M0S
SUMMARY:Team Lively (DA) vs Team Hunter (DA)
DESCRIPTION:3-4 CO-ED | Thunder Youth Basketball\nTandy Family YMCA\n
URL;VALUE=URI:https://ygametime.com/branch/tandy/sports/2026-spring-thunder-youth-basketball/25499/?utm_medium=calendar&utm_source=team_cal&utm_content=league_url#game-597380
LOCATION:Tandy YMCA Court 1
BEGIN:VALARM
TRIGGER:-P2H
ACTION:DISPLAY
DESCRIPTION:Team Lively (DA) vs Team Hunter (DA)
END:VALARM
END:VEVENT
BEGIN:VEVENT
UID:tandy-597390@ygametime.com
DTSTAMP:20260411T180000Z
DTSTART;TZID=America/Chicago:20260411T130000
DURATION:PT0H45M0S
SUMMARY:Team Lively (DA) vs Team Horn (TA)
DESCRIPTION:3-4 CO-ED | Thunder Youth Basketball\nTandy Family YMCA\n
URL;VALUE=URI:https://ygametime.com/branch/tandy/sports/2026-spring-thunder-youth-basketball/25499/?utm_medium=calendar&utm_source=team_cal&utm_content=league_url#game-597390
LOCATION:Tandy YMCA Court 1
BEGIN:VALARM
TRIGGER:-P2H
ACTION:DISPLAY
DESCRIPTION:Team Lively (DA) vs Team Horn (TA)
END:VALARM
END:VEVENT
BEGIN:VEVENT
UID:tandy-597397@ygametime.com
DTSTAMP:20260418T171500Z
DTSTART;TZID=America/Chicago:20260418T121500
DURATION:PT0H45M0S
SUMMARY:Team Woodard/Bunch (DA) vs Team Lively (DA)
DESCRIPTION:3-4 CO-ED | Thunder Youth Basketball\nTandy Family YMCA\n
URL;VALUE=URI:https://ygametime.com/branch/tandy/sports/2026-spring-thunder-youth-basketball/25499/?utm_medium=calendar&utm_source=team_cal&utm_content=league_url#game-597397
LOCATION:Tandy YMCA Court 1
BEGIN:VALARM
TRIGGER:-P2H
ACTION:DISPLAY
DESCRIPTION:Team Woodard/Bunch (DA) vs Team Lively (DA)
END:VALARM
END:VEVENT
BEGIN:VEVENT
UID:tandy-597402@ygametime.com
DTSTAMP:20260425T163000Z
DTSTART;TZID=America/Chicago:20260425T113000
DURATION:PT0H45M0S
SUMMARY:Team Lively (DA) vs Team Younger (HT)
DESCRIPTION:3-4 CO-ED | Thunder Youth Basketball\nTandy Family YMCA\n
URL;VALUE=URI:https://ygametime.com/branch/tandy/sports/2026-spring-thunder-youth-basketball/25499/?utm_medium=calendar&utm_source=team_cal&utm_content=league_url#game-597402
LOCATION:Tandy YMCA Court 1
BEGIN:VALARM
TRIGGER:-P2H
ACTION:DISPLAY
DESCRIPTION:Team Lively (DA) vs Team Younger (HT)
END:VALARM
END:VEVENT
BEGIN:VEVENT
UID:tandy-597408@ygametime.com
DTSTAMP:20260502T163000Z
DTSTART;TZID=America/Chicago:20260502T113000
DURATION:PT0H45M0S
SUMMARY:Team Trinidad (TA) vs Team Lively (DA)
DESCRIPTION:3-4 CO-ED | Thunder Youth Basketball\nTandy Family YMCA\n
URL;VALUE=URI:https://ygametime.com/branch/tandy/sports/2026-spring-thunder-youth-basketball/25499/?utm_medium=calendar&utm_source=team_cal&utm_content=league_url#game-597408
LOCATION:Tandy YMCA Court 1
BEGIN:VALARM
TRIGGER:-P2H
ACTION:DISPLAY
DESCRIPTION:Team Trinidad (TA) vs Team Lively (DA)
END:VALARM
END:VEVENT
BEGIN:VEVENT
UID:tandy-597418@ygametime.com
DTSTAMP:20260502T171500Z
DTSTART;TZID=America/Chicago:20260502T121500
DURATION:PT0H45M0S
SUMMARY:Team Woodard/Bunch (DA) vs Team Lively (DA)
DESCRIPTION:3-4 CO-ED | Thunder Youth Basketball\nTandy Family YMCA\n
URL;VALUE=URI:https://ygametime.com/branch/tandy/sports/2026-spring-thunder-youth-basketball/25499/?utm_medium=calendar&utm_source=team_cal&utm_content=league_url#game-597418
LOCATION:Tandy YMCA Court 1
BEGIN:VALARM
TRIGGER:-P2H
ACTION:DISPLAY
DESCRIPTION:Team Woodard/Bunch (DA) vs Team Lively (DA)
END:VALARM
END:VEVENT
BEGIN:VEVENT
UID:tandy-597414@ygametime.com
DTSTAMP:20260509T163000Z
DTSTART;TZID=America/Chicago:20260509T113000
DURATION:PT0H45M0S
SUMMARY:Team Lively (DA) vs Team Mitchell (TA)
DESCRIPTION:3-4 CO-ED | Thunder Youth Basketball\nTandy Family YMCA\n
URL;VALUE=URI:https://ygametime.com/branch/tandy/sports/2026-spring-thunder-youth-basketball/25499/?utm_medium=calendar&utm_source=team_cal&utm_content=league_url#game-597414
LOCATION:Tandy YMCA Court 1
BEGIN:VALARM
TRIGGER:-P2H
ACTION:DISPLAY
DESCRIPTION:Team Lively (DA) vs Team Mitchell (TA)
END:VALARM
END:VEVENT
END:VCALENDAR

