BEGIN:VCALENDAR
VERSION:2.0
PRODID:-//YGAMETIME.com//YGT iCal Creator//EN
METHOD:PUBLISH
X-PUBLISHED-TTL:PT6H
REFRESH-INTERVAL;VALUE=DURATION:PT6H
CALSCALE:GREGORIAN
X-WR-CALNAME:YGAMETIME CALENDAR
BEGIN:VTIMEZONE
TZID:America/Chicago
X-LIC-LOCATION:America/Chicago
BEGIN:DAYLIGHT
TZOFFSETFROM:-0600
TZOFFSETTO:-0500
TZNAME:CDT
DTSTART:19700308T020000
RRULE:FREQ=YEARLY;BYMONTH=3;BYDAY=2SU
END:DAYLIGHT
BEGIN:STANDARD
TZOFFSETFROM:-0500
TZOFFSETTO:-0600
TZNAME:CST
DTSTART:19701101T020000
RRULE:FREQ=YEARLY;BYMONTH=11;BYDAY=1SU
END:STANDARD
END:VTIMEZONE
BEGIN:VEVENT
UID:tandy-597377@ygametime.com
DTSTAMP:20260328T133000Z
DTSTART;TZID=America/Chicago:20260328T083000
DURATION:PT0H45M0S
SUMMARY:Team Sewell (OW) vs Team Trinidad (TA)
DESCRIPTION:3-4 CO-ED | Thunder Youth Basketball\nTandy Family YMCA\n
URL;VALUE=URI:https://ygametime.com/branch/tandy/sports/2026-spring-thunder-youth-basketball/25499/?utm_medium=calendar&utm_source=team_cal&utm_content=league_url#game-597377
LOCATION:Tandy YMCA Court 1
BEGIN:VALARM
TRIGGER:-P2H
ACTION:DISPLAY
DESCRIPTION:Team Sewell (OW) vs Team Trinidad (TA)
END:VALARM
END:VEVENT
BEGIN:VEVENT
UID:tandy-597381@ygametime.com
DTSTAMP:20260404T154500Z
DTSTART;TZID=America/Chicago:20260404T104500
DURATION:PT0H45M0S
SUMMARY:Team Mitchell (TA) vs Team Sewell (OW)
DESCRIPTION:3-4 CO-ED | Thunder Youth Basketball\nTandy Family YMCA\n
URL;VALUE=URI:https://ygametime.com/branch/tandy/sports/2026-spring-thunder-youth-basketball/25499/?utm_medium=calendar&utm_source=team_cal&utm_content=league_url#game-597381
LOCATION:Tandy YMCA Court 1
BEGIN:VALARM
TRIGGER:-P2H
ACTION:DISPLAY
DESCRIPTION:Team Mitchell (TA) vs Team Sewell (OW)
END:VALARM
END:VEVENT
BEGIN:VEVENT
UID:tandy-597417@ygametime.com
DTSTAMP:20260411T150000Z
DTSTART;TZID=America/Chicago:20260411T100000
DURATION:PT0H45M0S
SUMMARY:Team Sewell (OW) vs Team Hunter (DA)
DESCRIPTION:3-4 CO-ED | Thunder Youth Basketball\nTandy Family YMCA\n
URL;VALUE=URI:https://ygametime.com/branch/tandy/sports/2026-spring-thunder-youth-basketball/25499/?utm_medium=calendar&utm_source=team_cal&utm_content=league_url#game-597417
LOCATION:Tandy YMCA Court 1
BEGIN:VALARM
TRIGGER:-P2H
ACTION:DISPLAY
DESCRIPTION:Team Sewell (OW) vs Team Hunter (DA)
END:VALARM
END:VEVENT
BEGIN:VEVENT
UID:tandy-597391@ygametime.com
DTSTAMP:20260411T154500Z
DTSTART;TZID=America/Chicago:20260411T104500
DURATION:PT0H45M0S
SUMMARY:Team Sewell (OW) vs Team Woodard/Bunch (DA)
DESCRIPTION:3-4 CO-ED | Thunder Youth Basketball\nTandy Family YMCA\n
URL;VALUE=URI:https://ygametime.com/branch/tandy/sports/2026-spring-thunder-youth-basketball/25499/?utm_medium=calendar&utm_source=team_cal&utm_content=league_url#game-597391
LOCATION:Tandy YMCA Court 1
BEGIN:VALARM
TRIGGER:-P2H
ACTION:DISPLAY
DESCRIPTION:Team Sewell (OW) vs Team Woodard/Bunch (DA)
END:VALARM
END:VEVENT
BEGIN:VEVENT
UID:tandy-597395@ygametime.com
DTSTAMP:20260418T154500Z
DTSTART;TZID=America/Chicago:20260418T104500
DURATION:PT0H45M0S
SUMMARY:Team Horn (TA) vs Team Sewell (OW)
DESCRIPTION:3-4 CO-ED | Thunder Youth Basketball\nTandy Family YMCA\n
URL;VALUE=URI:https://ygametime.com/branch/tandy/sports/2026-spring-thunder-youth-basketball/25499/?utm_medium=calendar&utm_source=team_cal&utm_content=league_url#game-597395
LOCATION:Tandy YMCA Court 1
BEGIN:VALARM
TRIGGER:-P2H
ACTION:DISPLAY
DESCRIPTION:Team Horn (TA) vs Team Sewell (OW)
END:VALARM
END:VEVENT
BEGIN:VEVENT
UID:tandy-597401@ygametime.com
DTSTAMP:20260425T154500Z
DTSTART;TZID=America/Chicago:20260425T104500
DURATION:PT0H45M0S
SUMMARY:Team Shriver (OW) vs Team Sewell (OW)
DESCRIPTION:3-4 CO-ED | Thunder Youth Basketball\nTandy Family YMCA\n
URL;VALUE=URI:https://ygametime.com/branch/tandy/sports/2026-spring-thunder-youth-basketball/25499/?utm_medium=calendar&utm_source=team_cal&utm_content=league_url#game-597401
LOCATION:Tandy YMCA Court 1
BEGIN:VALARM
TRIGGER:-P2H
ACTION:DISPLAY
DESCRIPTION:Team Shriver (OW) vs Team Sewell (OW)
END:VALARM
END:VEVENT
BEGIN:VEVENT
UID:tandy-597407@ygametime.com
DTSTAMP:20260502T154500Z
DTSTART;TZID=America/Chicago:20260502T104500
DURATION:PT0H45M0S
SUMMARY:Team Sewell (OW) vs Team Martin (TA)
DESCRIPTION:3-4 CO-ED | Thunder Youth Basketball\nTandy Family YMCA\n
URL;VALUE=URI:https://ygametime.com/branch/tandy/sports/2026-spring-thunder-youth-basketball/25499/?utm_medium=calendar&utm_source=team_cal&utm_content=league_url#game-597407
LOCATION:Tandy YMCA Court 1
BEGIN:VALARM
TRIGGER:-P2H
ACTION:DISPLAY
DESCRIPTION:Team Sewell (OW) vs Team Martin (TA)
END:VALARM
END:VEVENT
BEGIN:VEVENT
UID:tandy-597413@ygametime.com
DTSTAMP:20260509T154500Z
DTSTART;TZID=America/Chicago:20260509T104500
DURATION:PT0H45M0S
SUMMARY:Team Jones (TA) vs Team Sewell (OW)
DESCRIPTION:3-4 CO-ED | Thunder Youth Basketball\nTandy Family YMCA\n
URL;VALUE=URI:https://ygametime.com/branch/tandy/sports/2026-spring-thunder-youth-basketball/25499/?utm_medium=calendar&utm_source=team_cal&utm_content=league_url#game-597413
LOCATION:Tandy YMCA Court 1
BEGIN:VALARM
TRIGGER:-P2H
ACTION:DISPLAY
DESCRIPTION:Team Jones (TA) vs Team Sewell (OW)
END:VALARM
END:VEVENT
END:VCALENDAR

