BEGIN:VCALENDAR
VERSION:2.0
PRODID:-//YGAMETIME.com//YGT iCal Creator//EN
METHOD:PUBLISH
X-PUBLISHED-TTL:PT6H
REFRESH-INTERVAL;VALUE=DURATION:PT6H
CALSCALE:GREGORIAN
X-WR-CALNAME:YGAMETIME CALENDAR
BEGIN:VTIMEZONE
TZID:America/Chicago
X-LIC-LOCATION:America/Chicago
BEGIN:DAYLIGHT
TZOFFSETFROM:-0600
TZOFFSETTO:-0500
TZNAME:CDT
DTSTART:19700308T020000
RRULE:FREQ=YEARLY;BYMONTH=3;BYDAY=2SU
END:DAYLIGHT
BEGIN:STANDARD
TZOFFSETFROM:-0500
TZOFFSETTO:-0600
TZNAME:CST
DTSTART:19701101T020000
RRULE:FREQ=YEARLY;BYMONTH=11;BYDAY=1SU
END:STANDARD
END:VTIMEZONE
BEGIN:VEVENT
UID:tandy-597609@ygametime.com
DTSTAMP:20260328T133000Z
DTSTART;TZID=America/Chicago:20260328T083000
DURATION:PT0H60M0S
SUMMARY:Team Wheeler (HT) vs Team Dauphin (TA)
DESCRIPTION:11-12 Boys | Thunder Youth Basketball\nTandy Family YMCA\n
URL;VALUE=URI:https://ygametime.com/branch/tandy/sports/2026-spring-thunder-youth-basketball/25503/?utm_medium=calendar&utm_source=team_cal&utm_content=league_url#game-597609
LOCATION:East Central YMCA Court
BEGIN:VALARM
TRIGGER:-P2H
ACTION:DISPLAY
DESCRIPTION:Team Wheeler (HT) vs Team Dauphin (TA)
END:VALARM
END:VEVENT
BEGIN:VEVENT
UID:tandy-597614@ygametime.com
DTSTAMP:20260404T133000Z
DTSTART;TZID=America/Chicago:20260404T083000
DURATION:PT0H60M0S
SUMMARY:Team Haney (DA) vs Team Wheeler (HT)
DESCRIPTION:11-12 Boys | Thunder Youth Basketball\nTandy Family YMCA\n
URL;VALUE=URI:https://ygametime.com/branch/tandy/sports/2026-spring-thunder-youth-basketball/25503/?utm_medium=calendar&utm_source=team_cal&utm_content=league_url#game-597614
LOCATION:East Central YMCA Court
BEGIN:VALARM
TRIGGER:-P2H
ACTION:DISPLAY
DESCRIPTION:Team Haney (DA) vs Team Wheeler (HT)
END:VALARM
END:VEVENT
BEGIN:VEVENT
UID:tandy-597619@ygametime.com
DTSTAMP:20260411T133000Z
DTSTART;TZID=America/Chicago:20260411T083000
DURATION:PT0H60M0S
SUMMARY:Team Wheeler (HT) vs Team Doering (OW)
DESCRIPTION:11-12 Boys | Thunder Youth Basketball\nTandy Family YMCA\n
URL;VALUE=URI:https://ygametime.com/branch/tandy/sports/2026-spring-thunder-youth-basketball/25503/?utm_medium=calendar&utm_source=team_cal&utm_content=league_url#game-597619
LOCATION:East Central YMCA Court
BEGIN:VALARM
TRIGGER:-P2H
ACTION:DISPLAY
DESCRIPTION:Team Wheeler (HT) vs Team Doering (OW)
END:VALARM
END:VEVENT
BEGIN:VEVENT
UID:tandy-597644@ygametime.com
DTSTAMP:20260411T143000Z
DTSTART;TZID=America/Chicago:20260411T093000
DURATION:PT0H60M0S
SUMMARY:Team Porter (TA) vs Team Wheeler (HT)
DESCRIPTION:11-12 Boys | Thunder Youth Basketball\nTandy Family YMCA\n
URL;VALUE=URI:https://ygametime.com/branch/tandy/sports/2026-spring-thunder-youth-basketball/25503/?utm_medium=calendar&utm_source=team_cal&utm_content=league_url#game-597644
LOCATION:East Central YMCA Court
BEGIN:VALARM
TRIGGER:-P2H
ACTION:DISPLAY
DESCRIPTION:Team Porter (TA) vs Team Wheeler (HT)
END:VALARM
END:VEVENT
BEGIN:VEVENT
UID:tandy-597624@ygametime.com
DTSTAMP:20260418T163000Z
DTSTART;TZID=America/Chicago:20260418T113000
DURATION:PT0H60M0S
SUMMARY:Team Littlejohn (TA) vs Team Wheeler (HT)
DESCRIPTION:11-12 Boys | Thunder Youth Basketball\nTandy Family YMCA\n
URL;VALUE=URI:https://ygametime.com/branch/tandy/sports/2026-spring-thunder-youth-basketball/25503/?utm_medium=calendar&utm_source=team_cal&utm_content=league_url#game-597624
LOCATION:East Central YMCA Court
BEGIN:VALARM
TRIGGER:-P2H
ACTION:DISPLAY
DESCRIPTION:Team Littlejohn (TA) vs Team Wheeler (HT)
END:VALARM
END:VEVENT
BEGIN:VEVENT
UID:tandy-597629@ygametime.com
DTSTAMP:20260425T133000Z
DTSTART;TZID=America/Chicago:20260425T083000
DURATION:PT0H60M0S
SUMMARY:Team Wheeler (HT) vs Team Brooks (TA)
DESCRIPTION:11-12 Boys | Thunder Youth Basketball\nTandy Family YMCA\n
URL;VALUE=URI:https://ygametime.com/branch/tandy/sports/2026-spring-thunder-youth-basketball/25503/?utm_medium=calendar&utm_source=team_cal&utm_content=league_url#game-597629
LOCATION:East Central YMCA Court
BEGIN:VALARM
TRIGGER:-P2H
ACTION:DISPLAY
DESCRIPTION:Team Wheeler (HT) vs Team Brooks (TA)
END:VALARM
END:VEVENT
BEGIN:VEVENT
UID:tandy-597638@ygametime.com
DTSTAMP:20260502T183000Z
DTSTART;TZID=America/Chicago:20260502T133000
DURATION:PT0H60M0S
SUMMARY:Team Iverson (DA) vs Team Wheeler (HT)
DESCRIPTION:11-12 Boys | Thunder Youth Basketball\nTandy Family YMCA\n
URL;VALUE=URI:https://ygametime.com/branch/tandy/sports/2026-spring-thunder-youth-basketball/25503/?utm_medium=calendar&utm_source=team_cal&utm_content=league_url#game-597638
LOCATION:East Central YMCA Court
BEGIN:VALARM
TRIGGER:-P2H
ACTION:DISPLAY
DESCRIPTION:Team Iverson (DA) vs Team Wheeler (HT)
END:VALARM
END:VEVENT
BEGIN:VEVENT
UID:tandy-597641@ygametime.com
DTSTAMP:20260509T153000Z
DTSTART;TZID=America/Chicago:20260509T103000
DURATION:PT0H60M0S
SUMMARY:Team Wheeler (HT) vs Team Vandenschrick (OW)
DESCRIPTION:11-12 Boys | Thunder Youth Basketball\nTandy Family YMCA\n
URL;VALUE=URI:https://ygametime.com/branch/tandy/sports/2026-spring-thunder-youth-basketball/25503/?utm_medium=calendar&utm_source=team_cal&utm_content=league_url#game-597641
LOCATION:East Central YMCA Court
BEGIN:VALARM
TRIGGER:-P2H
ACTION:DISPLAY
DESCRIPTION:Team Wheeler (HT) vs Team Vandenschrick (OW)
END:VALARM
END:VEVENT
END:VCALENDAR

