BEGIN:VCALENDAR
VERSION:2.0
PRODID:-//YGAMETIME.com//YGT iCal Creator//EN
METHOD:PUBLISH
X-PUBLISHED-TTL:PT6H
REFRESH-INTERVAL;VALUE=DURATION:PT6H
CALSCALE:GREGORIAN
X-WR-CALNAME:YGAMETIME CALENDAR
BEGIN:VTIMEZONE
TZID:America/Chicago
X-LIC-LOCATION:America/Chicago
BEGIN:DAYLIGHT
TZOFFSETFROM:-0600
TZOFFSETTO:-0500
TZNAME:CDT
DTSTART:19700308T020000
RRULE:FREQ=YEARLY;BYMONTH=3;BYDAY=2SU
END:DAYLIGHT
BEGIN:STANDARD
TZOFFSETFROM:-0500
TZOFFSETTO:-0600
TZNAME:CST
DTSTART:19701101T020000
RRULE:FREQ=YEARLY;BYMONTH=11;BYDAY=1SU
END:STANDARD
END:VTIMEZONE
BEGIN:VEVENT
UID:tandy-597612@ygametime.com
DTSTAMP:20260328T143000Z
DTSTART;TZID=America/Chicago:20260328T093000
DURATION:PT0H60M0S
SUMMARY:Team Vandenschrick (OW) vs Team Littlejohn (TA)
DESCRIPTION:11-12 Boys | Thunder Youth Basketball\nTandy Family YMCA\n
URL;VALUE=URI:https://ygametime.com/branch/tandy/sports/2026-spring-thunder-youth-basketball/25503/?utm_medium=calendar&utm_source=team_cal&utm_content=league_url#game-597612
LOCATION:East Central YMCA Court
BEGIN:VALARM
TRIGGER:-P2H
ACTION:DISPLAY
DESCRIPTION:Team Vandenschrick (OW) vs Team Littlejohn (TA)
END:VALARM
END:VEVENT
BEGIN:VEVENT
UID:tandy-597615@ygametime.com
DTSTAMP:20260404T143000Z
DTSTART;TZID=America/Chicago:20260404T093000
DURATION:PT0H60M0S
SUMMARY:Team Brooks (TA) vs Team Vandenschrick (OW)
DESCRIPTION:11-12 Boys | Thunder Youth Basketball\nTandy Family YMCA\n
URL;VALUE=URI:https://ygametime.com/branch/tandy/sports/2026-spring-thunder-youth-basketball/25503/?utm_medium=calendar&utm_source=team_cal&utm_content=league_url#game-597615
LOCATION:East Central YMCA Court
BEGIN:VALARM
TRIGGER:-P2H
ACTION:DISPLAY
DESCRIPTION:Team Brooks (TA) vs Team Vandenschrick (OW)
END:VALARM
END:VEVENT
BEGIN:VEVENT
UID:tandy-597623@ygametime.com
DTSTAMP:20260411T183000Z
DTSTART;TZID=America/Chicago:20260411T133000
DURATION:PT0H60M0S
SUMMARY:Team Vandenschrick (OW) vs Team Iverson (DA)
DESCRIPTION:11-12 Boys | Thunder Youth Basketball\nTandy Family YMCA\n
URL;VALUE=URI:https://ygametime.com/branch/tandy/sports/2026-spring-thunder-youth-basketball/25503/?utm_medium=calendar&utm_source=team_cal&utm_content=league_url#game-597623
LOCATION:East Central YMCA Court
BEGIN:VALARM
TRIGGER:-P2H
ACTION:DISPLAY
DESCRIPTION:Team Vandenschrick (OW) vs Team Iverson (DA)
END:VALARM
END:VEVENT
BEGIN:VEVENT
UID:tandy-597626@ygametime.com
DTSTAMP:20260425T153000Z
DTSTART;TZID=America/Chicago:20260425T103000
DURATION:PT0H60M0S
SUMMARY:Team Dauphin (TA) vs Team Vandenschrick (OW)
DESCRIPTION:11-12 Boys | Thunder Youth Basketball\nTandy Family YMCA\n
URL;VALUE=URI:https://ygametime.com/branch/tandy/sports/2026-spring-thunder-youth-basketball/25503/?utm_medium=calendar&utm_source=team_cal&utm_content=league_url#game-597626
LOCATION:East Central YMCA Court
BEGIN:VALARM
TRIGGER:-P2H
ACTION:DISPLAY
DESCRIPTION:Team Dauphin (TA) vs Team Vandenschrick (OW)
END:VALARM
END:VEVENT
BEGIN:VEVENT
UID:tandy-597631@ygametime.com
DTSTAMP:20260425T163000Z
DTSTART;TZID=America/Chicago:20260425T113000
DURATION:PT0H60M0S
SUMMARY:Team Porter (TA) vs Team Vandenschrick (OW)
DESCRIPTION:11-12 Boys | Thunder Youth Basketball\nTandy Family YMCA\n
URL;VALUE=URI:https://ygametime.com/branch/tandy/sports/2026-spring-thunder-youth-basketball/25503/?utm_medium=calendar&utm_source=team_cal&utm_content=league_url#game-597631
LOCATION:East Central YMCA Court
BEGIN:VALARM
TRIGGER:-P2H
ACTION:DISPLAY
DESCRIPTION:Team Porter (TA) vs Team Vandenschrick (OW)
END:VALARM
END:VEVENT
BEGIN:VEVENT
UID:tandy-597636@ygametime.com
DTSTAMP:20260502T153000Z
DTSTART;TZID=America/Chicago:20260502T103000
DURATION:PT0H60M0S
SUMMARY:Team Vandenschrick (OW) vs Team Smith (TA)
DESCRIPTION:11-12 Boys | Thunder Youth Basketball\nTandy Family YMCA\n
URL;VALUE=URI:https://ygametime.com/branch/tandy/sports/2026-spring-thunder-youth-basketball/25503/?utm_medium=calendar&utm_source=team_cal&utm_content=league_url#game-597636
LOCATION:East Central YMCA Court
BEGIN:VALARM
TRIGGER:-P2H
ACTION:DISPLAY
DESCRIPTION:Team Vandenschrick (OW) vs Team Smith (TA)
END:VALARM
END:VEVENT
BEGIN:VEVENT
UID:tandy-597646@ygametime.com
DTSTAMP:20260502T163000Z
DTSTART;TZID=America/Chicago:20260502T113000
DURATION:PT0H60M0S
SUMMARY:Team Vandenschrick (OW) vs Team Haney (DA)
DESCRIPTION:11-12 Boys | Thunder Youth Basketball\nTandy Family YMCA\n
URL;VALUE=URI:https://ygametime.com/branch/tandy/sports/2026-spring-thunder-youth-basketball/25503/?utm_medium=calendar&utm_source=team_cal&utm_content=league_url#game-597646
LOCATION:East Central YMCA Court
BEGIN:VALARM
TRIGGER:-P2H
ACTION:DISPLAY
DESCRIPTION:Team Vandenschrick (OW) vs Team Haney (DA)
END:VALARM
END:VEVENT
BEGIN:VEVENT
UID:tandy-597641@ygametime.com
DTSTAMP:20260509T153000Z
DTSTART;TZID=America/Chicago:20260509T103000
DURATION:PT0H60M0S
SUMMARY:Team Wheeler (HT) vs Team Vandenschrick (OW)
DESCRIPTION:11-12 Boys | Thunder Youth Basketball\nTandy Family YMCA\n
URL;VALUE=URI:https://ygametime.com/branch/tandy/sports/2026-spring-thunder-youth-basketball/25503/?utm_medium=calendar&utm_source=team_cal&utm_content=league_url#game-597641
LOCATION:East Central YMCA Court
BEGIN:VALARM
TRIGGER:-P2H
ACTION:DISPLAY
DESCRIPTION:Team Wheeler (HT) vs Team Vandenschrick (OW)
END:VALARM
END:VEVENT
END:VCALENDAR

