BEGIN:VCALENDAR
VERSION:2.0
PRODID:-//YGAMETIME.com//YGT iCal Creator//EN
METHOD:PUBLISH
X-PUBLISHED-TTL:PT6H
REFRESH-INTERVAL;VALUE=DURATION:PT6H
CALSCALE:GREGORIAN
X-WR-CALNAME:YGAMETIME CALENDAR
BEGIN:VTIMEZONE
TZID:America/Chicago
X-LIC-LOCATION:America/Chicago
BEGIN:DAYLIGHT
TZOFFSETFROM:-0600
TZOFFSETTO:-0500
TZNAME:CDT
DTSTART:19700308T020000
RRULE:FREQ=YEARLY;BYMONTH=3;BYDAY=2SU
END:DAYLIGHT
BEGIN:STANDARD
TZOFFSETFROM:-0500
TZOFFSETTO:-0600
TZNAME:CST
DTSTART:19701101T020000
RRULE:FREQ=YEARLY;BYMONTH=11;BYDAY=1SU
END:STANDARD
END:VTIMEZONE
BEGIN:VEVENT
UID:tandy-598107@ygametime.com
DTSTAMP:20260328T133000Z
DTSTART;TZID=America/Chicago:20260328T083000
DURATION:PT0H60M0S
SUMMARY:Team Kelly United (HK) vs Guardians 7 (TA)
DESCRIPTION:12-14 | Youth Volleyball\nTandy Family YMCA\n
URL;VALUE=URI:https://ygametime.com/branch/tandy/sports/2026-spring-youth-volleyball/25512/?utm_medium=calendar&utm_source=team_cal&utm_content=league_url#game-598107
LOCATION:HERMAN & KATE YMCA Court 1 
BEGIN:VALARM
TRIGGER:-P2H
ACTION:DISPLAY
DESCRIPTION:Team Kelly United (HK) vs Guardians 7 (TA)
END:VALARM
END:VEVENT
BEGIN:VEVENT
UID:tandy-598154@ygametime.com
DTSTAMP:20260404T163000Z
DTSTART;TZID=America/Chicago:20260404T113000
DURATION:PT0H60M0S
SUMMARY:Team Nichols (TA) vs Team Kelly United (HK)
DESCRIPTION:12-14 | Youth Volleyball\nTandy Family YMCA\n
URL;VALUE=URI:https://ygametime.com/branch/tandy/sports/2026-spring-youth-volleyball/25512/?utm_medium=calendar&utm_source=team_cal&utm_content=league_url#game-598154
LOCATION:HERMAN & KATE YMCA Court 1 
BEGIN:VALARM
TRIGGER:-P2H
ACTION:DISPLAY
DESCRIPTION:Team Nichols (TA) vs Team Kelly United (HK)
END:VALARM
END:VEVENT
BEGIN:VEVENT
UID:tandy-598153@ygametime.com
DTSTAMP:20260411T143000Z
DTSTART;TZID=America/Chicago:20260411T093000
DURATION:PT0H60M0S
SUMMARY:Team Kelly United (HK) vs Team West (TA)
DESCRIPTION:12-14 | Youth Volleyball\nTandy Family YMCA\n
URL;VALUE=URI:https://ygametime.com/branch/tandy/sports/2026-spring-youth-volleyball/25512/?utm_medium=calendar&utm_source=team_cal&utm_content=league_url#game-598153
LOCATION:HERMAN & KATE YMCA Court 1 
BEGIN:VALARM
TRIGGER:-P2H
ACTION:DISPLAY
DESCRIPTION:Team Kelly United (HK) vs Team West (TA)
END:VALARM
END:VEVENT
BEGIN:VEVENT
UID:tandy-598125@ygametime.com
DTSTAMP:20260418T133000Z
DTSTART;TZID=America/Chicago:20260418T083000
DURATION:PT0H60M0S
SUMMARY:Team Dynamite (TA) vs Team Kelly United (HK)
DESCRIPTION:12-14 | Youth Volleyball\nTandy Family YMCA\n
URL;VALUE=URI:https://ygametime.com/branch/tandy/sports/2026-spring-youth-volleyball/25512/?utm_medium=calendar&utm_source=team_cal&utm_content=league_url#game-598125
LOCATION:HERMAN & KATE YMCA Court 1 
BEGIN:VALARM
TRIGGER:-P2H
ACTION:DISPLAY
DESCRIPTION:Team Dynamite (TA) vs Team Kelly United (HK)
END:VALARM
END:VEVENT
BEGIN:VEVENT
UID:tandy-598121@ygametime.com
DTSTAMP:20260418T143000Z
DTSTART;TZID=America/Chicago:20260418T093000
DURATION:PT0H60M0S
SUMMARY:Team Kelly United (HK) vs Team Weierbach (TA)
DESCRIPTION:12-14 | Youth Volleyball\nTandy Family YMCA\n
URL;VALUE=URI:https://ygametime.com/branch/tandy/sports/2026-spring-youth-volleyball/25512/?utm_medium=calendar&utm_source=team_cal&utm_content=league_url#game-598121
LOCATION:HERMAN & KATE YMCA Court 1 
BEGIN:VALARM
TRIGGER:-P2H
ACTION:DISPLAY
DESCRIPTION:Team Kelly United (HK) vs Team Weierbach (TA)
END:VALARM
END:VEVENT
BEGIN:VEVENT
UID:tandy-598136@ygametime.com
DTSTAMP:20260502T163000Z
DTSTART;TZID=America/Chicago:20260502T113000
DURATION:PT0H60M0S
SUMMARY:Team Kelly United (HK) vs Team Murray (TA)
DESCRIPTION:12-14 | Youth Volleyball\nTandy Family YMCA\n
URL;VALUE=URI:https://ygametime.com/branch/tandy/sports/2026-spring-youth-volleyball/25512/?utm_medium=calendar&utm_source=team_cal&utm_content=league_url#game-598136
LOCATION:HERMAN & KATE YMCA Court 1 
BEGIN:VALARM
TRIGGER:-P2H
ACTION:DISPLAY
DESCRIPTION:Team Kelly United (HK) vs Team Murray (TA)
END:VALARM
END:VEVENT
BEGIN:VEVENT
UID:tandy-598142@ygametime.com
DTSTAMP:20260509T143000Z
DTSTART;TZID=America/Chicago:20260509T093000
DURATION:PT0H60M0S
SUMMARY:Guardians 6 (TA) vs Team Kelly United (HK)
DESCRIPTION:12-14 | Youth Volleyball\nTandy Family YMCA\n
URL;VALUE=URI:https://ygametime.com/branch/tandy/sports/2026-spring-youth-volleyball/25512/?utm_medium=calendar&utm_source=team_cal&utm_content=league_url#game-598142
LOCATION:HERMAN & KATE YMCA Court 1 
BEGIN:VALARM
TRIGGER:-P2H
ACTION:DISPLAY
DESCRIPTION:Guardians 6 (TA) vs Team Kelly United (HK)
END:VALARM
END:VEVENT
BEGIN:VEVENT
UID:tandy-598131@ygametime.com
DTSTAMP:20260509T153000Z
DTSTART;TZID=America/Chicago:20260509T103000
DURATION:PT0H60M0S
SUMMARY:Team Kelly Titans (HK) vs Team Kelly United (HK)
DESCRIPTION:12-14 | Youth Volleyball\nTandy Family YMCA\n
URL;VALUE=URI:https://ygametime.com/branch/tandy/sports/2026-spring-youth-volleyball/25512/?utm_medium=calendar&utm_source=team_cal&utm_content=league_url#game-598131
LOCATION:HERMAN & KATE YMCA Court 1 
BEGIN:VALARM
TRIGGER:-P2H
ACTION:DISPLAY
DESCRIPTION:Team Kelly Titans (HK) vs Team Kelly United (HK)
END:VALARM
END:VEVENT
END:VCALENDAR

