BEGIN:VCALENDAR
VERSION:2.0
PRODID:-//YGAMETIME.com//YGT iCal Creator//EN
METHOD:PUBLISH
X-PUBLISHED-TTL:PT6H
REFRESH-INTERVAL;VALUE=DURATION:PT6H
CALSCALE:GREGORIAN
X-WR-CALNAME:YGAMETIME CALENDAR
BEGIN:VTIMEZONE
TZID:America/Chicago
X-LIC-LOCATION:America/Chicago
BEGIN:DAYLIGHT
TZOFFSETFROM:-0600
TZOFFSETTO:-0500
TZNAME:CDT
DTSTART:19700308T020000
RRULE:FREQ=YEARLY;BYMONTH=3;BYDAY=2SU
END:DAYLIGHT
BEGIN:STANDARD
TZOFFSETFROM:-0500
TZOFFSETTO:-0600
TZNAME:CST
DTSTART:19701101T020000
RRULE:FREQ=YEARLY;BYMONTH=11;BYDAY=1SU
END:STANDARD
END:VTIMEZONE
BEGIN:VEVENT
UID:tandy-598108@ygametime.com
DTSTAMP:20260328T143000Z
DTSTART;TZID=America/Chicago:20260328T093000
DURATION:PT0H60M0S
SUMMARY:Guardians 6 (TA) vs Team Kelly Storm (HK)
DESCRIPTION:12-14 | Youth Volleyball\nTandy Family YMCA\n
URL;VALUE=URI:https://ygametime.com/branch/tandy/sports/2026-spring-youth-volleyball/25512/?utm_medium=calendar&utm_source=team_cal&utm_content=league_url#game-598108
LOCATION:HERMAN & KATE YMCA Court 1 
BEGIN:VALARM
TRIGGER:-P2H
ACTION:DISPLAY
DESCRIPTION:Guardians 6 (TA) vs Team Kelly Storm (HK)
END:VALARM
END:VEVENT
BEGIN:VEVENT
UID:tandy-598113@ygametime.com
DTSTAMP:20260404T143000Z
DTSTART;TZID=America/Chicago:20260404T093000
DURATION:PT0H60M0S
SUMMARY:Guardians 7 (TA) vs Team Kelly Storm (HK)
DESCRIPTION:12-14 | Youth Volleyball\nTandy Family YMCA\n
URL;VALUE=URI:https://ygametime.com/branch/tandy/sports/2026-spring-youth-volleyball/25512/?utm_medium=calendar&utm_source=team_cal&utm_content=league_url#game-598113
LOCATION:HERMAN & KATE YMCA Court 1 
BEGIN:VALARM
TRIGGER:-P2H
ACTION:DISPLAY
DESCRIPTION:Guardians 7 (TA) vs Team Kelly Storm (HK)
END:VALARM
END:VEVENT
BEGIN:VEVENT
UID:tandy-598111@ygametime.com
DTSTAMP:20260404T153000Z
DTSTART;TZID=America/Chicago:20260404T103000
DURATION:PT0H60M0S
SUMMARY:Team West (TA) vs Team Kelly Storm (HK)
DESCRIPTION:12-14 | Youth Volleyball\nTandy Family YMCA\n
URL;VALUE=URI:https://ygametime.com/branch/tandy/sports/2026-spring-youth-volleyball/25512/?utm_medium=calendar&utm_source=team_cal&utm_content=league_url#game-598111
LOCATION:HERMAN & KATE YMCA Court 1 
BEGIN:VALARM
TRIGGER:-P2H
ACTION:DISPLAY
DESCRIPTION:Team West (TA) vs Team Kelly Storm (HK)
END:VALARM
END:VEVENT
BEGIN:VEVENT
UID:tandy-598116@ygametime.com
DTSTAMP:20260411T133000Z
DTSTART;TZID=America/Chicago:20260411T083000
DURATION:PT0H60M0S
SUMMARY:Team Nichols (TA) vs Team Kelly Storm (HK)
DESCRIPTION:12-14 | Youth Volleyball\nTandy Family YMCA\n
URL;VALUE=URI:https://ygametime.com/branch/tandy/sports/2026-spring-youth-volleyball/25512/?utm_medium=calendar&utm_source=team_cal&utm_content=league_url#game-598116
LOCATION:HERMAN & KATE YMCA Court 1 
BEGIN:VALARM
TRIGGER:-P2H
ACTION:DISPLAY
DESCRIPTION:Team Nichols (TA) vs Team Kelly Storm (HK)
END:VALARM
END:VEVENT
BEGIN:VEVENT
UID:tandy-598126@ygametime.com
DTSTAMP:20260418T163000Z
DTSTART;TZID=America/Chicago:20260418T113000
DURATION:PT0H60M0S
SUMMARY:Team Kelly Storm (HK) vs Team OneHope (TA)
DESCRIPTION:12-14 | Youth Volleyball\nTandy Family YMCA\n
URL;VALUE=URI:https://ygametime.com/branch/tandy/sports/2026-spring-youth-volleyball/25512/?utm_medium=calendar&utm_source=team_cal&utm_content=league_url#game-598126
LOCATION:HERMAN & KATE YMCA Court 1 
BEGIN:VALARM
TRIGGER:-P2H
ACTION:DISPLAY
DESCRIPTION:Team Kelly Storm (HK) vs Team OneHope (TA)
END:VALARM
END:VEVENT
BEGIN:VEVENT
UID:tandy-598130@ygametime.com
DTSTAMP:20260425T133000Z
DTSTART;TZID=America/Chicago:20260425T083000
DURATION:PT0H60M0S
SUMMARY:Team Kelly Storm (HK) vs Team Dynamite (TA)
DESCRIPTION:12-14 | Youth Volleyball\nTandy Family YMCA\n
URL;VALUE=URI:https://ygametime.com/branch/tandy/sports/2026-spring-youth-volleyball/25512/?utm_medium=calendar&utm_source=team_cal&utm_content=league_url#game-598130
LOCATION:HERMAN & KATE YMCA Court 1 
BEGIN:VALARM
TRIGGER:-P2H
ACTION:DISPLAY
DESCRIPTION:Team Kelly Storm (HK) vs Team Dynamite (TA)
END:VALARM
END:VEVENT
BEGIN:VEVENT
UID:tandy-598152@ygametime.com
DTSTAMP:20260502T143000Z
DTSTART;TZID=America/Chicago:20260502T093000
DURATION:PT0H60M0S
SUMMARY:Team Price (TA) vs Team Kelly Storm (HK)
DESCRIPTION:12-14 | Youth Volleyball\nTandy Family YMCA\n
URL;VALUE=URI:https://ygametime.com/branch/tandy/sports/2026-spring-youth-volleyball/25512/?utm_medium=calendar&utm_source=team_cal&utm_content=league_url#game-598152
LOCATION:HERMAN & KATE YMCA Court 1 
BEGIN:VALARM
TRIGGER:-P2H
ACTION:DISPLAY
DESCRIPTION:Team Price (TA) vs Team Kelly Storm (HK)
END:VALARM
END:VEVENT
BEGIN:VEVENT
UID:tandy-598141@ygametime.com
DTSTAMP:20260509T133000Z
DTSTART;TZID=America/Chicago:20260509T083000
DURATION:PT0H60M0S
SUMMARY:Team Kelly Storm (HK) vs Team Claw (TA)
DESCRIPTION:12-14 | Youth Volleyball\nTandy Family YMCA\n
URL;VALUE=URI:https://ygametime.com/branch/tandy/sports/2026-spring-youth-volleyball/25512/?utm_medium=calendar&utm_source=team_cal&utm_content=league_url#game-598141
LOCATION:HERMAN & KATE YMCA Court 1 
BEGIN:VALARM
TRIGGER:-P2H
ACTION:DISPLAY
DESCRIPTION:Team Kelly Storm (HK) vs Team Claw (TA)
END:VALARM
END:VEVENT
END:VCALENDAR

