BEGIN:VCALENDAR
VERSION:2.0
PRODID:-//YGAMETIME.com//YGT iCal Creator//EN
METHOD:PUBLISH
X-PUBLISHED-TTL:PT6H
REFRESH-INTERVAL;VALUE=DURATION:PT6H
CALSCALE:GREGORIAN
X-WR-CALNAME:YGAMETIME CALENDAR
BEGIN:VTIMEZONE
TZID:America/Chicago
X-LIC-LOCATION:America/Chicago
BEGIN:DAYLIGHT
TZOFFSETFROM:-0600
TZOFFSETTO:-0500
TZNAME:CDT
DTSTART:19700308T020000
RRULE:FREQ=YEARLY;BYMONTH=3;BYDAY=2SU
END:DAYLIGHT
BEGIN:STANDARD
TZOFFSETFROM:-0500
TZOFFSETTO:-0600
TZNAME:CST
DTSTART:19701101T020000
RRULE:FREQ=YEARLY;BYMONTH=11;BYDAY=1SU
END:STANDARD
END:VTIMEZONE
BEGIN:VEVENT
UID:tandy-598243@ygametime.com
DTSTAMP:20260328T183000Z
DTSTART;TZID=America/Chicago:20260328T133000
DURATION:PT0H60M0S
SUMMARY:Team Mercer (DA) vs Team Underdogs (TA)
DESCRIPTION:11-12 Girls | Thunder Youth Basketball\nTandy Family YMCA\n
URL;VALUE=URI:https://ygametime.com/branch/tandy/sports/2026-spring-thunder-youth-basketball/25506/?utm_medium=calendar&utm_source=team_cal&utm_content=league_url#game-598243
LOCATION:East Central YMCA Court
BEGIN:VALARM
TRIGGER:-P2H
ACTION:DISPLAY
DESCRIPTION:Team Mercer (DA) vs Team Underdogs (TA)
END:VALARM
END:VEVENT
BEGIN:VEVENT
UID:tandy-598257@ygametime.com
DTSTAMP:20260328T203000Z
DTSTART;TZID=America/Chicago:20260328T153000
DURATION:PT0H60M0S
SUMMARY:Team Kelly (HT) vs Team Mercer (DA)
DESCRIPTION:11-12 Girls | Thunder Youth Basketball\nTandy Family YMCA\n
URL;VALUE=URI:https://ygametime.com/branch/tandy/sports/2026-spring-thunder-youth-basketball/25506/?utm_medium=calendar&utm_source=team_cal&utm_content=league_url#game-598257
LOCATION:East Central YMCA Court
BEGIN:VALARM
TRIGGER:-P2H
ACTION:DISPLAY
DESCRIPTION:Team Kelly (HT) vs Team Mercer (DA)
END:VALARM
END:VEVENT
BEGIN:VEVENT
UID:tandy-598245@ygametime.com
DTSTAMP:20260404T193000Z
DTSTART;TZID=America/Chicago:20260404T143000
DURATION:PT0H60M0S
SUMMARY:Team Kelly (HT) vs Team Mercer (DA)
DESCRIPTION:11-12 Girls | Thunder Youth Basketball\nTandy Family YMCA\n
URL;VALUE=URI:https://ygametime.com/branch/tandy/sports/2026-spring-thunder-youth-basketball/25506/?utm_medium=calendar&utm_source=team_cal&utm_content=league_url#game-598245
LOCATION:East Central YMCA Court
BEGIN:VALARM
TRIGGER:-P2H
ACTION:DISPLAY
DESCRIPTION:Team Kelly (HT) vs Team Mercer (DA)
END:VALARM
END:VEVENT
BEGIN:VEVENT
UID:tandy-598248@ygametime.com
DTSTAMP:20260411T203000Z
DTSTART;TZID=America/Chicago:20260411T153000
DURATION:PT0H60M0S
SUMMARY:Team Mercer (DA) vs Team Smith (DA)
DESCRIPTION:11-12 Girls | Thunder Youth Basketball\nTandy Family YMCA\n
URL;VALUE=URI:https://ygametime.com/branch/tandy/sports/2026-spring-thunder-youth-basketball/25506/?utm_medium=calendar&utm_source=team_cal&utm_content=league_url#game-598248
LOCATION:East Central YMCA Court
BEGIN:VALARM
TRIGGER:-P2H
ACTION:DISPLAY
DESCRIPTION:Team Mercer (DA) vs Team Smith (DA)
END:VALARM
END:VEVENT
BEGIN:VEVENT
UID:tandy-598250@ygametime.com
DTSTAMP:20260418T203000Z
DTSTART;TZID=America/Chicago:20260418T153000
DURATION:PT0H60M0S
SUMMARY:Team Mercer (DA) vs Team Underdogs (TA)
DESCRIPTION:11-12 Girls | Thunder Youth Basketball\nTandy Family YMCA\n
URL;VALUE=URI:https://ygametime.com/branch/tandy/sports/2026-spring-thunder-youth-basketball/25506/?utm_medium=calendar&utm_source=team_cal&utm_content=league_url#game-598250
LOCATION:East Central YMCA Court
BEGIN:VALARM
TRIGGER:-P2H
ACTION:DISPLAY
DESCRIPTION:Team Mercer (DA) vs Team Underdogs (TA)
END:VALARM
END:VEVENT
BEGIN:VEVENT
UID:tandy-598252@ygametime.com
DTSTAMP:20260425T203000Z
DTSTART;TZID=America/Chicago:20260425T153000
DURATION:PT0H60M0S
SUMMARY:Team Kelly (HT) vs Team Mercer (DA)
DESCRIPTION:11-12 Girls | Thunder Youth Basketball\nTandy Family YMCA\n
URL;VALUE=URI:https://ygametime.com/branch/tandy/sports/2026-spring-thunder-youth-basketball/25506/?utm_medium=calendar&utm_source=team_cal&utm_content=league_url#game-598252
LOCATION:East Central YMCA Court
BEGIN:VALARM
TRIGGER:-P2H
ACTION:DISPLAY
DESCRIPTION:Team Kelly (HT) vs Team Mercer (DA)
END:VALARM
END:VEVENT
BEGIN:VEVENT
UID:tandy-598253@ygametime.com
DTSTAMP:20260502T193000Z
DTSTART;TZID=America/Chicago:20260502T143000
DURATION:PT0H60M0S
SUMMARY:Team Mercer (DA) vs Team Smith (DA)
DESCRIPTION:11-12 Girls | Thunder Youth Basketball\nTandy Family YMCA\n
URL;VALUE=URI:https://ygametime.com/branch/tandy/sports/2026-spring-thunder-youth-basketball/25506/?utm_medium=calendar&utm_source=team_cal&utm_content=league_url#game-598253
LOCATION:East Central YMCA Court
BEGIN:VALARM
TRIGGER:-P2H
ACTION:DISPLAY
DESCRIPTION:Team Mercer (DA) vs Team Smith (DA)
END:VALARM
END:VEVENT
BEGIN:VEVENT
UID:tandy-598255@ygametime.com
DTSTAMP:20260509T183000Z
DTSTART;TZID=America/Chicago:20260509T133000
DURATION:PT0H60M0S
SUMMARY:Team Mercer (DA) vs Team Underdogs (TA)
DESCRIPTION:11-12 Girls | Thunder Youth Basketball\nTandy Family YMCA\n
URL;VALUE=URI:https://ygametime.com/branch/tandy/sports/2026-spring-thunder-youth-basketball/25506/?utm_medium=calendar&utm_source=team_cal&utm_content=league_url#game-598255
LOCATION:East Central YMCA Court
BEGIN:VALARM
TRIGGER:-P2H
ACTION:DISPLAY
DESCRIPTION:Team Mercer (DA) vs Team Underdogs (TA)
END:VALARM
END:VEVENT
END:VCALENDAR

