BEGIN:VCALENDAR
VERSION:2.0
PRODID:-//YGAMETIME.com//YGT iCal Creator//EN
METHOD:PUBLISH
X-PUBLISHED-TTL:PT6H
REFRESH-INTERVAL;VALUE=DURATION:PT6H
CALSCALE:GREGORIAN
X-WR-CALNAME:YGAMETIME CALENDAR
BEGIN:VTIMEZONE
TZID:America/Chicago
X-LIC-LOCATION:America/Chicago
BEGIN:DAYLIGHT
TZOFFSETFROM:-0600
TZOFFSETTO:-0500
TZNAME:CDT
DTSTART:19700308T020000
RRULE:FREQ=YEARLY;BYMONTH=3;BYDAY=2SU
END:DAYLIGHT
BEGIN:STANDARD
TZOFFSETFROM:-0500
TZOFFSETTO:-0600
TZNAME:CST
DTSTART:19701101T020000
RRULE:FREQ=YEARLY;BYMONTH=11;BYDAY=1SU
END:STANDARD
END:VTIMEZONE
BEGIN:VEVENT
UID:tandy-598244@ygametime.com
DTSTAMP:20260328T193000Z
DTSTART;TZID=America/Chicago:20260328T143000
DURATION:PT0H60M0S
SUMMARY:Team Smith (DA) vs Team Kelly (HT)
DESCRIPTION:11-12 Girls | Thunder Youth Basketball\nTandy Family YMCA\n
URL;VALUE=URI:https://ygametime.com/branch/tandy/sports/2026-spring-thunder-youth-basketball/25506/?utm_medium=calendar&utm_source=team_cal&utm_content=league_url#game-598244
LOCATION:East Central YMCA Court
BEGIN:VALARM
TRIGGER:-P2H
ACTION:DISPLAY
DESCRIPTION:Team Smith (DA) vs Team Kelly (HT)
END:VALARM
END:VEVENT
BEGIN:VEVENT
UID:tandy-598246@ygametime.com
DTSTAMP:20260404T203000Z
DTSTART;TZID=America/Chicago:20260404T153000
DURATION:PT0H60M0S
SUMMARY:Team Underdogs (TA) vs Team Smith (DA)
DESCRIPTION:11-12 Girls | Thunder Youth Basketball\nTandy Family YMCA\n
URL;VALUE=URI:https://ygametime.com/branch/tandy/sports/2026-spring-thunder-youth-basketball/25506/?utm_medium=calendar&utm_source=team_cal&utm_content=league_url#game-598246
LOCATION:East Central YMCA Court
BEGIN:VALARM
TRIGGER:-P2H
ACTION:DISPLAY
DESCRIPTION:Team Underdogs (TA) vs Team Smith (DA)
END:VALARM
END:VEVENT
BEGIN:VEVENT
UID:tandy-598248@ygametime.com
DTSTAMP:20260411T203000Z
DTSTART;TZID=America/Chicago:20260411T153000
DURATION:PT0H60M0S
SUMMARY:Team Mercer (DA) vs Team Smith (DA)
DESCRIPTION:11-12 Girls | Thunder Youth Basketball\nTandy Family YMCA\n
URL;VALUE=URI:https://ygametime.com/branch/tandy/sports/2026-spring-thunder-youth-basketball/25506/?utm_medium=calendar&utm_source=team_cal&utm_content=league_url#game-598248
LOCATION:East Central YMCA Court
BEGIN:VALARM
TRIGGER:-P2H
ACTION:DISPLAY
DESCRIPTION:Team Mercer (DA) vs Team Smith (DA)
END:VALARM
END:VEVENT
BEGIN:VEVENT
UID:tandy-598249@ygametime.com
DTSTAMP:20260418T193000Z
DTSTART;TZID=America/Chicago:20260418T143000
DURATION:PT0H60M0S
SUMMARY:Team Smith (DA) vs Team Kelly (HT)
DESCRIPTION:11-12 Girls | Thunder Youth Basketball\nTandy Family YMCA\n
URL;VALUE=URI:https://ygametime.com/branch/tandy/sports/2026-spring-thunder-youth-basketball/25506/?utm_medium=calendar&utm_source=team_cal&utm_content=league_url#game-598249
LOCATION:East Central YMCA Court
BEGIN:VALARM
TRIGGER:-P2H
ACTION:DISPLAY
DESCRIPTION:Team Smith (DA) vs Team Kelly (HT)
END:VALARM
END:VEVENT
BEGIN:VEVENT
UID:tandy-598251@ygametime.com
DTSTAMP:20260425T193000Z
DTSTART;TZID=America/Chicago:20260425T143000
DURATION:PT0H60M0S
SUMMARY:Team Underdogs (TA) vs Team Smith (DA)
DESCRIPTION:11-12 Girls | Thunder Youth Basketball\nTandy Family YMCA\n
URL;VALUE=URI:https://ygametime.com/branch/tandy/sports/2026-spring-thunder-youth-basketball/25506/?utm_medium=calendar&utm_source=team_cal&utm_content=league_url#game-598251
LOCATION:East Central YMCA Court
BEGIN:VALARM
TRIGGER:-P2H
ACTION:DISPLAY
DESCRIPTION:Team Underdogs (TA) vs Team Smith (DA)
END:VALARM
END:VEVENT
BEGIN:VEVENT
UID:tandy-598253@ygametime.com
DTSTAMP:20260502T193000Z
DTSTART;TZID=America/Chicago:20260502T143000
DURATION:PT0H60M0S
SUMMARY:Team Mercer (DA) vs Team Smith (DA)
DESCRIPTION:11-12 Girls | Thunder Youth Basketball\nTandy Family YMCA\n
URL;VALUE=URI:https://ygametime.com/branch/tandy/sports/2026-spring-thunder-youth-basketball/25506/?utm_medium=calendar&utm_source=team_cal&utm_content=league_url#game-598253
LOCATION:East Central YMCA Court
BEGIN:VALARM
TRIGGER:-P2H
ACTION:DISPLAY
DESCRIPTION:Team Mercer (DA) vs Team Smith (DA)
END:VALARM
END:VEVENT
BEGIN:VEVENT
UID:tandy-598256@ygametime.com
DTSTAMP:20260509T193000Z
DTSTART;TZID=America/Chicago:20260509T143000
DURATION:PT0H60M0S
SUMMARY:Team Smith (DA) vs Team Kelly (HT)
DESCRIPTION:11-12 Girls | Thunder Youth Basketball\nTandy Family YMCA\n
URL;VALUE=URI:https://ygametime.com/branch/tandy/sports/2026-spring-thunder-youth-basketball/25506/?utm_medium=calendar&utm_source=team_cal&utm_content=league_url#game-598256
LOCATION:East Central YMCA Court
BEGIN:VALARM
TRIGGER:-P2H
ACTION:DISPLAY
DESCRIPTION:Team Smith (DA) vs Team Kelly (HT)
END:VALARM
END:VEVENT
BEGIN:VEVENT
UID:tandy-598258@ygametime.com
DTSTAMP:20260509T203000Z
DTSTART;TZID=America/Chicago:20260509T153000
DURATION:PT0H60M0S
SUMMARY:Team Underdogs (TA) vs Team Smith (DA)
DESCRIPTION:11-12 Girls | Thunder Youth Basketball\nTandy Family YMCA\n
URL;VALUE=URI:https://ygametime.com/branch/tandy/sports/2026-spring-thunder-youth-basketball/25506/?utm_medium=calendar&utm_source=team_cal&utm_content=league_url#game-598258
LOCATION:East Central YMCA Court
BEGIN:VALARM
TRIGGER:-P2H
ACTION:DISPLAY
DESCRIPTION:Team Underdogs (TA) vs Team Smith (DA)
END:VALARM
END:VEVENT
END:VCALENDAR

