BEGIN:VCALENDAR
VERSION:2.0
PRODID:-//YGAMETIME.com//YGT iCal Creator//EN
METHOD:PUBLISH
X-PUBLISHED-TTL:PT6H
REFRESH-INTERVAL;VALUE=DURATION:PT6H
CALSCALE:GREGORIAN
X-WR-CALNAME:YGAMETIME CALENDAR
BEGIN:VEVENT
UID:trilakes-472983@ygametime.com
DTSTAMP:20240622T150000Z
DTSTART;TZID=America/Denver:20240622T090000
DURATION:PT0H60M0S
SUMMARY:B. Wednesday 6:30 Mike/Seth Main Gym  vs C. Thursday 5:30 Main Gym Coach Nick
DESCRIPTION:1/2nd Grade Co Ed | Summer Basketball\nTriLakes YMCA\n
URL;VALUE=URI:https://ygametime.com/branch/trilakes/sports/2024-summer-summer-basketball/20103/?utm_medium=calendar&utm_source=team_cal&utm_content=league_url#game-472983
LOCATION:Tri-Lakes North Gym
BEGIN:VALARM
TRIGGER:-P2H
ACTION:DISPLAY
DESCRIPTION:B. Wednesday 6:30 Mike/Seth Main Gym  vs C. Thursday 5:30 Main Gym Coach Nick
END:VALARM
END:VEVENT
BEGIN:VEVENT
UID:trilakes-472984@ygametime.com
DTSTAMP:20240629T150000Z
DTSTART;TZID=America/Denver:20240629T090000
DURATION:PT0H60M0S
SUMMARY:C. Thursday 5:30 Main Gym Coach Nick vs B. Wednesday 6:30 Mike/Seth Main Gym 
DESCRIPTION:1/2nd Grade Co Ed | Summer Basketball\nTriLakes YMCA\n
URL;VALUE=URI:https://ygametime.com/branch/trilakes/sports/2024-summer-summer-basketball/20103/?utm_medium=calendar&utm_source=team_cal&utm_content=league_url#game-472984
LOCATION:Tri-Lakes North Gym
BEGIN:VALARM
TRIGGER:-P2H
ACTION:DISPLAY
DESCRIPTION:C. Thursday 5:30 Main Gym Coach Nick vs B. Wednesday 6:30 Mike/Seth Main Gym 
END:VALARM
END:VEVENT
BEGIN:VEVENT
UID:trilakes-472986@ygametime.com
DTSTAMP:20240713T150000Z
DTSTART;TZID=America/Denver:20240713T090000
DURATION:PT0H60M0S
SUMMARY:B. Wednesday 6:30 Mike/Seth Main Gym  vs C. Thursday 5:30 Main Gym Coach Nick
DESCRIPTION:1/2nd Grade Co Ed | Summer Basketball\nTriLakes YMCA\n
URL;VALUE=URI:https://ygametime.com/branch/trilakes/sports/2024-summer-summer-basketball/20103/?utm_medium=calendar&utm_source=team_cal&utm_content=league_url#game-472986
LOCATION:Tri-Lakes North Gym
BEGIN:VALARM
TRIGGER:-P2H
ACTION:DISPLAY
DESCRIPTION:B. Wednesday 6:30 Mike/Seth Main Gym  vs C. Thursday 5:30 Main Gym Coach Nick
END:VALARM
END:VEVENT
BEGIN:VEVENT
UID:trilakes-472987@ygametime.com
DTSTAMP:20240720T150000Z
DTSTART;TZID=America/Denver:20240720T090000
DURATION:PT0H60M0S
SUMMARY:C. Thursday 5:30 Main Gym Coach Nick vs B. Wednesday 6:30 Mike/Seth Main Gym 
DESCRIPTION:1/2nd Grade Co Ed | Summer Basketball\nTriLakes YMCA\n
URL;VALUE=URI:https://ygametime.com/branch/trilakes/sports/2024-summer-summer-basketball/20103/?utm_medium=calendar&utm_source=team_cal&utm_content=league_url#game-472987
LOCATION:Tri-Lakes North Gym
BEGIN:VALARM
TRIGGER:-P2H
ACTION:DISPLAY
DESCRIPTION:C. Thursday 5:30 Main Gym Coach Nick vs B. Wednesday 6:30 Mike/Seth Main Gym 
END:VALARM
END:VEVENT
BEGIN:VEVENT
UID:trilakes-472988@ygametime.com
DTSTAMP:20240727T150000Z
DTSTART;TZID=America/Denver:20240727T090000
DURATION:PT0H60M0S
SUMMARY:B. Wednesday 6:30 Mike/Seth Main Gym  vs C. Thursday 5:30 Main Gym Coach Nick
DESCRIPTION:1/2nd Grade Co Ed | Summer Basketball\nTriLakes YMCA\n
URL;VALUE=URI:https://ygametime.com/branch/trilakes/sports/2024-summer-summer-basketball/20103/?utm_medium=calendar&utm_source=team_cal&utm_content=league_url#game-472988
LOCATION:Tri-Lakes North Gym
BEGIN:VALARM
TRIGGER:-P2H
ACTION:DISPLAY
DESCRIPTION:B. Wednesday 6:30 Mike/Seth Main Gym  vs C. Thursday 5:30 Main Gym Coach Nick
END:VALARM
END:VEVENT
END:VCALENDAR

