BEGIN:VCALENDAR
VERSION:2.0
PRODID:-//YGAMETIME.com//YGT iCal Creator//EN
METHOD:PUBLISH
X-PUBLISHED-TTL:PT6H
REFRESH-INTERVAL;VALUE=DURATION:PT6H
CALSCALE:GREGORIAN
X-WR-CALNAME:YGAMETIME CALENDAR
BEGIN:VEVENT
UID:trilakes-468331@ygametime.com
DTSTAMP:20240615T170000Z
DTSTART;TZID=America/Denver:20240615T110000
DURATION:PT0H60M0S
SUMMARY:C. Friday 6:30 Main gym Coach English vs A. Tuesday 6:30 Main gym Coach Purdy
DESCRIPTION:3/4th Grade Co Ed | Summer Basketball\nTriLakes YMCA\n
URL;VALUE=URI:https://ygametime.com/branch/trilakes/sports/2024-summer-summer-basketball/20111/?utm_medium=calendar&utm_source=team_cal&utm_content=league_url#game-468331
LOCATION:Tri-Lakes North Gym
BEGIN:VALARM
TRIGGER:-P2H
ACTION:DISPLAY
DESCRIPTION:C. Friday 6:30 Main gym Coach English vs A. Tuesday 6:30 Main gym Coach Purdy
END:VALARM
END:VEVENT
BEGIN:VEVENT
UID:trilakes-468341@ygametime.com
DTSTAMP:20240622T170000Z
DTSTART;TZID=America/Denver:20240622T110000
DURATION:PT0H60M0S
SUMMARY:C. Friday 6:30 Main gym Coach English vs A. Tuesday 6:30 Main gym Coach Purdy
DESCRIPTION:3/4th Grade Co Ed | Summer Basketball\nTriLakes YMCA\n
URL;VALUE=URI:https://ygametime.com/branch/trilakes/sports/2024-summer-summer-basketball/20111/?utm_medium=calendar&utm_source=team_cal&utm_content=league_url#game-468341
LOCATION:Tri-Lakes North Gym
BEGIN:VALARM
TRIGGER:-P2H
ACTION:DISPLAY
DESCRIPTION:C. Friday 6:30 Main gym Coach English vs A. Tuesday 6:30 Main gym Coach Purdy
END:VALARM
END:VEVENT
BEGIN:VEVENT
UID:trilakes-468332@ygametime.com
DTSTAMP:20240622T180000Z
DTSTART;TZID=America/Denver:20240622T120000
DURATION:PT0H60M0S
SUMMARY:B. Thursday 5:30 Main gym Coach Young vs A. Tuesday 6:30 Main gym Coach Purdy
DESCRIPTION:3/4th Grade Co Ed | Summer Basketball\nTriLakes YMCA\n
URL;VALUE=URI:https://ygametime.com/branch/trilakes/sports/2024-summer-summer-basketball/20111/?utm_medium=calendar&utm_source=team_cal&utm_content=league_url#game-468332
LOCATION:Tri-Lakes North Gym
BEGIN:VALARM
TRIGGER:-P2H
ACTION:DISPLAY
DESCRIPTION:B. Thursday 5:30 Main gym Coach Young vs A. Tuesday 6:30 Main gym Coach Purdy
END:VALARM
END:VEVENT
BEGIN:VEVENT
UID:trilakes-468333@ygametime.com
DTSTAMP:20240629T170000Z
DTSTART;TZID=America/Denver:20240629T110000
DURATION:PT0H60M0S
SUMMARY:A. Tuesday 6:30 Main gym Coach Purdy vs B. Thursday 5:30 Main gym Coach Young
DESCRIPTION:3/4th Grade Co Ed | Summer Basketball\nTriLakes YMCA\n
URL;VALUE=URI:https://ygametime.com/branch/trilakes/sports/2024-summer-summer-basketball/20111/?utm_medium=calendar&utm_source=team_cal&utm_content=league_url#game-468333
LOCATION:Tri-Lakes North Gym
BEGIN:VALARM
TRIGGER:-P2H
ACTION:DISPLAY
DESCRIPTION:A. Tuesday 6:30 Main gym Coach Purdy vs B. Thursday 5:30 Main gym Coach Young
END:VALARM
END:VEVENT
BEGIN:VEVENT
UID:trilakes-468563@ygametime.com
DTSTAMP:20240629T180000Z
DTSTART;TZID=America/Denver:20240629T120000
DURATION:PT0H60M0S
SUMMARY:C. Friday 6:30 Main gym Coach English vs A. Tuesday 6:30 Main gym Coach Purdy
DESCRIPTION:3/4th Grade Co Ed | Summer Basketball\nTriLakes YMCA\n
URL;VALUE=URI:https://ygametime.com/branch/trilakes/sports/2024-summer-summer-basketball/20111/?utm_medium=calendar&utm_source=team_cal&utm_content=league_url#game-468563
LOCATION:Tri-Lakes North Gym
BEGIN:VALARM
TRIGGER:-P2H
ACTION:DISPLAY
DESCRIPTION:C. Friday 6:30 Main gym Coach English vs A. Tuesday 6:30 Main gym Coach Purdy
END:VALARM
END:VEVENT
BEGIN:VEVENT
UID:trilakes-468337@ygametime.com
DTSTAMP:20240727T170000Z
DTSTART;TZID=America/Denver:20240727T110000
DURATION:PT0H60M0S
SUMMARY:A. Tuesday 6:30 Main gym Coach Purdy vs B. Thursday 5:30 Main gym Coach Young
DESCRIPTION:3/4th Grade Co Ed | Summer Basketball\nTriLakes YMCA\n
URL;VALUE=URI:https://ygametime.com/branch/trilakes/sports/2024-summer-summer-basketball/20111/?utm_medium=calendar&utm_source=team_cal&utm_content=league_url#game-468337
LOCATION:Tri-Lakes South Gym
BEGIN:VALARM
TRIGGER:-P2H
ACTION:DISPLAY
DESCRIPTION:A. Tuesday 6:30 Main gym Coach Purdy vs B. Thursday 5:30 Main gym Coach Young
END:VALARM
END:VEVENT
END:VCALENDAR

