BEGIN:VCALENDAR
VERSION:2.0
PRODID:-//YGAMETIME.com//YGT iCal Creator//EN
METHOD:PUBLISH
X-PUBLISHED-TTL:PT6H
REFRESH-INTERVAL;VALUE=DURATION:PT6H
CALSCALE:GREGORIAN
X-WR-CALNAME:YGAMETIME CALENDAR
BEGIN:VEVENT
UID:trilakes-468667@ygametime.com
DTSTAMP:20240615T160000Z
DTSTART;TZID=America/Denver:20240615T100000
DURATION:PT0H60M0S
SUMMARY:Team 1 (red) - Tuesday 5PM Field 1 (Gold) Coach Sean vs Team 3 (green) - Monday 5pm  (Field 2) Turf Coach Doran
DESCRIPTION:1/2nd Grade Co-Ed Coaches Pitch Baseball | Baseball\nTriLakes YMCA\n
URL;VALUE=URI:https://ygametime.com/branch/trilakes/sports/2024-summer-baseball/20116/?utm_medium=calendar&utm_source=team_cal&utm_content=league_url#game-468667
LOCATION:LP Softball Field
BEGIN:VALARM
TRIGGER:-P2H
ACTION:DISPLAY
DESCRIPTION:Team 1 (red) - Tuesday 5PM Field 1 (Gold) Coach Sean vs Team 3 (green) - Monday 5pm  (Field 2) Turf Coach Doran
END:VALARM
END:VEVENT
BEGIN:VEVENT
UID:trilakes-468676@ygametime.com
DTSTAMP:20240622T150000Z
DTSTART;TZID=America/Denver:20240622T090000
DURATION:PT0H60M0S
SUMMARY:Team 1 (red) - Tuesday 5PM Field 1 (Gold) Coach Sean vs Team 3 (green) - Monday 5pm  (Field 2) Turf Coach Doran
DESCRIPTION:1/2nd Grade Co-Ed Coaches Pitch Baseball | Baseball\nTriLakes YMCA\n
URL;VALUE=URI:https://ygametime.com/branch/trilakes/sports/2024-summer-baseball/20116/?utm_medium=calendar&utm_source=team_cal&utm_content=league_url#game-468676
LOCATION:LP Softball Field
BEGIN:VALARM
TRIGGER:-P2H
ACTION:DISPLAY
DESCRIPTION:Team 1 (red) - Tuesday 5PM Field 1 (Gold) Coach Sean vs Team 3 (green) - Monday 5pm  (Field 2) Turf Coach Doran
END:VALARM
END:VEVENT
BEGIN:VEVENT
UID:trilakes-468677@ygametime.com
DTSTAMP:20240622T160000Z
DTSTART;TZID=America/Denver:20240622T100000
DURATION:PT0H60M0S
SUMMARY:Team 2 (blue)- Tuesday 6PM Field 1 (Turf) Coach Kelly vs Team 3 (green) - Monday 5pm  (Field 2) Turf Coach Doran
DESCRIPTION:1/2nd Grade Co-Ed Coaches Pitch Baseball | Baseball\nTriLakes YMCA\n
URL;VALUE=URI:https://ygametime.com/branch/trilakes/sports/2024-summer-baseball/20116/?utm_medium=calendar&utm_source=team_cal&utm_content=league_url#game-468677
LOCATION:LP Softball Field
BEGIN:VALARM
TRIGGER:-P2H
ACTION:DISPLAY
DESCRIPTION:Team 2 (blue)- Tuesday 6PM Field 1 (Turf) Coach Kelly vs Team 3 (green) - Monday 5pm  (Field 2) Turf Coach Doran
END:VALARM
END:VEVENT
BEGIN:VEVENT
UID:trilakes-468715@ygametime.com
DTSTAMP:20240629T150000Z
DTSTART;TZID=America/Denver:20240629T090000
DURATION:PT0H60M0S
SUMMARY:Team 2 (blue)- Tuesday 6PM Field 1 (Turf) Coach Kelly vs Team 3 (green) - Monday 5pm  (Field 2) Turf Coach Doran
DESCRIPTION:1/2nd Grade Co-Ed Coaches Pitch Baseball | Baseball\nTriLakes YMCA\n
URL;VALUE=URI:https://ygametime.com/branch/trilakes/sports/2024-summer-baseball/20116/?utm_medium=calendar&utm_source=team_cal&utm_content=league_url#game-468715
LOCATION:LP Softball Field
BEGIN:VALARM
TRIGGER:-P2H
ACTION:DISPLAY
DESCRIPTION:Team 2 (blue)- Tuesday 6PM Field 1 (Turf) Coach Kelly vs Team 3 (green) - Monday 5pm  (Field 2) Turf Coach Doran
END:VALARM
END:VEVENT
BEGIN:VEVENT
UID:trilakes-468678@ygametime.com
DTSTAMP:20240720T150000Z
DTSTART;TZID=America/Denver:20240720T090000
DURATION:PT0H60M0S
SUMMARY:Team 1 (red) - Tuesday 5PM Field 1 (Gold) Coach Sean vs Team 3 (green) - Monday 5pm  (Field 2) Turf Coach Doran
DESCRIPTION:1/2nd Grade Co-Ed Coaches Pitch Baseball | Baseball\nTriLakes YMCA\n
URL;VALUE=URI:https://ygametime.com/branch/trilakes/sports/2024-summer-baseball/20116/?utm_medium=calendar&utm_source=team_cal&utm_content=league_url#game-468678
LOCATION:LP Softball Field
BEGIN:VALARM
TRIGGER:-P2H
ACTION:DISPLAY
DESCRIPTION:Team 1 (red) - Tuesday 5PM Field 1 (Gold) Coach Sean vs Team 3 (green) - Monday 5pm  (Field 2) Turf Coach Doran
END:VALARM
END:VEVENT
BEGIN:VEVENT
UID:trilakes-468675@ygametime.com
DTSTAMP:20240727T150000Z
DTSTART;TZID=America/Denver:20240727T090000
DURATION:PT0H60M0S
SUMMARY:Team 2 (blue)- Tuesday 6PM Field 1 (Turf) Coach Kelly vs Team 3 (green) - Monday 5pm  (Field 2) Turf Coach Doran
DESCRIPTION:1/2nd Grade Co-Ed Coaches Pitch Baseball | Baseball\nTriLakes YMCA\n
URL;VALUE=URI:https://ygametime.com/branch/trilakes/sports/2024-summer-baseball/20116/?utm_medium=calendar&utm_source=team_cal&utm_content=league_url#game-468675
LOCATION:LP Softball Field
BEGIN:VALARM
TRIGGER:-P2H
ACTION:DISPLAY
DESCRIPTION:Team 2 (blue)- Tuesday 6PM Field 1 (Turf) Coach Kelly vs Team 3 (green) - Monday 5pm  (Field 2) Turf Coach Doran
END:VALARM
END:VEVENT
END:VCALENDAR

