BEGIN:VCALENDAR
VERSION:2.0
PRODID:-//YGAMETIME.com//YGT iCal Creator//EN
METHOD:PUBLISH
X-PUBLISHED-TTL:PT6H
REFRESH-INTERVAL;VALUE=DURATION:PT6H
CALSCALE:GREGORIAN
X-WR-CALNAME:YGAMETIME CALENDAR
BEGIN:VEVENT
UID:trilakes-471281@ygametime.com
DTSTAMP:20240615T160000Z
DTSTART;TZID=America/Denver:20240615T100000
DURATION:PT0H60M0S
SUMMARY:Team 2 (Blue) 10am vs Team 1 (Gold) 10am
DESCRIPTION:T-Ball ages 3-4 | Baseball\nTriLakes YMCA\n
URL;VALUE=URI:https://ygametime.com/branch/trilakes/sports/2024-summer-baseball/20130/?utm_medium=calendar&utm_source=team_cal&utm_content=league_url#game-471281
LOCATION:Tri-Lakes Field 1
BEGIN:VALARM
TRIGGER:-P2H
ACTION:DISPLAY
DESCRIPTION:Team 2 (Blue) 10am vs Team 1 (Gold) 10am
END:VALARM
END:VEVENT
BEGIN:VEVENT
UID:trilakes-471282@ygametime.com
DTSTAMP:20240622T160000Z
DTSTART;TZID=America/Denver:20240622T100000
DURATION:PT0H60M0S
SUMMARY:Team 1 (Gold) 10am vs Team 2 (Blue) 10am
DESCRIPTION:T-Ball ages 3-4 | Baseball\nTriLakes YMCA\n
URL;VALUE=URI:https://ygametime.com/branch/trilakes/sports/2024-summer-baseball/20130/?utm_medium=calendar&utm_source=team_cal&utm_content=league_url#game-471282
LOCATION:Tri-Lakes Field 1
BEGIN:VALARM
TRIGGER:-P2H
ACTION:DISPLAY
DESCRIPTION:Team 1 (Gold) 10am vs Team 2 (Blue) 10am
END:VALARM
END:VEVENT
BEGIN:VEVENT
UID:trilakes-471283@ygametime.com
DTSTAMP:20240629T160000Z
DTSTART;TZID=America/Denver:20240629T100000
DURATION:PT0H60M0S
SUMMARY:Team 1 (Gold) 10am vs Team 2 (Blue) 10am
DESCRIPTION:T-Ball ages 3-4 | Baseball\nTriLakes YMCA\n
URL;VALUE=URI:https://ygametime.com/branch/trilakes/sports/2024-summer-baseball/20130/?utm_medium=calendar&utm_source=team_cal&utm_content=league_url#game-471283
LOCATION:Tri-Lakes Field 1
BEGIN:VALARM
TRIGGER:-P2H
ACTION:DISPLAY
DESCRIPTION:Team 1 (Gold) 10am vs Team 2 (Blue) 10am
END:VALARM
END:VEVENT
BEGIN:VEVENT
UID:trilakes-471284@ygametime.com
DTSTAMP:20240713T160000Z
DTSTART;TZID=America/Denver:20240713T100000
DURATION:PT0H60M0S
SUMMARY:Team 1 (Gold) 10am vs Team 2 (Blue) 10am
DESCRIPTION:T-Ball ages 3-4 | Baseball\nTriLakes YMCA\n
URL;VALUE=URI:https://ygametime.com/branch/trilakes/sports/2024-summer-baseball/20130/?utm_medium=calendar&utm_source=team_cal&utm_content=league_url#game-471284
LOCATION:Tri-Lakes Field 1
BEGIN:VALARM
TRIGGER:-P2H
ACTION:DISPLAY
DESCRIPTION:Team 1 (Gold) 10am vs Team 2 (Blue) 10am
END:VALARM
END:VEVENT
BEGIN:VEVENT
UID:trilakes-471285@ygametime.com
DTSTAMP:20240720T160000Z
DTSTART;TZID=America/Denver:20240720T100000
DURATION:PT0H60M0S
SUMMARY:Team 1 (Gold) 10am vs Team 2 (Blue) 10am
DESCRIPTION:T-Ball ages 3-4 | Baseball\nTriLakes YMCA\n
URL;VALUE=URI:https://ygametime.com/branch/trilakes/sports/2024-summer-baseball/20130/?utm_medium=calendar&utm_source=team_cal&utm_content=league_url#game-471285
LOCATION:Tri-Lakes Field 1
BEGIN:VALARM
TRIGGER:-P2H
ACTION:DISPLAY
DESCRIPTION:Team 1 (Gold) 10am vs Team 2 (Blue) 10am
END:VALARM
END:VEVENT
BEGIN:VEVENT
UID:trilakes-471286@ygametime.com
DTSTAMP:20240727T160000Z
DTSTART;TZID=America/Denver:20240727T100000
DURATION:PT0H60M0S
SUMMARY:Team 1 (Gold) 10am vs Team 2 (Blue) 10am
DESCRIPTION:T-Ball ages 3-4 | Baseball\nTriLakes YMCA\n
URL;VALUE=URI:https://ygametime.com/branch/trilakes/sports/2024-summer-baseball/20130/?utm_medium=calendar&utm_source=team_cal&utm_content=league_url#game-471286
LOCATION:Tri-Lakes Field 1
BEGIN:VALARM
TRIGGER:-P2H
ACTION:DISPLAY
DESCRIPTION:Team 1 (Gold) 10am vs Team 2 (Blue) 10am
END:VALARM
END:VEVENT
END:VCALENDAR

