BEGIN:VCALENDAR
VERSION:2.0
PRODID:-//YGAMETIME.com//YGT iCal Creator//EN
METHOD:PUBLISH
X-PUBLISHED-TTL:PT6H
REFRESH-INTERVAL;VALUE=DURATION:PT6H
CALSCALE:GREGORIAN
X-WR-CALNAME:YGAMETIME CALENDAR
BEGIN:VEVENT
UID:trilakes-468439@ygametime.com
DTSTAMP:20240615T160000Z
DTSTART;TZID=America/Denver:20240615T100000
DURATION:PT0H60M0S
SUMMARY:Team 2 10AM-11AM Coach Osmundson vs Team 1 10AM-11AM Coach Stensrud
DESCRIPTION:Kindergarten Ages 5-6 | Summer Basketball\nTriLakes YMCA\n
URL;VALUE=URI:https://ygametime.com/branch/trilakes/sports/2024-summer-summer-basketball/20131/?utm_medium=calendar&utm_source=team_cal&utm_content=league_url#game-468439
LOCATION:Tri-Lakes South Gym
BEGIN:VALARM
TRIGGER:-P2H
ACTION:DISPLAY
DESCRIPTION:Team 2 10AM-11AM Coach Osmundson vs Team 1 10AM-11AM Coach Stensrud
END:VALARM
END:VEVENT
BEGIN:VEVENT
UID:trilakes-468440@ygametime.com
DTSTAMP:20240622T160000Z
DTSTART;TZID=America/Denver:20240622T100000
DURATION:PT0H60M0S
SUMMARY:Team 1 10AM-11AM Coach Stensrud vs Team 2 10AM-11AM Coach Osmundson
DESCRIPTION:Kindergarten Ages 5-6 | Summer Basketball\nTriLakes YMCA\n
URL;VALUE=URI:https://ygametime.com/branch/trilakes/sports/2024-summer-summer-basketball/20131/?utm_medium=calendar&utm_source=team_cal&utm_content=league_url#game-468440
LOCATION:Tri-Lakes South Gym
BEGIN:VALARM
TRIGGER:-P2H
ACTION:DISPLAY
DESCRIPTION:Team 1 10AM-11AM Coach Stensrud vs Team 2 10AM-11AM Coach Osmundson
END:VALARM
END:VEVENT
BEGIN:VEVENT
UID:trilakes-468441@ygametime.com
DTSTAMP:20240629T160000Z
DTSTART;TZID=America/Denver:20240629T100000
DURATION:PT0H60M0S
SUMMARY:Team 2 10AM-11AM Coach Osmundson vs Team 1 10AM-11AM Coach Stensrud
DESCRIPTION:Kindergarten Ages 5-6 | Summer Basketball\nTriLakes YMCA\n
URL;VALUE=URI:https://ygametime.com/branch/trilakes/sports/2024-summer-summer-basketball/20131/?utm_medium=calendar&utm_source=team_cal&utm_content=league_url#game-468441
LOCATION:Tri-Lakes South Gym
BEGIN:VALARM
TRIGGER:-P2H
ACTION:DISPLAY
DESCRIPTION:Team 2 10AM-11AM Coach Osmundson vs Team 1 10AM-11AM Coach Stensrud
END:VALARM
END:VEVENT
BEGIN:VEVENT
UID:trilakes-468443@ygametime.com
DTSTAMP:20240713T160000Z
DTSTART;TZID=America/Denver:20240713T100000
DURATION:PT0H60M0S
SUMMARY:Team 2 10AM-11AM Coach Osmundson vs Team 1 10AM-11AM Coach Stensrud
DESCRIPTION:Kindergarten Ages 5-6 | Summer Basketball\nTriLakes YMCA\n
URL;VALUE=URI:https://ygametime.com/branch/trilakes/sports/2024-summer-summer-basketball/20131/?utm_medium=calendar&utm_source=team_cal&utm_content=league_url#game-468443
LOCATION:Tri-Lakes South Gym
BEGIN:VALARM
TRIGGER:-P2H
ACTION:DISPLAY
DESCRIPTION:Team 2 10AM-11AM Coach Osmundson vs Team 1 10AM-11AM Coach Stensrud
END:VALARM
END:VEVENT
BEGIN:VEVENT
UID:trilakes-468444@ygametime.com
DTSTAMP:20240720T160000Z
DTSTART;TZID=America/Denver:20240720T100000
DURATION:PT0H60M0S
SUMMARY:Team 1 10AM-11AM Coach Stensrud vs Team 2 10AM-11AM Coach Osmundson
DESCRIPTION:Kindergarten Ages 5-6 | Summer Basketball\nTriLakes YMCA\n
URL;VALUE=URI:https://ygametime.com/branch/trilakes/sports/2024-summer-summer-basketball/20131/?utm_medium=calendar&utm_source=team_cal&utm_content=league_url#game-468444
LOCATION:Tri-Lakes South Gym
BEGIN:VALARM
TRIGGER:-P2H
ACTION:DISPLAY
DESCRIPTION:Team 1 10AM-11AM Coach Stensrud vs Team 2 10AM-11AM Coach Osmundson
END:VALARM
END:VEVENT
BEGIN:VEVENT
UID:trilakes-471304@ygametime.com
DTSTAMP:20240727T160000Z
DTSTART;TZID=America/Denver:20240727T100000
DURATION:PT0H60M0S
SUMMARY:Team 1 10AM-11AM Coach Stensrud vs Team 2 10AM-11AM Coach Osmundson
DESCRIPTION:Kindergarten Ages 5-6 | Summer Basketball\nTriLakes YMCA\n
URL;VALUE=URI:https://ygametime.com/branch/trilakes/sports/2024-summer-summer-basketball/20131/?utm_medium=calendar&utm_source=team_cal&utm_content=league_url#game-471304
LOCATION:Tri-Lakes South Gym
BEGIN:VALARM
TRIGGER:-P2H
ACTION:DISPLAY
DESCRIPTION:Team 1 10AM-11AM Coach Stensrud vs Team 2 10AM-11AM Coach Osmundson
END:VALARM
END:VEVENT
END:VCALENDAR

