BEGIN:VCALENDAR
VERSION:2.0
PRODID:-//YGAMETIME.com//YGT iCal Creator//EN
METHOD:PUBLISH
X-PUBLISHED-TTL:PT6H
REFRESH-INTERVAL;VALUE=DURATION:PT6H
CALSCALE:GREGORIAN
X-WR-CALNAME:YGAMETIME CALENDAR
BEGIN:VEVENT
UID:trilakes-468753@ygametime.com
DTSTAMP:20240615T180000Z
DTSTART;TZID=America/Denver:20240615T120000
DURATION:PT0H60M0S
SUMMARY:Team 1 (Gold) Tuesday 5pm Field 2 (Turf) vs Team 3 (green) Monday 6pm Field 1 (turf) Coach Lee
DESCRIPTION:3/4 Grade Co-Ed Coaches Pitch Baseball | Baseball\nTriLakes YMCA\n
URL;VALUE=URI:https://ygametime.com/branch/trilakes/sports/2024-summer-baseball/20118/?utm_medium=calendar&utm_source=team_cal&utm_content=league_url#game-468753
LOCATION:LP Softball Field
BEGIN:VALARM
TRIGGER:-P2H
ACTION:DISPLAY
DESCRIPTION:Team 1 (Gold) Tuesday 5pm Field 2 (Turf) vs Team 3 (green) Monday 6pm Field 1 (turf) Coach Lee
END:VALARM
END:VEVENT
BEGIN:VEVENT
UID:trilakes-468761@ygametime.com
DTSTAMP:20240622T170000Z
DTSTART;TZID=America/Denver:20240622T110000
DURATION:PT0H60M0S
SUMMARY:Team 1 (Gold) Tuesday 5pm Field 2 (Turf) vs Team 3 (green) Monday 6pm Field 1 (turf) Coach Lee
DESCRIPTION:3/4 Grade Co-Ed Coaches Pitch Baseball | Baseball\nTriLakes YMCA\n
URL;VALUE=URI:https://ygametime.com/branch/trilakes/sports/2024-summer-baseball/20118/?utm_medium=calendar&utm_source=team_cal&utm_content=league_url#game-468761
LOCATION:LP Softball Field
BEGIN:VALARM
TRIGGER:-P2H
ACTION:DISPLAY
DESCRIPTION:Team 1 (Gold) Tuesday 5pm Field 2 (Turf) vs Team 3 (green) Monday 6pm Field 1 (turf) Coach Lee
END:VALARM
END:VEVENT
BEGIN:VEVENT
UID:trilakes-468762@ygametime.com
DTSTAMP:20240622T180000Z
DTSTART;TZID=America/Denver:20240622T120000
DURATION:PT0H60M0S
SUMMARY:Team 2 (blue) Thursday 5pm Field 1 (turf)Coach Conkin vs Team 3 (green) Monday 6pm Field 1 (turf) Coach Lee
DESCRIPTION:3/4 Grade Co-Ed Coaches Pitch Baseball | Baseball\nTriLakes YMCA\n
URL;VALUE=URI:https://ygametime.com/branch/trilakes/sports/2024-summer-baseball/20118/?utm_medium=calendar&utm_source=team_cal&utm_content=league_url#game-468762
LOCATION:LP Softball Field
BEGIN:VALARM
TRIGGER:-P2H
ACTION:DISPLAY
DESCRIPTION:Team 2 (blue) Thursday 5pm Field 1 (turf)Coach Conkin vs Team 3 (green) Monday 6pm Field 1 (turf) Coach Lee
END:VALARM
END:VEVENT
BEGIN:VEVENT
UID:trilakes-468763@ygametime.com
DTSTAMP:20240629T170000Z
DTSTART;TZID=America/Denver:20240629T110000
DURATION:PT0H60M0S
SUMMARY:Team 2 (blue) Thursday 5pm Field 1 (turf)Coach Conkin vs Team 3 (green) Monday 6pm Field 1 (turf) Coach Lee
DESCRIPTION:3/4 Grade Co-Ed Coaches Pitch Baseball | Baseball\nTriLakes YMCA\n
URL;VALUE=URI:https://ygametime.com/branch/trilakes/sports/2024-summer-baseball/20118/?utm_medium=calendar&utm_source=team_cal&utm_content=league_url#game-468763
LOCATION:LP Softball Field
BEGIN:VALARM
TRIGGER:-P2H
ACTION:DISPLAY
DESCRIPTION:Team 2 (blue) Thursday 5pm Field 1 (turf)Coach Conkin vs Team 3 (green) Monday 6pm Field 1 (turf) Coach Lee
END:VALARM
END:VEVENT
BEGIN:VEVENT
UID:trilakes-468778@ygametime.com
DTSTAMP:20240720T160000Z
DTSTART;TZID=America/Denver:20240720T100000
DURATION:PT0H60M0S
SUMMARY:Team 1 (Gold) Tuesday 5pm Field 2 (Turf) vs Team 3 (green) Monday 6pm Field 1 (turf) Coach Lee
DESCRIPTION:3/4 Grade Co-Ed Coaches Pitch Baseball | Baseball\nTriLakes YMCA\n
URL;VALUE=URI:https://ygametime.com/branch/trilakes/sports/2024-summer-baseball/20118/?utm_medium=calendar&utm_source=team_cal&utm_content=league_url#game-468778
LOCATION:LP Softball Field
BEGIN:VALARM
TRIGGER:-P2H
ACTION:DISPLAY
DESCRIPTION:Team 1 (Gold) Tuesday 5pm Field 2 (Turf) vs Team 3 (green) Monday 6pm Field 1 (turf) Coach Lee
END:VALARM
END:VEVENT
BEGIN:VEVENT
UID:trilakes-468768@ygametime.com
DTSTAMP:20240727T160000Z
DTSTART;TZID=America/Denver:20240727T100000
DURATION:PT0H60M0S
SUMMARY:Team 2 (blue) Thursday 5pm Field 1 (turf)Coach Conkin vs Team 3 (green) Monday 6pm Field 1 (turf) Coach Lee
DESCRIPTION:3/4 Grade Co-Ed Coaches Pitch Baseball | Baseball\nTriLakes YMCA\n
URL;VALUE=URI:https://ygametime.com/branch/trilakes/sports/2024-summer-baseball/20118/?utm_medium=calendar&utm_source=team_cal&utm_content=league_url#game-468768
LOCATION:LP Softball Field
BEGIN:VALARM
TRIGGER:-P2H
ACTION:DISPLAY
DESCRIPTION:Team 2 (blue) Thursday 5pm Field 1 (turf)Coach Conkin vs Team 3 (green) Monday 6pm Field 1 (turf) Coach Lee
END:VALARM
END:VEVENT
END:VCALENDAR

