BEGIN:VCALENDAR
VERSION:2.0
PRODID:-//YGAMETIME.com//YGT iCal Creator//EN
METHOD:PUBLISH
X-PUBLISHED-TTL:PT6H
REFRESH-INTERVAL;VALUE=DURATION:PT6H
CALSCALE:GREGORIAN
X-WR-CALNAME:YGAMETIME CALENDAR
BEGIN:VEVENT
UID:trilakes-471287@ygametime.com
DTSTAMP:20240615T170000Z
DTSTART;TZID=America/Denver:20240615T110000
DURATION:PT0H60M0S
SUMMARY:Team 2 (blue) 11AM vs Team 1 (Gold) 11AM
DESCRIPTION:T-Ball Ages 5-6 | Baseball\nTriLakes YMCA\n
URL;VALUE=URI:https://ygametime.com/branch/trilakes/sports/2024-summer-baseball/20132/?utm_medium=calendar&utm_source=team_cal&utm_content=league_url#game-471287
LOCATION:Tri-Lakes Field 1
BEGIN:VALARM
TRIGGER:-P2H
ACTION:DISPLAY
DESCRIPTION:Team 2 (blue) 11AM vs Team 1 (Gold) 11AM
END:VALARM
END:VEVENT
BEGIN:VEVENT
UID:trilakes-471288@ygametime.com
DTSTAMP:20240622T170000Z
DTSTART;TZID=America/Denver:20240622T110000
DURATION:PT0H60M0S
SUMMARY:Team 2 (blue) 11AM vs Team 1 (Gold) 11AM
DESCRIPTION:T-Ball Ages 5-6 | Baseball\nTriLakes YMCA\n
URL;VALUE=URI:https://ygametime.com/branch/trilakes/sports/2024-summer-baseball/20132/?utm_medium=calendar&utm_source=team_cal&utm_content=league_url#game-471288
LOCATION:Tri-Lakes Field 1
BEGIN:VALARM
TRIGGER:-P2H
ACTION:DISPLAY
DESCRIPTION:Team 2 (blue) 11AM vs Team 1 (Gold) 11AM
END:VALARM
END:VEVENT
BEGIN:VEVENT
UID:trilakes-471289@ygametime.com
DTSTAMP:20240629T170000Z
DTSTART;TZID=America/Denver:20240629T110000
DURATION:PT0H60M0S
SUMMARY:Team 2 (blue) 11AM vs Team 1 (Gold) 11AM
DESCRIPTION:T-Ball Ages 5-6 | Baseball\nTriLakes YMCA\n
URL;VALUE=URI:https://ygametime.com/branch/trilakes/sports/2024-summer-baseball/20132/?utm_medium=calendar&utm_source=team_cal&utm_content=league_url#game-471289
LOCATION:Tri-Lakes Field 1
BEGIN:VALARM
TRIGGER:-P2H
ACTION:DISPLAY
DESCRIPTION:Team 2 (blue) 11AM vs Team 1 (Gold) 11AM
END:VALARM
END:VEVENT
BEGIN:VEVENT
UID:trilakes-471290@ygametime.com
DTSTAMP:20240713T170000Z
DTSTART;TZID=America/Denver:20240713T110000
DURATION:PT0H60M0S
SUMMARY:Team 1 (Gold) 11AM vs Team 2 (blue) 11AM
DESCRIPTION:T-Ball Ages 5-6 | Baseball\nTriLakes YMCA\n
URL;VALUE=URI:https://ygametime.com/branch/trilakes/sports/2024-summer-baseball/20132/?utm_medium=calendar&utm_source=team_cal&utm_content=league_url#game-471290
LOCATION:Tri-Lakes Field 1
BEGIN:VALARM
TRIGGER:-P2H
ACTION:DISPLAY
DESCRIPTION:Team 1 (Gold) 11AM vs Team 2 (blue) 11AM
END:VALARM
END:VEVENT
BEGIN:VEVENT
UID:trilakes-471291@ygametime.com
DTSTAMP:20240720T170000Z
DTSTART;TZID=America/Denver:20240720T110000
DURATION:PT0H60M0S
SUMMARY:Team 1 (Gold) 11AM vs Team 2 (blue) 11AM
DESCRIPTION:T-Ball Ages 5-6 | Baseball\nTriLakes YMCA\n
URL;VALUE=URI:https://ygametime.com/branch/trilakes/sports/2024-summer-baseball/20132/?utm_medium=calendar&utm_source=team_cal&utm_content=league_url#game-471291
LOCATION:Tri-Lakes Field 1
BEGIN:VALARM
TRIGGER:-P2H
ACTION:DISPLAY
DESCRIPTION:Team 1 (Gold) 11AM vs Team 2 (blue) 11AM
END:VALARM
END:VEVENT
BEGIN:VEVENT
UID:trilakes-471292@ygametime.com
DTSTAMP:20240727T170000Z
DTSTART;TZID=America/Denver:20240727T110000
DURATION:PT0H60M0S
SUMMARY:Team 1 (Gold) 11AM vs Team 2 (blue) 11AM
DESCRIPTION:T-Ball Ages 5-6 | Baseball\nTriLakes YMCA\n
URL;VALUE=URI:https://ygametime.com/branch/trilakes/sports/2024-summer-baseball/20132/?utm_medium=calendar&utm_source=team_cal&utm_content=league_url#game-471292
LOCATION:Tri-Lakes Field 1
BEGIN:VALARM
TRIGGER:-P2H
ACTION:DISPLAY
DESCRIPTION:Team 1 (Gold) 11AM vs Team 2 (blue) 11AM
END:VALARM
END:VEVENT
END:VCALENDAR

