BEGIN:VCALENDAR
VERSION:2.0
PRODID:-//YGAMETIME.com//YGT iCal Creator//EN
METHOD:PUBLISH
X-PUBLISHED-TTL:PT6H
REFRESH-INTERVAL;VALUE=DURATION:PT6H
CALSCALE:GREGORIAN
X-WR-CALNAME:YGAMETIME CALENDAR
BEGIN:VEVENT
UID:ventura-603024@ygametime.com
DTSTAMP:20260502T174000Z
DTSTART;TZID=America/Los_Angeles:20260502T104000
DURATION:PT0H65M0S
SUMMARY:Thunder vs Nuggets
DESCRIPTION:Division 2 Ages (7-8) | Basketball League\nVentura Family YMCA\n
URL;VALUE=URI:https://ygametime.com/branch/ventura/sports/2026-spring-basketball-league/25746/?utm_medium=calendar&utm_source=team_cal&utm_content=league_url#game-603024
LOCATION:Ventura Family YMCA SportsPlex
BEGIN:VALARM
TRIGGER:-P2H
ACTION:DISPLAY
DESCRIPTION:Thunder vs Nuggets
END:VALARM
END:VEVENT
BEGIN:VEVENT
UID:ventura-603031@ygametime.com
DTSTAMP:20260509T205500Z
DTSTART;TZID=America/Los_Angeles:20260509T135500
DURATION:PT0H65M0S
SUMMARY:Nuggets vs Raptors
DESCRIPTION:Division 2 Ages (7-8) | Basketball League\nVentura Family YMCA\n
URL;VALUE=URI:https://ygametime.com/branch/ventura/sports/2026-spring-basketball-league/25746/?utm_medium=calendar&utm_source=team_cal&utm_content=league_url#game-603031
LOCATION:Ventura Family YMCA SportsPlex
BEGIN:VALARM
TRIGGER:-P2H
ACTION:DISPLAY
DESCRIPTION:Nuggets vs Raptors
END:VALARM
END:VEVENT
BEGIN:VEVENT
UID:ventura-603034@ygametime.com
DTSTAMP:20260516T195000Z
DTSTART;TZID=America/Los_Angeles:20260516T125000
DURATION:PT0H65M0S
SUMMARY:Warriors vs Nuggets
DESCRIPTION:Division 2 Ages (7-8) | Basketball League\nVentura Family YMCA\n
URL;VALUE=URI:https://ygametime.com/branch/ventura/sports/2026-spring-basketball-league/25746/?utm_medium=calendar&utm_source=team_cal&utm_content=league_url#game-603034
LOCATION:Ventura Family YMCA SportsPlex
BEGIN:VALARM
TRIGGER:-P2H
ACTION:DISPLAY
DESCRIPTION:Warriors vs Nuggets
END:VALARM
END:VEVENT
BEGIN:VEVENT
UID:ventura-603037@ygametime.com
DTSTAMP:20260523T184500Z
DTSTART;TZID=America/Los_Angeles:20260523T114500
DURATION:PT0H65M0S
SUMMARY:Nuggets vs Timberwolves
DESCRIPTION:Division 2 Ages (7-8) | Basketball League\nVentura Family YMCA\n
URL;VALUE=URI:https://ygametime.com/branch/ventura/sports/2026-spring-basketball-league/25746/?utm_medium=calendar&utm_source=team_cal&utm_content=league_url#game-603037
LOCATION:Ventura Family YMCA SportsPlex
BEGIN:VALARM
TRIGGER:-P2H
ACTION:DISPLAY
DESCRIPTION:Nuggets vs Timberwolves
END:VALARM
END:VEVENT
BEGIN:VEVENT
UID:ventura-603040@ygametime.com
DTSTAMP:20260530T174000Z
DTSTART;TZID=America/Los_Angeles:20260530T104000
DURATION:PT0H65M0S
SUMMARY:Rockets vs Nuggets
DESCRIPTION:Division 2 Ages (7-8) | Basketball League\nVentura Family YMCA\n
URL;VALUE=URI:https://ygametime.com/branch/ventura/sports/2026-spring-basketball-league/25746/?utm_medium=calendar&utm_source=team_cal&utm_content=league_url#game-603040
LOCATION:Ventura Family YMCA SportsPlex
BEGIN:VALARM
TRIGGER:-P2H
ACTION:DISPLAY
DESCRIPTION:Rockets vs Nuggets
END:VALARM
END:VEVENT
BEGIN:VEVENT
UID:ventura-603047@ygametime.com
DTSTAMP:20260606T205500Z
DTSTART;TZID=America/Los_Angeles:20260606T135500
DURATION:PT0H65M0S
SUMMARY:Nuggets vs Hornets
DESCRIPTION:Division 2 Ages (7-8) | Basketball League\nVentura Family YMCA\n
URL;VALUE=URI:https://ygametime.com/branch/ventura/sports/2026-spring-basketball-league/25746/?utm_medium=calendar&utm_source=team_cal&utm_content=league_url#game-603047
LOCATION:Ventura Family YMCA SportsPlex
BEGIN:VALARM
TRIGGER:-P2H
ACTION:DISPLAY
DESCRIPTION:Nuggets vs Hornets
END:VALARM
END:VEVENT
BEGIN:VEVENT
UID:ventura-603050@ygametime.com
DTSTAMP:20260613T195000Z
DTSTART;TZID=America/Los_Angeles:20260613T125000
DURATION:PT0H65M0S
SUMMARY:Pistons vs Nuggets
DESCRIPTION:Division 2 Ages (7-8) | Basketball League\nVentura Family YMCA\n
URL;VALUE=URI:https://ygametime.com/branch/ventura/sports/2026-spring-basketball-league/25746/?utm_medium=calendar&utm_source=team_cal&utm_content=league_url#game-603050
LOCATION:Ventura Family YMCA SportsPlex
BEGIN:VALARM
TRIGGER:-P2H
ACTION:DISPLAY
DESCRIPTION:Pistons vs Nuggets
END:VALARM
END:VEVENT
END:VCALENDAR

