BEGIN:VCALENDAR
VERSION:2.0
PRODID:-//YGAMETIME.com//YGT iCal Creator//EN
METHOD:PUBLISH
X-PUBLISHED-TTL:PT6H
REFRESH-INTERVAL;VALUE=DURATION:PT6H
CALSCALE:GREGORIAN
X-WR-CALNAME:YGAMETIME CALENDAR
BEGIN:VEVENT
UID:ventura-603025@ygametime.com
DTSTAMP:20260502T184500Z
DTSTART;TZID=America/Los_Angeles:20260502T114500
DURATION:PT0H65M0S
SUMMARY:Raptors vs Pistons
DESCRIPTION:Division 2 Ages (7-8) | Basketball League\nVentura Family YMCA\n
URL;VALUE=URI:https://ygametime.com/branch/ventura/sports/2026-spring-basketball-league/25746/?utm_medium=calendar&utm_source=team_cal&utm_content=league_url#game-603025
LOCATION:Ventura Family YMCA SportsPlex
BEGIN:VALARM
TRIGGER:-P2H
ACTION:DISPLAY
DESCRIPTION:Raptors vs Pistons
END:VALARM
END:VEVENT
BEGIN:VEVENT
UID:ventura-603029@ygametime.com
DTSTAMP:20260509T184500Z
DTSTART;TZID=America/Los_Angeles:20260509T114500
DURATION:PT0H65M0S
SUMMARY:Pistons vs Timberwolves
DESCRIPTION:Division 2 Ages (7-8) | Basketball League\nVentura Family YMCA\n
URL;VALUE=URI:https://ygametime.com/branch/ventura/sports/2026-spring-basketball-league/25746/?utm_medium=calendar&utm_source=team_cal&utm_content=league_url#game-603029
LOCATION:Ventura Family YMCA SportsPlex
BEGIN:VALARM
TRIGGER:-P2H
ACTION:DISPLAY
DESCRIPTION:Pistons vs Timberwolves
END:VALARM
END:VEVENT
BEGIN:VEVENT
UID:ventura-603033@ygametime.com
DTSTAMP:20260516T184500Z
DTSTART;TZID=America/Los_Angeles:20260516T114500
DURATION:PT0H65M0S
SUMMARY:Hornets vs Pistons
DESCRIPTION:Division 2 Ages (7-8) | Basketball League\nVentura Family YMCA\n
URL;VALUE=URI:https://ygametime.com/branch/ventura/sports/2026-spring-basketball-league/25746/?utm_medium=calendar&utm_source=team_cal&utm_content=league_url#game-603033
LOCATION:Ventura Family YMCA SportsPlex
BEGIN:VALARM
TRIGGER:-P2H
ACTION:DISPLAY
DESCRIPTION:Hornets vs Pistons
END:VALARM
END:VEVENT
BEGIN:VEVENT
UID:ventura-603036@ygametime.com
DTSTAMP:20260523T174000Z
DTSTART;TZID=America/Los_Angeles:20260523T104000
DURATION:PT0H65M0S
SUMMARY:Pistons vs Thunder
DESCRIPTION:Division 2 Ages (7-8) | Basketball League\nVentura Family YMCA\n
URL;VALUE=URI:https://ygametime.com/branch/ventura/sports/2026-spring-basketball-league/25746/?utm_medium=calendar&utm_source=team_cal&utm_content=league_url#game-603036
LOCATION:Ventura Family YMCA SportsPlex
BEGIN:VALARM
TRIGGER:-P2H
ACTION:DISPLAY
DESCRIPTION:Pistons vs Thunder
END:VALARM
END:VEVENT
BEGIN:VEVENT
UID:ventura-603042@ygametime.com
DTSTAMP:20260530T195000Z
DTSTART;TZID=America/Los_Angeles:20260530T125000
DURATION:PT0H65M0S
SUMMARY:Warriors vs Pistons
DESCRIPTION:Division 2 Ages (7-8) | Basketball League\nVentura Family YMCA\n
URL;VALUE=URI:https://ygametime.com/branch/ventura/sports/2026-spring-basketball-league/25746/?utm_medium=calendar&utm_source=team_cal&utm_content=league_url#game-603042
LOCATION:Ventura Family YMCA SportsPlex
BEGIN:VALARM
TRIGGER:-P2H
ACTION:DISPLAY
DESCRIPTION:Warriors vs Pistons
END:VALARM
END:VEVENT
BEGIN:VEVENT
UID:ventura-603044@ygametime.com
DTSTAMP:20260606T174000Z
DTSTART;TZID=America/Los_Angeles:20260606T104000
DURATION:PT0H65M0S
SUMMARY:Pistons vs Rockets
DESCRIPTION:Division 2 Ages (7-8) | Basketball League\nVentura Family YMCA\n
URL;VALUE=URI:https://ygametime.com/branch/ventura/sports/2026-spring-basketball-league/25746/?utm_medium=calendar&utm_source=team_cal&utm_content=league_url#game-603044
LOCATION:Ventura Family YMCA SportsPlex
BEGIN:VALARM
TRIGGER:-P2H
ACTION:DISPLAY
DESCRIPTION:Pistons vs Rockets
END:VALARM
END:VEVENT
BEGIN:VEVENT
UID:ventura-603050@ygametime.com
DTSTAMP:20260613T195000Z
DTSTART;TZID=America/Los_Angeles:20260613T125000
DURATION:PT0H65M0S
SUMMARY:Pistons vs Nuggets
DESCRIPTION:Division 2 Ages (7-8) | Basketball League\nVentura Family YMCA\n
URL;VALUE=URI:https://ygametime.com/branch/ventura/sports/2026-spring-basketball-league/25746/?utm_medium=calendar&utm_source=team_cal&utm_content=league_url#game-603050
LOCATION:Ventura Family YMCA SportsPlex
BEGIN:VALARM
TRIGGER:-P2H
ACTION:DISPLAY
DESCRIPTION:Pistons vs Nuggets
END:VALARM
END:VEVENT
END:VCALENDAR

