BEGIN:VCALENDAR
VERSION:2.0
PRODID:-//YGAMETIME.com//YGT iCal Creator//EN
METHOD:PUBLISH
X-PUBLISHED-TTL:PT6H
REFRESH-INTERVAL;VALUE=DURATION:PT6H
CALSCALE:GREGORIAN
X-WR-CALNAME:YGAMETIME CALENDAR
BEGIN:VEVENT
UID:ventura-603026@ygametime.com
DTSTAMP:20260502T195000Z
DTSTART;TZID=America/Los_Angeles:20260502T125000
DURATION:PT0H65M0S
SUMMARY:Hornets vs Warriors
DESCRIPTION:Division 2 Ages (7-8) | Basketball League\nVentura Family YMCA\n
URL;VALUE=URI:https://ygametime.com/branch/ventura/sports/2026-spring-basketball-league/25746/?utm_medium=calendar&utm_source=team_cal&utm_content=league_url#game-603026
LOCATION:Ventura Family YMCA SportsPlex
BEGIN:VALARM
TRIGGER:-P2H
ACTION:DISPLAY
DESCRIPTION:Hornets vs Warriors
END:VALARM
END:VEVENT
BEGIN:VEVENT
UID:ventura-603030@ygametime.com
DTSTAMP:20260509T195000Z
DTSTART;TZID=America/Los_Angeles:20260509T125000
DURATION:PT0H65M0S
SUMMARY:Rockets vs Hornets
DESCRIPTION:Division 2 Ages (7-8) | Basketball League\nVentura Family YMCA\n
URL;VALUE=URI:https://ygametime.com/branch/ventura/sports/2026-spring-basketball-league/25746/?utm_medium=calendar&utm_source=team_cal&utm_content=league_url#game-603030
LOCATION:Ventura Family YMCA SportsPlex
BEGIN:VALARM
TRIGGER:-P2H
ACTION:DISPLAY
DESCRIPTION:Rockets vs Hornets
END:VALARM
END:VEVENT
BEGIN:VEVENT
UID:ventura-603033@ygametime.com
DTSTAMP:20260516T184500Z
DTSTART;TZID=America/Los_Angeles:20260516T114500
DURATION:PT0H65M0S
SUMMARY:Hornets vs Pistons
DESCRIPTION:Division 2 Ages (7-8) | Basketball League\nVentura Family YMCA\n
URL;VALUE=URI:https://ygametime.com/branch/ventura/sports/2026-spring-basketball-league/25746/?utm_medium=calendar&utm_source=team_cal&utm_content=league_url#game-603033
LOCATION:Ventura Family YMCA SportsPlex
BEGIN:VALARM
TRIGGER:-P2H
ACTION:DISPLAY
DESCRIPTION:Hornets vs Pistons
END:VALARM
END:VEVENT
BEGIN:VEVENT
UID:ventura-603039@ygametime.com
DTSTAMP:20260523T205500Z
DTSTART;TZID=America/Los_Angeles:20260523T135500
DURATION:PT0H65M0S
SUMMARY:Raptors vs Hornets
DESCRIPTION:Division 2 Ages (7-8) | Basketball League\nVentura Family YMCA\n
URL;VALUE=URI:https://ygametime.com/branch/ventura/sports/2026-spring-basketball-league/25746/?utm_medium=calendar&utm_source=team_cal&utm_content=league_url#game-603039
LOCATION:Ventura Family YMCA SportsPlex
BEGIN:VALARM
TRIGGER:-P2H
ACTION:DISPLAY
DESCRIPTION:Raptors vs Hornets
END:VALARM
END:VEVENT
BEGIN:VEVENT
UID:ventura-603041@ygametime.com
DTSTAMP:20260530T184500Z
DTSTART;TZID=America/Los_Angeles:20260530T114500
DURATION:PT0H65M0S
SUMMARY:Hornets vs Timberwolves
DESCRIPTION:Division 2 Ages (7-8) | Basketball League\nVentura Family YMCA\n
URL;VALUE=URI:https://ygametime.com/branch/ventura/sports/2026-spring-basketball-league/25746/?utm_medium=calendar&utm_source=team_cal&utm_content=league_url#game-603041
LOCATION:Ventura Family YMCA SportsPlex
BEGIN:VALARM
TRIGGER:-P2H
ACTION:DISPLAY
DESCRIPTION:Hornets vs Timberwolves
END:VALARM
END:VEVENT
BEGIN:VEVENT
UID:ventura-603047@ygametime.com
DTSTAMP:20260606T205500Z
DTSTART;TZID=America/Los_Angeles:20260606T135500
DURATION:PT0H65M0S
SUMMARY:Nuggets vs Hornets
DESCRIPTION:Division 2 Ages (7-8) | Basketball League\nVentura Family YMCA\n
URL;VALUE=URI:https://ygametime.com/branch/ventura/sports/2026-spring-basketball-league/25746/?utm_medium=calendar&utm_source=team_cal&utm_content=league_url#game-603047
LOCATION:Ventura Family YMCA SportsPlex
BEGIN:VALARM
TRIGGER:-P2H
ACTION:DISPLAY
DESCRIPTION:Nuggets vs Hornets
END:VALARM
END:VEVENT
BEGIN:VEVENT
UID:ventura-603051@ygametime.com
DTSTAMP:20260613T205500Z
DTSTART;TZID=America/Los_Angeles:20260613T135500
DURATION:PT0H65M0S
SUMMARY:Thunder vs Hornets
DESCRIPTION:Division 2 Ages (7-8) | Basketball League\nVentura Family YMCA\n
URL;VALUE=URI:https://ygametime.com/branch/ventura/sports/2026-spring-basketball-league/25746/?utm_medium=calendar&utm_source=team_cal&utm_content=league_url#game-603051
LOCATION:Ventura Family YMCA SportsPlex
BEGIN:VALARM
TRIGGER:-P2H
ACTION:DISPLAY
DESCRIPTION:Thunder vs Hornets
END:VALARM
END:VEVENT
END:VCALENDAR

