BEGIN:VCALENDAR
VERSION:2.0
PRODID:-//YGAMETIME.com//YGT iCal Creator//EN
METHOD:PUBLISH
X-PUBLISHED-TTL:PT6H
REFRESH-INTERVAL;VALUE=DURATION:PT6H
CALSCALE:GREGORIAN
X-WR-CALNAME:YGAMETIME CALENDAR
BEGIN:VEVENT
UID:ventura-601909@ygametime.com
DTSTAMP:20260503T202000Z
DTSTART;TZID=America/Los_Angeles:20260503T132000
DURATION:PT0H65M0S
SUMMARY:Heat vs Lakers
DESCRIPTION:Division 3 Ages (9-10) | Basketball League\nVentura Family YMCA\n
URL;VALUE=URI:https://ygametime.com/branch/ventura/sports/2026-spring-basketball-league/25747/?utm_medium=calendar&utm_source=team_cal&utm_content=league_url#game-601909
LOCATION:Ventura Family YMCA SportsPlex
BEGIN:VALARM
TRIGGER:-P2H
ACTION:DISPLAY
DESCRIPTION:Heat vs Lakers
END:VALARM
END:VEVENT
BEGIN:VEVENT
UID:ventura-601913@ygametime.com
DTSTAMP:20260510T202000Z
DTSTART;TZID=America/Los_Angeles:20260510T132000
DURATION:PT0H65M0S
SUMMARY:Lakers vs Cavaliers
DESCRIPTION:Division 3 Ages (9-10) | Basketball League\nVentura Family YMCA\n
URL;VALUE=URI:https://ygametime.com/branch/ventura/sports/2026-spring-basketball-league/25747/?utm_medium=calendar&utm_source=team_cal&utm_content=league_url#game-601913
LOCATION:Ventura Family YMCA SportsPlex
BEGIN:VALARM
TRIGGER:-P2H
ACTION:DISPLAY
DESCRIPTION:Lakers vs Cavaliers
END:VALARM
END:VEVENT
BEGIN:VEVENT
UID:ventura-601917@ygametime.com
DTSTAMP:20260517T202000Z
DTSTART;TZID=America/Los_Angeles:20260517T132000
DURATION:PT0H65M0S
SUMMARY:Celtics vs Lakers
DESCRIPTION:Division 3 Ages (9-10) | Basketball League\nVentura Family YMCA\n
URL;VALUE=URI:https://ygametime.com/branch/ventura/sports/2026-spring-basketball-league/25747/?utm_medium=calendar&utm_source=team_cal&utm_content=league_url#game-601917
LOCATION:Ventura Family YMCA SportsPlex
BEGIN:VALARM
TRIGGER:-P2H
ACTION:DISPLAY
DESCRIPTION:Celtics vs Lakers
END:VALARM
END:VEVENT
BEGIN:VEVENT
UID:ventura-601920@ygametime.com
DTSTAMP:20260524T191500Z
DTSTART;TZID=America/Los_Angeles:20260524T121500
DURATION:PT0H65M0S
SUMMARY:Lakers vs Pelicans
DESCRIPTION:Division 3 Ages (9-10) | Basketball League\nVentura Family YMCA\n
URL;VALUE=URI:https://ygametime.com/branch/ventura/sports/2026-spring-basketball-league/25747/?utm_medium=calendar&utm_source=team_cal&utm_content=league_url#game-601920
LOCATION:Ventura Family YMCA SportsPlex
BEGIN:VALARM
TRIGGER:-P2H
ACTION:DISPLAY
DESCRIPTION:Lakers vs Pelicans
END:VALARM
END:VEVENT
BEGIN:VEVENT
UID:ventura-601926@ygametime.com
DTSTAMP:20260531T212500Z
DTSTART;TZID=America/Los_Angeles:20260531T142500
DURATION:PT0H65M0S
SUMMARY:Knicks vs Lakers
DESCRIPTION:Division 3 Ages (9-10) | Basketball League\nVentura Family YMCA\n
URL;VALUE=URI:https://ygametime.com/branch/ventura/sports/2026-spring-basketball-league/25747/?utm_medium=calendar&utm_source=team_cal&utm_content=league_url#game-601926
LOCATION:Ventura Family YMCA SportsPlex
BEGIN:VALARM
TRIGGER:-P2H
ACTION:DISPLAY
DESCRIPTION:Knicks vs Lakers
END:VALARM
END:VEVENT
BEGIN:VEVENT
UID:ventura-601928@ygametime.com
DTSTAMP:20260607T191500Z
DTSTART;TZID=America/Los_Angeles:20260607T121500
DURATION:PT0H65M0S
SUMMARY:Lakers vs Suns
DESCRIPTION:Division 3 Ages (9-10) | Basketball League\nVentura Family YMCA\n
URL;VALUE=URI:https://ygametime.com/branch/ventura/sports/2026-spring-basketball-league/25747/?utm_medium=calendar&utm_source=team_cal&utm_content=league_url#game-601928
LOCATION:Ventura Family YMCA SportsPlex
BEGIN:VALARM
TRIGGER:-P2H
ACTION:DISPLAY
DESCRIPTION:Lakers vs Suns
END:VALARM
END:VEVENT
BEGIN:VEVENT
UID:ventura-601934@ygametime.com
DTSTAMP:20260614T212500Z
DTSTART;TZID=America/Los_Angeles:20260614T142500
DURATION:PT0H65M0S
SUMMARY:Lakers vs Pacers
DESCRIPTION:Division 3 Ages (9-10) | Basketball League\nVentura Family YMCA\n
URL;VALUE=URI:https://ygametime.com/branch/ventura/sports/2026-spring-basketball-league/25747/?utm_medium=calendar&utm_source=team_cal&utm_content=league_url#game-601934
LOCATION:Ventura Family YMCA SportsPlex
BEGIN:VALARM
TRIGGER:-P2H
ACTION:DISPLAY
DESCRIPTION:Lakers vs Pacers
END:VALARM
END:VEVENT
END:VCALENDAR

