BEGIN:VCALENDAR
VERSION:2.0
PRODID:-//YGAMETIME.com//YGT iCal Creator//EN
METHOD:PUBLISH
X-PUBLISHED-TTL:PT6H
REFRESH-INTERVAL;VALUE=DURATION:PT6H
CALSCALE:GREGORIAN
X-WR-CALNAME:YGAMETIME CALENDAR
BEGIN:VEVENT
UID:ventura-601909@ygametime.com
DTSTAMP:20260503T202000Z
DTSTART;TZID=America/Los_Angeles:20260503T132000
DURATION:PT0H65M0S
SUMMARY:Heat vs Lakers
DESCRIPTION:Division 3 Ages (9-10) | Basketball League\nVentura Family YMCA\n
URL;VALUE=URI:https://ygametime.com/branch/ventura/sports/2026-spring-basketball-league/25747/?utm_medium=calendar&utm_source=team_cal&utm_content=league_url#game-601909
LOCATION:Ventura Family YMCA SportsPlex
BEGIN:VALARM
TRIGGER:-P2H
ACTION:DISPLAY
DESCRIPTION:Heat vs Lakers
END:VALARM
END:VEVENT
BEGIN:VEVENT
UID:ventura-601915@ygametime.com
DTSTAMP:20260510T223000Z
DTSTART;TZID=America/Los_Angeles:20260510T153000
DURATION:PT0H65M0S
SUMMARY:Pacers vs Heat
DESCRIPTION:Division 3 Ages (9-10) | Basketball League\nVentura Family YMCA\n
URL;VALUE=URI:https://ygametime.com/branch/ventura/sports/2026-spring-basketball-league/25747/?utm_medium=calendar&utm_source=team_cal&utm_content=league_url#game-601915
LOCATION:Ventura Family YMCA SportsPlex
BEGIN:VALARM
TRIGGER:-P2H
ACTION:DISPLAY
DESCRIPTION:Pacers vs Heat
END:VALARM
END:VEVENT
BEGIN:VEVENT
UID:ventura-601919@ygametime.com
DTSTAMP:20260517T223000Z
DTSTART;TZID=America/Los_Angeles:20260517T153000
DURATION:PT0H65M0S
SUMMARY:Cavaliers vs Heat
DESCRIPTION:Division 3 Ages (9-10) | Basketball League\nVentura Family YMCA\n
URL;VALUE=URI:https://ygametime.com/branch/ventura/sports/2026-spring-basketball-league/25747/?utm_medium=calendar&utm_source=team_cal&utm_content=league_url#game-601919
LOCATION:Ventura Family YMCA SportsPlex
BEGIN:VALARM
TRIGGER:-P2H
ACTION:DISPLAY
DESCRIPTION:Cavaliers vs Heat
END:VALARM
END:VEVENT
BEGIN:VEVENT
UID:ventura-601923@ygametime.com
DTSTAMP:20260524T223000Z
DTSTART;TZID=America/Los_Angeles:20260524T153000
DURATION:PT0H65M0S
SUMMARY:Heat vs Celtics
DESCRIPTION:Division 3 Ages (9-10) | Basketball League\nVentura Family YMCA\n
URL;VALUE=URI:https://ygametime.com/branch/ventura/sports/2026-spring-basketball-league/25747/?utm_medium=calendar&utm_source=team_cal&utm_content=league_url#game-601923
LOCATION:Ventura Family YMCA SportsPlex
BEGIN:VALARM
TRIGGER:-P2H
ACTION:DISPLAY
DESCRIPTION:Heat vs Celtics
END:VALARM
END:VEVENT
BEGIN:VEVENT
UID:ventura-601927@ygametime.com
DTSTAMP:20260531T223000Z
DTSTART;TZID=America/Los_Angeles:20260531T153000
DURATION:PT0H65M0S
SUMMARY:Pelicans vs Heat
DESCRIPTION:Division 3 Ages (9-10) | Basketball League\nVentura Family YMCA\n
URL;VALUE=URI:https://ygametime.com/branch/ventura/sports/2026-spring-basketball-league/25747/?utm_medium=calendar&utm_source=team_cal&utm_content=league_url#game-601927
LOCATION:Ventura Family YMCA SportsPlex
BEGIN:VALARM
TRIGGER:-P2H
ACTION:DISPLAY
DESCRIPTION:Pelicans vs Heat
END:VALARM
END:VEVENT
BEGIN:VEVENT
UID:ventura-601930@ygametime.com
DTSTAMP:20260607T212500Z
DTSTART;TZID=America/Los_Angeles:20260607T142500
DURATION:PT0H65M0S
SUMMARY:Heat vs Knicks
DESCRIPTION:Division 3 Ages (9-10) | Basketball League\nVentura Family YMCA\n
URL;VALUE=URI:https://ygametime.com/branch/ventura/sports/2026-spring-basketball-league/25747/?utm_medium=calendar&utm_source=team_cal&utm_content=league_url#game-601930
LOCATION:Ventura Family YMCA SportsPlex
BEGIN:VALARM
TRIGGER:-P2H
ACTION:DISPLAY
DESCRIPTION:Heat vs Knicks
END:VALARM
END:VEVENT
BEGIN:VEVENT
UID:ventura-601932@ygametime.com
DTSTAMP:20260614T191500Z
DTSTART;TZID=America/Los_Angeles:20260614T121500
DURATION:PT0H65M0S
SUMMARY:Suns vs Heat
DESCRIPTION:Division 3 Ages (9-10) | Basketball League\nVentura Family YMCA\n
URL;VALUE=URI:https://ygametime.com/branch/ventura/sports/2026-spring-basketball-league/25747/?utm_medium=calendar&utm_source=team_cal&utm_content=league_url#game-601932
LOCATION:Ventura Family YMCA SportsPlex
BEGIN:VALARM
TRIGGER:-P2H
ACTION:DISPLAY
DESCRIPTION:Suns vs Heat
END:VALARM
END:VEVENT
END:VCALENDAR

