BEGIN:VCALENDAR
VERSION:2.0
PRODID:-//YGAMETIME.com//YGT iCal Creator//EN
METHOD:PUBLISH
X-PUBLISHED-TTL:PT6H
REFRESH-INTERVAL;VALUE=DURATION:PT6H
CALSCALE:GREGORIAN
X-WR-CALNAME:YGAMETIME CALENDAR
BEGIN:VEVENT
UID:ventura-603052@ygametime.com
DTSTAMP:20260502T220000Z
DTSTART;TZID=America/Los_Angeles:20260502T150000
DURATION:PT0H60M0S
SUMMARY:Spurs vs Bucks
DESCRIPTION:Division 4 Ages (11-12) | Basketball League\nVentura Family YMCA\n
URL;VALUE=URI:https://ygametime.com/branch/ventura/sports/2026-spring-basketball-league/25748/?utm_medium=calendar&utm_source=team_cal&utm_content=league_url#game-603052
LOCATION:Ventura Family YMCA SportsPlex
BEGIN:VALARM
TRIGGER:-P2H
ACTION:DISPLAY
DESCRIPTION:Spurs vs Bucks
END:VALARM
END:VEVENT
BEGIN:VEVENT
UID:ventura-603055@ygametime.com
DTSTAMP:20260509T230000Z
DTSTART;TZID=America/Los_Angeles:20260509T160000
DURATION:PT0H60M0S
SUMMARY:Bucks vs Jazz
DESCRIPTION:Division 4 Ages (11-12) | Basketball League\nVentura Family YMCA\n
URL;VALUE=URI:https://ygametime.com/branch/ventura/sports/2026-spring-basketball-league/25748/?utm_medium=calendar&utm_source=team_cal&utm_content=league_url#game-603055
LOCATION:Ventura Family YMCA SportsPlex
BEGIN:VALARM
TRIGGER:-P2H
ACTION:DISPLAY
DESCRIPTION:Bucks vs Jazz
END:VALARM
END:VEVENT
BEGIN:VEVENT
UID:ventura-603056@ygametime.com
DTSTAMP:20260516T220000Z
DTSTART;TZID=America/Los_Angeles:20260516T150000
DURATION:PT0H60M0S
SUMMARY:Bulls vs Bucks
DESCRIPTION:Division 4 Ages (11-12) | Basketball League\nVentura Family YMCA\n
URL;VALUE=URI:https://ygametime.com/branch/ventura/sports/2026-spring-basketball-league/25748/?utm_medium=calendar&utm_source=team_cal&utm_content=league_url#game-603056
LOCATION:Ventura Family YMCA SportsPlex
BEGIN:VALARM
TRIGGER:-P2H
ACTION:DISPLAY
DESCRIPTION:Bulls vs Bucks
END:VALARM
END:VEVENT
BEGIN:VEVENT
UID:ventura-603059@ygametime.com
DTSTAMP:20260523T230000Z
DTSTART;TZID=America/Los_Angeles:20260523T160000
DURATION:PT0H60M0S
SUMMARY:Spurs vs Bucks
DESCRIPTION:Division 4 Ages (11-12) | Basketball League\nVentura Family YMCA\n
URL;VALUE=URI:https://ygametime.com/branch/ventura/sports/2026-spring-basketball-league/25748/?utm_medium=calendar&utm_source=team_cal&utm_content=league_url#game-603059
LOCATION:Ventura Family YMCA SportsPlex
BEGIN:VALARM
TRIGGER:-P2H
ACTION:DISPLAY
DESCRIPTION:Spurs vs Bucks
END:VALARM
END:VEVENT
BEGIN:VEVENT
UID:ventura-603060@ygametime.com
DTSTAMP:20260530T220000Z
DTSTART;TZID=America/Los_Angeles:20260530T150000
DURATION:PT0H60M0S
SUMMARY:Bucks vs Jazz
DESCRIPTION:Division 4 Ages (11-12) | Basketball League\nVentura Family YMCA\n
URL;VALUE=URI:https://ygametime.com/branch/ventura/sports/2026-spring-basketball-league/25748/?utm_medium=calendar&utm_source=team_cal&utm_content=league_url#game-603060
LOCATION:Ventura Family YMCA SportsPlex
BEGIN:VALARM
TRIGGER:-P2H
ACTION:DISPLAY
DESCRIPTION:Bucks vs Jazz
END:VALARM
END:VEVENT
BEGIN:VEVENT
UID:ventura-603063@ygametime.com
DTSTAMP:20260606T230000Z
DTSTART;TZID=America/Los_Angeles:20260606T160000
DURATION:PT0H60M0S
SUMMARY:Bulls vs Bucks
DESCRIPTION:Division 4 Ages (11-12) | Basketball League\nVentura Family YMCA\n
URL;VALUE=URI:https://ygametime.com/branch/ventura/sports/2026-spring-basketball-league/25748/?utm_medium=calendar&utm_source=team_cal&utm_content=league_url#game-603063
LOCATION:Ventura Family YMCA SportsPlex
BEGIN:VALARM
TRIGGER:-P2H
ACTION:DISPLAY
DESCRIPTION:Bulls vs Bucks
END:VALARM
END:VEVENT
BEGIN:VEVENT
UID:ventura-603064@ygametime.com
DTSTAMP:20260613T220000Z
DTSTART;TZID=America/Los_Angeles:20260613T150000
DURATION:PT0H60M0S
SUMMARY:Spurs vs Bucks
DESCRIPTION:Division 4 Ages (11-12) | Basketball League\nVentura Family YMCA\n
URL;VALUE=URI:https://ygametime.com/branch/ventura/sports/2026-spring-basketball-league/25748/?utm_medium=calendar&utm_source=team_cal&utm_content=league_url#game-603064
LOCATION:Ventura Family YMCA SportsPlex
BEGIN:VALARM
TRIGGER:-P2H
ACTION:DISPLAY
DESCRIPTION:Spurs vs Bucks
END:VALARM
END:VEVENT
END:VCALENDAR

