BEGIN:VCALENDAR
VERSION:2.0
PRODID:-//YGAMETIME.com//YGT iCal Creator//EN
METHOD:PUBLISH
X-PUBLISHED-TTL:PT6H
REFRESH-INTERVAL;VALUE=DURATION:PT6H
CALSCALE:GREGORIAN
X-WR-CALNAME:YGAMETIME CALENDAR
BEGIN:VEVENT
UID:ventura-603053@ygametime.com
DTSTAMP:20260502T230000Z
DTSTART;TZID=America/Los_Angeles:20260502T160000
DURATION:PT0H60M0S
SUMMARY:Jazz vs Bulls
DESCRIPTION:Division 4 Ages (11-12) | Basketball League\nVentura Family YMCA\n
URL;VALUE=URI:https://ygametime.com/branch/ventura/sports/2026-spring-basketball-league/25748/?utm_medium=calendar&utm_source=team_cal&utm_content=league_url#game-603053
LOCATION:Ventura Family YMCA SportsPlex
BEGIN:VALARM
TRIGGER:-P2H
ACTION:DISPLAY
DESCRIPTION:Jazz vs Bulls
END:VALARM
END:VEVENT
BEGIN:VEVENT
UID:ventura-603054@ygametime.com
DTSTAMP:20260509T220000Z
DTSTART;TZID=America/Los_Angeles:20260509T150000
DURATION:PT0H60M0S
SUMMARY:Bulls vs Spurs
DESCRIPTION:Division 4 Ages (11-12) | Basketball League\nVentura Family YMCA\n
URL;VALUE=URI:https://ygametime.com/branch/ventura/sports/2026-spring-basketball-league/25748/?utm_medium=calendar&utm_source=team_cal&utm_content=league_url#game-603054
LOCATION:Ventura Family YMCA SportsPlex
BEGIN:VALARM
TRIGGER:-P2H
ACTION:DISPLAY
DESCRIPTION:Bulls vs Spurs
END:VALARM
END:VEVENT
BEGIN:VEVENT
UID:ventura-603056@ygametime.com
DTSTAMP:20260516T220000Z
DTSTART;TZID=America/Los_Angeles:20260516T150000
DURATION:PT0H60M0S
SUMMARY:Bulls vs Bucks
DESCRIPTION:Division 4 Ages (11-12) | Basketball League\nVentura Family YMCA\n
URL;VALUE=URI:https://ygametime.com/branch/ventura/sports/2026-spring-basketball-league/25748/?utm_medium=calendar&utm_source=team_cal&utm_content=league_url#game-603056
LOCATION:Ventura Family YMCA SportsPlex
BEGIN:VALARM
TRIGGER:-P2H
ACTION:DISPLAY
DESCRIPTION:Bulls vs Bucks
END:VALARM
END:VEVENT
BEGIN:VEVENT
UID:ventura-603058@ygametime.com
DTSTAMP:20260523T220000Z
DTSTART;TZID=America/Los_Angeles:20260523T150000
DURATION:PT0H60M0S
SUMMARY:Jazz vs Bulls
DESCRIPTION:Division 4 Ages (11-12) | Basketball League\nVentura Family YMCA\n
URL;VALUE=URI:https://ygametime.com/branch/ventura/sports/2026-spring-basketball-league/25748/?utm_medium=calendar&utm_source=team_cal&utm_content=league_url#game-603058
LOCATION:Ventura Family YMCA SportsPlex
BEGIN:VALARM
TRIGGER:-P2H
ACTION:DISPLAY
DESCRIPTION:Jazz vs Bulls
END:VALARM
END:VEVENT
BEGIN:VEVENT
UID:ventura-603061@ygametime.com
DTSTAMP:20260530T230000Z
DTSTART;TZID=America/Los_Angeles:20260530T160000
DURATION:PT0H60M0S
SUMMARY:Bulls vs Spurs
DESCRIPTION:Division 4 Ages (11-12) | Basketball League\nVentura Family YMCA\n
URL;VALUE=URI:https://ygametime.com/branch/ventura/sports/2026-spring-basketball-league/25748/?utm_medium=calendar&utm_source=team_cal&utm_content=league_url#game-603061
LOCATION:Ventura Family YMCA SportsPlex
BEGIN:VALARM
TRIGGER:-P2H
ACTION:DISPLAY
DESCRIPTION:Bulls vs Spurs
END:VALARM
END:VEVENT
BEGIN:VEVENT
UID:ventura-603063@ygametime.com
DTSTAMP:20260606T230000Z
DTSTART;TZID=America/Los_Angeles:20260606T160000
DURATION:PT0H60M0S
SUMMARY:Bulls vs Bucks
DESCRIPTION:Division 4 Ages (11-12) | Basketball League\nVentura Family YMCA\n
URL;VALUE=URI:https://ygametime.com/branch/ventura/sports/2026-spring-basketball-league/25748/?utm_medium=calendar&utm_source=team_cal&utm_content=league_url#game-603063
LOCATION:Ventura Family YMCA SportsPlex
BEGIN:VALARM
TRIGGER:-P2H
ACTION:DISPLAY
DESCRIPTION:Bulls vs Bucks
END:VALARM
END:VEVENT
BEGIN:VEVENT
UID:ventura-603065@ygametime.com
DTSTAMP:20260613T230000Z
DTSTART;TZID=America/Los_Angeles:20260613T160000
DURATION:PT0H60M0S
SUMMARY:Jazz vs Bulls
DESCRIPTION:Division 4 Ages (11-12) | Basketball League\nVentura Family YMCA\n
URL;VALUE=URI:https://ygametime.com/branch/ventura/sports/2026-spring-basketball-league/25748/?utm_medium=calendar&utm_source=team_cal&utm_content=league_url#game-603065
LOCATION:Ventura Family YMCA SportsPlex
BEGIN:VALARM
TRIGGER:-P2H
ACTION:DISPLAY
DESCRIPTION:Jazz vs Bulls
END:VALARM
END:VEVENT
END:VCALENDAR

