BEGIN:VCALENDAR
VERSION:2.0
PRODID:-//YGAMETIME.com//YGT iCal Creator//EN
METHOD:PUBLISH
X-PUBLISHED-TTL:PT6H
REFRESH-INTERVAL;VALUE=DURATION:PT6H
CALSCALE:GREGORIAN
X-WR-CALNAME:YGAMETIME CALENDAR
BEGIN:VEVENT
UID:ventura-603072@ygametime.com
DTSTAMP:20260501T011500Z
DTSTART;TZID=America/Los_Angeles:20260430T181500
DURATION:PT0H60M0S
SUMMARY:Timberwolves vs Warriors
DESCRIPTION:Division 5 Ages (13-15) | Basketball League\nVentura Family YMCA\n
URL;VALUE=URI:https://ygametime.com/branch/ventura/sports/2026-spring-basketball-league/25749/?utm_medium=calendar&utm_source=team_cal&utm_content=league_url#game-603072
LOCATION:Ventura Family YMCA SportsPlex
BEGIN:VALARM
TRIGGER:-P2H
ACTION:DISPLAY
DESCRIPTION:Timberwolves vs Warriors
END:VALARM
END:VEVENT
BEGIN:VEVENT
UID:ventura-603074@ygametime.com
DTSTAMP:20260508T011500Z
DTSTART;TZID=America/Los_Angeles:20260507T181500
DURATION:PT0H60M0S
SUMMARY:Mavericks vs Timberwolves
DESCRIPTION:Division 5 Ages (13-15) | Basketball League\nVentura Family YMCA\n
URL;VALUE=URI:https://ygametime.com/branch/ventura/sports/2026-spring-basketball-league/25749/?utm_medium=calendar&utm_source=team_cal&utm_content=league_url#game-603074
LOCATION:Ventura Family YMCA SportsPlex
BEGIN:VALARM
TRIGGER:-P2H
ACTION:DISPLAY
DESCRIPTION:Mavericks vs Timberwolves
END:VALARM
END:VEVENT
BEGIN:VEVENT
UID:ventura-603077@ygametime.com
DTSTAMP:20260515T021500Z
DTSTART;TZID=America/Los_Angeles:20260514T191500
DURATION:PT0H60M0S
SUMMARY:Timberwolves vs Trail Blazers
DESCRIPTION:Division 5 Ages (13-15) | Basketball League\nVentura Family YMCA\n
URL;VALUE=URI:https://ygametime.com/branch/ventura/sports/2026-spring-basketball-league/25749/?utm_medium=calendar&utm_source=team_cal&utm_content=league_url#game-603077
LOCATION:Ventura Family YMCA SportsPlex
BEGIN:VALARM
TRIGGER:-P2H
ACTION:DISPLAY
DESCRIPTION:Timberwolves vs Trail Blazers
END:VALARM
END:VEVENT
BEGIN:VEVENT
UID:ventura-603079@ygametime.com
DTSTAMP:20260522T021500Z
DTSTART;TZID=America/Los_Angeles:20260521T191500
DURATION:PT0H60M0S
SUMMARY:Timberwolves vs Warriors
DESCRIPTION:Division 5 Ages (13-15) | Basketball League\nVentura Family YMCA\n
URL;VALUE=URI:https://ygametime.com/branch/ventura/sports/2026-spring-basketball-league/25749/?utm_medium=calendar&utm_source=team_cal&utm_content=league_url#game-603079
LOCATION:Ventura Family YMCA SportsPlex
BEGIN:VALARM
TRIGGER:-P2H
ACTION:DISPLAY
DESCRIPTION:Timberwolves vs Warriors
END:VALARM
END:VEVENT
BEGIN:VEVENT
UID:ventura-603081@ygametime.com
DTSTAMP:20260529T021500Z
DTSTART;TZID=America/Los_Angeles:20260528T191500
DURATION:PT0H60M0S
SUMMARY:Mavericks vs Timberwolves
DESCRIPTION:Division 5 Ages (13-15) | Basketball League\nVentura Family YMCA\n
URL;VALUE=URI:https://ygametime.com/branch/ventura/sports/2026-spring-basketball-league/25749/?utm_medium=calendar&utm_source=team_cal&utm_content=league_url#game-603081
LOCATION:Ventura Family YMCA SportsPlex
BEGIN:VALARM
TRIGGER:-P2H
ACTION:DISPLAY
DESCRIPTION:Mavericks vs Timberwolves
END:VALARM
END:VEVENT
BEGIN:VEVENT
UID:ventura-603082@ygametime.com
DTSTAMP:20260605T011500Z
DTSTART;TZID=America/Los_Angeles:20260604T181500
DURATION:PT0H60M0S
SUMMARY:Timberwolves vs Trail Blazers
DESCRIPTION:Division 5 Ages (13-15) | Basketball League\nVentura Family YMCA\n
URL;VALUE=URI:https://ygametime.com/branch/ventura/sports/2026-spring-basketball-league/25749/?utm_medium=calendar&utm_source=team_cal&utm_content=league_url#game-603082
LOCATION:Ventura Family YMCA SportsPlex
BEGIN:VALARM
TRIGGER:-P2H
ACTION:DISPLAY
DESCRIPTION:Timberwolves vs Trail Blazers
END:VALARM
END:VEVENT
BEGIN:VEVENT
UID:ventura-603084@ygametime.com
DTSTAMP:20260612T011500Z
DTSTART;TZID=America/Los_Angeles:20260611T181500
DURATION:PT0H60M0S
SUMMARY:Timberwolves vs Warriors
DESCRIPTION:Division 5 Ages (13-15) | Basketball League\nVentura Family YMCA\n
URL;VALUE=URI:https://ygametime.com/branch/ventura/sports/2026-spring-basketball-league/25749/?utm_medium=calendar&utm_source=team_cal&utm_content=league_url#game-603084
LOCATION:Ventura Family YMCA SportsPlex
BEGIN:VALARM
TRIGGER:-P2H
ACTION:DISPLAY
DESCRIPTION:Timberwolves vs Warriors
END:VALARM
END:VEVENT
END:VCALENDAR

