BEGIN:VCALENDAR
VERSION:2.0
PRODID:-//YGAMETIME.com//YGT iCal Creator//EN
METHOD:PUBLISH
X-PUBLISHED-TTL:PT6H
REFRESH-INTERVAL;VALUE=DURATION:PT6H
CALSCALE:GREGORIAN
X-WR-CALNAME:YGAMETIME CALENDAR
BEGIN:VEVENT
UID:ventura-603073@ygametime.com
DTSTAMP:20260501T021500Z
DTSTART;TZID=America/Los_Angeles:20260430T191500
DURATION:PT0H60M0S
SUMMARY:Trail Blazers vs Mavericks
DESCRIPTION:Division 5 Ages (13-15) | Basketball League\nVentura Family YMCA\n
URL;VALUE=URI:https://ygametime.com/branch/ventura/sports/2026-spring-basketball-league/25749/?utm_medium=calendar&utm_source=team_cal&utm_content=league_url#game-603073
LOCATION:Ventura Family YMCA SportsPlex
BEGIN:VALARM
TRIGGER:-P2H
ACTION:DISPLAY
DESCRIPTION:Trail Blazers vs Mavericks
END:VALARM
END:VEVENT
BEGIN:VEVENT
UID:ventura-603075@ygametime.com
DTSTAMP:20260508T021500Z
DTSTART;TZID=America/Los_Angeles:20260507T191500
DURATION:PT0H60M0S
SUMMARY:Warriors vs Trail Blazers
DESCRIPTION:Division 5 Ages (13-15) | Basketball League\nVentura Family YMCA\n
URL;VALUE=URI:https://ygametime.com/branch/ventura/sports/2026-spring-basketball-league/25749/?utm_medium=calendar&utm_source=team_cal&utm_content=league_url#game-603075
LOCATION:Ventura Family YMCA SportsPlex
BEGIN:VALARM
TRIGGER:-P2H
ACTION:DISPLAY
DESCRIPTION:Warriors vs Trail Blazers
END:VALARM
END:VEVENT
BEGIN:VEVENT
UID:ventura-603077@ygametime.com
DTSTAMP:20260515T021500Z
DTSTART;TZID=America/Los_Angeles:20260514T191500
DURATION:PT0H60M0S
SUMMARY:Timberwolves vs Trail Blazers
DESCRIPTION:Division 5 Ages (13-15) | Basketball League\nVentura Family YMCA\n
URL;VALUE=URI:https://ygametime.com/branch/ventura/sports/2026-spring-basketball-league/25749/?utm_medium=calendar&utm_source=team_cal&utm_content=league_url#game-603077
LOCATION:Ventura Family YMCA SportsPlex
BEGIN:VALARM
TRIGGER:-P2H
ACTION:DISPLAY
DESCRIPTION:Timberwolves vs Trail Blazers
END:VALARM
END:VEVENT
BEGIN:VEVENT
UID:ventura-603078@ygametime.com
DTSTAMP:20260522T011500Z
DTSTART;TZID=America/Los_Angeles:20260521T181500
DURATION:PT0H60M0S
SUMMARY:Trail Blazers vs Mavericks
DESCRIPTION:Division 5 Ages (13-15) | Basketball League\nVentura Family YMCA\n
URL;VALUE=URI:https://ygametime.com/branch/ventura/sports/2026-spring-basketball-league/25749/?utm_medium=calendar&utm_source=team_cal&utm_content=league_url#game-603078
LOCATION:Ventura Family YMCA SportsPlex
BEGIN:VALARM
TRIGGER:-P2H
ACTION:DISPLAY
DESCRIPTION:Trail Blazers vs Mavericks
END:VALARM
END:VEVENT
BEGIN:VEVENT
UID:ventura-603080@ygametime.com
DTSTAMP:20260529T011500Z
DTSTART;TZID=America/Los_Angeles:20260528T181500
DURATION:PT0H60M0S
SUMMARY:Warriors vs Trail Blazers
DESCRIPTION:Division 5 Ages (13-15) | Basketball League\nVentura Family YMCA\n
URL;VALUE=URI:https://ygametime.com/branch/ventura/sports/2026-spring-basketball-league/25749/?utm_medium=calendar&utm_source=team_cal&utm_content=league_url#game-603080
LOCATION:Ventura Family YMCA SportsPlex
BEGIN:VALARM
TRIGGER:-P2H
ACTION:DISPLAY
DESCRIPTION:Warriors vs Trail Blazers
END:VALARM
END:VEVENT
BEGIN:VEVENT
UID:ventura-603082@ygametime.com
DTSTAMP:20260605T011500Z
DTSTART;TZID=America/Los_Angeles:20260604T181500
DURATION:PT0H60M0S
SUMMARY:Timberwolves vs Trail Blazers
DESCRIPTION:Division 5 Ages (13-15) | Basketball League\nVentura Family YMCA\n
URL;VALUE=URI:https://ygametime.com/branch/ventura/sports/2026-spring-basketball-league/25749/?utm_medium=calendar&utm_source=team_cal&utm_content=league_url#game-603082
LOCATION:Ventura Family YMCA SportsPlex
BEGIN:VALARM
TRIGGER:-P2H
ACTION:DISPLAY
DESCRIPTION:Timberwolves vs Trail Blazers
END:VALARM
END:VEVENT
BEGIN:VEVENT
UID:ventura-603085@ygametime.com
DTSTAMP:20260612T021500Z
DTSTART;TZID=America/Los_Angeles:20260611T191500
DURATION:PT0H60M0S
SUMMARY:Trail Blazers vs Mavericks
DESCRIPTION:Division 5 Ages (13-15) | Basketball League\nVentura Family YMCA\n
URL;VALUE=URI:https://ygametime.com/branch/ventura/sports/2026-spring-basketball-league/25749/?utm_medium=calendar&utm_source=team_cal&utm_content=league_url#game-603085
LOCATION:Ventura Family YMCA SportsPlex
BEGIN:VALARM
TRIGGER:-P2H
ACTION:DISPLAY
DESCRIPTION:Trail Blazers vs Mavericks
END:VALARM
END:VEVENT
END:VCALENDAR

