BEGIN:VCALENDAR
VERSION:2.0
PRODID:-//YGAMETIME.com//YGT iCal Creator//EN
METHOD:PUBLISH
X-PUBLISHED-TTL:PT6H
REFRESH-INTERVAL;VALUE=DURATION:PT6H
CALSCALE:GREGORIAN
X-WR-CALNAME:YGAMETIME CALENDAR
BEGIN:VEVENT
UID:ventura-601910@ygametime.com
DTSTAMP:20260503T212500Z
DTSTART;TZID=America/Los_Angeles:20260503T142500
DURATION:PT0H65M0S
SUMMARY:Celtics vs Knicks
DESCRIPTION:Division 3 Ages (9-10) | Basketball League\nVentura Family YMCA\n
URL;VALUE=URI:https://ygametime.com/branch/ventura/sports/2026-spring-basketball-league/25747/?utm_medium=calendar&utm_source=team_cal&utm_content=league_url#game-601910
LOCATION:Ventura Family YMCA SportsPlex
BEGIN:VALARM
TRIGGER:-P2H
ACTION:DISPLAY
DESCRIPTION:Celtics vs Knicks
END:VALARM
END:VEVENT
BEGIN:VEVENT
UID:ventura-601912@ygametime.com
DTSTAMP:20260510T191500Z
DTSTART;TZID=America/Los_Angeles:20260510T121500
DURATION:PT0H65M0S
SUMMARY:Knicks vs Pelicans
DESCRIPTION:Division 3 Ages (9-10) | Basketball League\nVentura Family YMCA\n
URL;VALUE=URI:https://ygametime.com/branch/ventura/sports/2026-spring-basketball-league/25747/?utm_medium=calendar&utm_source=team_cal&utm_content=league_url#game-601912
LOCATION:Ventura Family YMCA SportsPlex
BEGIN:VALARM
TRIGGER:-P2H
ACTION:DISPLAY
DESCRIPTION:Knicks vs Pelicans
END:VALARM
END:VEVENT
BEGIN:VEVENT
UID:ventura-601918@ygametime.com
DTSTAMP:20260517T212500Z
DTSTART;TZID=America/Los_Angeles:20260517T142500
DURATION:PT0H65M0S
SUMMARY:Knicks vs Pacers
DESCRIPTION:Division 3 Ages (9-10) | Basketball League\nVentura Family YMCA\n
URL;VALUE=URI:https://ygametime.com/branch/ventura/sports/2026-spring-basketball-league/25747/?utm_medium=calendar&utm_source=team_cal&utm_content=league_url#game-601918
LOCATION:Ventura Family YMCA SportsPlex
BEGIN:VALARM
TRIGGER:-P2H
ACTION:DISPLAY
DESCRIPTION:Knicks vs Pacers
END:VALARM
END:VEVENT
BEGIN:VEVENT
UID:ventura-601922@ygametime.com
DTSTAMP:20260524T212500Z
DTSTART;TZID=America/Los_Angeles:20260524T142500
DURATION:PT0H65M0S
SUMMARY:Suns vs Knicks
DESCRIPTION:Division 3 Ages (9-10) | Basketball League\nVentura Family YMCA\n
URL;VALUE=URI:https://ygametime.com/branch/ventura/sports/2026-spring-basketball-league/25747/?utm_medium=calendar&utm_source=team_cal&utm_content=league_url#game-601922
LOCATION:Ventura Family YMCA SportsPlex
BEGIN:VALARM
TRIGGER:-P2H
ACTION:DISPLAY
DESCRIPTION:Suns vs Knicks
END:VALARM
END:VEVENT
BEGIN:VEVENT
UID:ventura-601926@ygametime.com
DTSTAMP:20260531T212500Z
DTSTART;TZID=America/Los_Angeles:20260531T142500
DURATION:PT0H65M0S
SUMMARY:Knicks vs Lakers
DESCRIPTION:Division 3 Ages (9-10) | Basketball League\nVentura Family YMCA\n
URL;VALUE=URI:https://ygametime.com/branch/ventura/sports/2026-spring-basketball-league/25747/?utm_medium=calendar&utm_source=team_cal&utm_content=league_url#game-601926
LOCATION:Ventura Family YMCA SportsPlex
BEGIN:VALARM
TRIGGER:-P2H
ACTION:DISPLAY
DESCRIPTION:Knicks vs Lakers
END:VALARM
END:VEVENT
BEGIN:VEVENT
UID:ventura-601930@ygametime.com
DTSTAMP:20260607T212500Z
DTSTART;TZID=America/Los_Angeles:20260607T142500
DURATION:PT0H65M0S
SUMMARY:Heat vs Knicks
DESCRIPTION:Division 3 Ages (9-10) | Basketball League\nVentura Family YMCA\n
URL;VALUE=URI:https://ygametime.com/branch/ventura/sports/2026-spring-basketball-league/25747/?utm_medium=calendar&utm_source=team_cal&utm_content=league_url#game-601930
LOCATION:Ventura Family YMCA SportsPlex
BEGIN:VALARM
TRIGGER:-P2H
ACTION:DISPLAY
DESCRIPTION:Heat vs Knicks
END:VALARM
END:VEVENT
BEGIN:VEVENT
UID:ventura-601933@ygametime.com
DTSTAMP:20260614T202000Z
DTSTART;TZID=America/Los_Angeles:20260614T132000
DURATION:PT0H65M0S
SUMMARY:Knicks vs Cavaliers
DESCRIPTION:Division 3 Ages (9-10) | Basketball League\nVentura Family YMCA\n
URL;VALUE=URI:https://ygametime.com/branch/ventura/sports/2026-spring-basketball-league/25747/?utm_medium=calendar&utm_source=team_cal&utm_content=league_url#game-601933
LOCATION:Ventura Family YMCA SportsPlex
BEGIN:VALARM
TRIGGER:-P2H
ACTION:DISPLAY
DESCRIPTION:Knicks vs Cavaliers
END:VALARM
END:VEVENT
END:VCALENDAR

