BEGIN:VCALENDAR
VERSION:2.0
PRODID:-//YGAMETIME.com//YGT iCal Creator//EN
METHOD:PUBLISH
X-PUBLISHED-TTL:PT6H
REFRESH-INTERVAL;VALUE=DURATION:PT6H
CALSCALE:GREGORIAN
X-WR-CALNAME:YGAMETIME CALENDAR
BEGIN:VEVENT
UID:ventura-601911@ygametime.com
DTSTAMP:20260503T223000Z
DTSTART;TZID=America/Los_Angeles:20260503T153000
DURATION:PT0H65M0S
SUMMARY:Cavaliers vs Suns
DESCRIPTION:Division 3 Ages (9-10) | Basketball League\nVentura Family YMCA\n
URL;VALUE=URI:https://ygametime.com/branch/ventura/sports/2026-spring-basketball-league/25747/?utm_medium=calendar&utm_source=team_cal&utm_content=league_url#game-601911
LOCATION:Ventura Family YMCA SportsPlex
BEGIN:VALARM
TRIGGER:-P2H
ACTION:DISPLAY
DESCRIPTION:Cavaliers vs Suns
END:VALARM
END:VEVENT
BEGIN:VEVENT
UID:ventura-601913@ygametime.com
DTSTAMP:20260510T202000Z
DTSTART;TZID=America/Los_Angeles:20260510T132000
DURATION:PT0H65M0S
SUMMARY:Lakers vs Cavaliers
DESCRIPTION:Division 3 Ages (9-10) | Basketball League\nVentura Family YMCA\n
URL;VALUE=URI:https://ygametime.com/branch/ventura/sports/2026-spring-basketball-league/25747/?utm_medium=calendar&utm_source=team_cal&utm_content=league_url#game-601913
LOCATION:Ventura Family YMCA SportsPlex
BEGIN:VALARM
TRIGGER:-P2H
ACTION:DISPLAY
DESCRIPTION:Lakers vs Cavaliers
END:VALARM
END:VEVENT
BEGIN:VEVENT
UID:ventura-601919@ygametime.com
DTSTAMP:20260517T223000Z
DTSTART;TZID=America/Los_Angeles:20260517T153000
DURATION:PT0H65M0S
SUMMARY:Cavaliers vs Heat
DESCRIPTION:Division 3 Ages (9-10) | Basketball League\nVentura Family YMCA\n
URL;VALUE=URI:https://ygametime.com/branch/ventura/sports/2026-spring-basketball-league/25747/?utm_medium=calendar&utm_source=team_cal&utm_content=league_url#game-601919
LOCATION:Ventura Family YMCA SportsPlex
BEGIN:VALARM
TRIGGER:-P2H
ACTION:DISPLAY
DESCRIPTION:Cavaliers vs Heat
END:VALARM
END:VEVENT
BEGIN:VEVENT
UID:ventura-601921@ygametime.com
DTSTAMP:20260524T202000Z
DTSTART;TZID=America/Los_Angeles:20260524T132000
DURATION:PT0H65M0S
SUMMARY:Pacers vs Cavaliers
DESCRIPTION:Division 3 Ages (9-10) | Basketball League\nVentura Family YMCA\n
URL;VALUE=URI:https://ygametime.com/branch/ventura/sports/2026-spring-basketball-league/25747/?utm_medium=calendar&utm_source=team_cal&utm_content=league_url#game-601921
LOCATION:Ventura Family YMCA SportsPlex
BEGIN:VALARM
TRIGGER:-P2H
ACTION:DISPLAY
DESCRIPTION:Pacers vs Cavaliers
END:VALARM
END:VEVENT
BEGIN:VEVENT
UID:ventura-601925@ygametime.com
DTSTAMP:20260531T202000Z
DTSTART;TZID=America/Los_Angeles:20260531T132000
DURATION:PT0H65M0S
SUMMARY:Celtics vs Cavaliers
DESCRIPTION:Division 3 Ages (9-10) | Basketball League\nVentura Family YMCA\n
URL;VALUE=URI:https://ygametime.com/branch/ventura/sports/2026-spring-basketball-league/25747/?utm_medium=calendar&utm_source=team_cal&utm_content=league_url#game-601925
LOCATION:Ventura Family YMCA SportsPlex
BEGIN:VALARM
TRIGGER:-P2H
ACTION:DISPLAY
DESCRIPTION:Celtics vs Cavaliers
END:VALARM
END:VEVENT
BEGIN:VEVENT
UID:ventura-601929@ygametime.com
DTSTAMP:20260607T202000Z
DTSTART;TZID=America/Los_Angeles:20260607T132000
DURATION:PT0H65M0S
SUMMARY:Cavaliers vs Pelicans
DESCRIPTION:Division 3 Ages (9-10) | Basketball League\nVentura Family YMCA\n
URL;VALUE=URI:https://ygametime.com/branch/ventura/sports/2026-spring-basketball-league/25747/?utm_medium=calendar&utm_source=team_cal&utm_content=league_url#game-601929
LOCATION:Ventura Family YMCA SportsPlex
BEGIN:VALARM
TRIGGER:-P2H
ACTION:DISPLAY
DESCRIPTION:Cavaliers vs Pelicans
END:VALARM
END:VEVENT
BEGIN:VEVENT
UID:ventura-601933@ygametime.com
DTSTAMP:20260614T202000Z
DTSTART;TZID=America/Los_Angeles:20260614T132000
DURATION:PT0H65M0S
SUMMARY:Knicks vs Cavaliers
DESCRIPTION:Division 3 Ages (9-10) | Basketball League\nVentura Family YMCA\n
URL;VALUE=URI:https://ygametime.com/branch/ventura/sports/2026-spring-basketball-league/25747/?utm_medium=calendar&utm_source=team_cal&utm_content=league_url#game-601933
LOCATION:Ventura Family YMCA SportsPlex
BEGIN:VALARM
TRIGGER:-P2H
ACTION:DISPLAY
DESCRIPTION:Knicks vs Cavaliers
END:VALARM
END:VEVENT
END:VCALENDAR

