BEGIN:VCALENDAR
VERSION:2.0
PRODID:-//YGAMETIME.com//YGT iCal Creator//EN
METHOD:PUBLISH
X-PUBLISHED-TTL:PT6H
REFRESH-INTERVAL;VALUE=DURATION:PT6H
CALSCALE:GREGORIAN
X-WR-CALNAME:YGAMETIME CALENDAR
BEGIN:VEVENT
UID:ventura-603026@ygametime.com
DTSTAMP:20260502T195000Z
DTSTART;TZID=America/Los_Angeles:20260502T125000
DURATION:PT0H65M0S
SUMMARY:Hornets vs Warriors
DESCRIPTION:Division 2 Ages (7-8) | Basketball League\nVentura Family YMCA\n
URL;VALUE=URI:https://ygametime.com/branch/ventura/sports/2026-spring-basketball-league/25746/?utm_medium=calendar&utm_source=team_cal&utm_content=league_url#game-603026
LOCATION:Ventura Family YMCA SportsPlex
BEGIN:VALARM
TRIGGER:-P2H
ACTION:DISPLAY
DESCRIPTION:Hornets vs Warriors
END:VALARM
END:VEVENT
BEGIN:VEVENT
UID:ventura-603028@ygametime.com
DTSTAMP:20260509T174000Z
DTSTART;TZID=America/Los_Angeles:20260509T104000
DURATION:PT0H65M0S
SUMMARY:Warriors vs Thunder
DESCRIPTION:Division 2 Ages (7-8) | Basketball League\nVentura Family YMCA\n
URL;VALUE=URI:https://ygametime.com/branch/ventura/sports/2026-spring-basketball-league/25746/?utm_medium=calendar&utm_source=team_cal&utm_content=league_url#game-603028
LOCATION:Ventura Family YMCA SportsPlex
BEGIN:VALARM
TRIGGER:-P2H
ACTION:DISPLAY
DESCRIPTION:Warriors vs Thunder
END:VALARM
END:VEVENT
BEGIN:VEVENT
UID:ventura-603034@ygametime.com
DTSTAMP:20260516T195000Z
DTSTART;TZID=America/Los_Angeles:20260516T125000
DURATION:PT0H65M0S
SUMMARY:Warriors vs Nuggets
DESCRIPTION:Division 2 Ages (7-8) | Basketball League\nVentura Family YMCA\n
URL;VALUE=URI:https://ygametime.com/branch/ventura/sports/2026-spring-basketball-league/25746/?utm_medium=calendar&utm_source=team_cal&utm_content=league_url#game-603034
LOCATION:Ventura Family YMCA SportsPlex
BEGIN:VALARM
TRIGGER:-P2H
ACTION:DISPLAY
DESCRIPTION:Warriors vs Nuggets
END:VALARM
END:VEVENT
BEGIN:VEVENT
UID:ventura-603038@ygametime.com
DTSTAMP:20260523T195000Z
DTSTART;TZID=America/Los_Angeles:20260523T125000
DURATION:PT0H65M0S
SUMMARY:Rockets vs Warriors
DESCRIPTION:Division 2 Ages (7-8) | Basketball League\nVentura Family YMCA\n
URL;VALUE=URI:https://ygametime.com/branch/ventura/sports/2026-spring-basketball-league/25746/?utm_medium=calendar&utm_source=team_cal&utm_content=league_url#game-603038
LOCATION:Ventura Family YMCA SportsPlex
BEGIN:VALARM
TRIGGER:-P2H
ACTION:DISPLAY
DESCRIPTION:Rockets vs Warriors
END:VALARM
END:VEVENT
BEGIN:VEVENT
UID:ventura-603042@ygametime.com
DTSTAMP:20260530T195000Z
DTSTART;TZID=America/Los_Angeles:20260530T125000
DURATION:PT0H65M0S
SUMMARY:Warriors vs Pistons
DESCRIPTION:Division 2 Ages (7-8) | Basketball League\nVentura Family YMCA\n
URL;VALUE=URI:https://ygametime.com/branch/ventura/sports/2026-spring-basketball-league/25746/?utm_medium=calendar&utm_source=team_cal&utm_content=league_url#game-603042
LOCATION:Ventura Family YMCA SportsPlex
BEGIN:VALARM
TRIGGER:-P2H
ACTION:DISPLAY
DESCRIPTION:Warriors vs Pistons
END:VALARM
END:VEVENT
BEGIN:VEVENT
UID:ventura-603046@ygametime.com
DTSTAMP:20260606T195000Z
DTSTART;TZID=America/Los_Angeles:20260606T125000
DURATION:PT0H65M0S
SUMMARY:Raptors vs Warriors
DESCRIPTION:Division 2 Ages (7-8) | Basketball League\nVentura Family YMCA\n
URL;VALUE=URI:https://ygametime.com/branch/ventura/sports/2026-spring-basketball-league/25746/?utm_medium=calendar&utm_source=team_cal&utm_content=league_url#game-603046
LOCATION:Ventura Family YMCA SportsPlex
BEGIN:VALARM
TRIGGER:-P2H
ACTION:DISPLAY
DESCRIPTION:Raptors vs Warriors
END:VALARM
END:VEVENT
BEGIN:VEVENT
UID:ventura-603049@ygametime.com
DTSTAMP:20260613T184500Z
DTSTART;TZID=America/Los_Angeles:20260613T114500
DURATION:PT0H65M0S
SUMMARY:Warriors vs Timberwolves
DESCRIPTION:Division 2 Ages (7-8) | Basketball League\nVentura Family YMCA\n
URL;VALUE=URI:https://ygametime.com/branch/ventura/sports/2026-spring-basketball-league/25746/?utm_medium=calendar&utm_source=team_cal&utm_content=league_url#game-603049
LOCATION:Ventura Family YMCA SportsPlex
BEGIN:VALARM
TRIGGER:-P2H
ACTION:DISPLAY
DESCRIPTION:Warriors vs Timberwolves
END:VALARM
END:VEVENT
END:VCALENDAR

