BEGIN:VCALENDAR
VERSION:2.0
PRODID:-//YGAMETIME.com//YGT iCal Creator//EN
METHOD:PUBLISH
X-PUBLISHED-TTL:PT6H
REFRESH-INTERVAL;VALUE=DURATION:PT6H
CALSCALE:GREGORIAN
X-WR-CALNAME:YGAMETIME CALENDAR
BEGIN:VTIMEZONE
TZID:America/Chicago
X-LIC-LOCATION:America/Chicago
BEGIN:DAYLIGHT
TZOFFSETFROM:-0600
TZOFFSETTO:-0500
TZNAME:CDT
DTSTART:19700308T020000
RRULE:FREQ=YEARLY;BYMONTH=3;BYDAY=2SU
END:DAYLIGHT
BEGIN:STANDARD
TZOFFSETFROM:-0500
TZOFFSETTO:-0600
TZNAME:CST
DTSTART:19701101T020000
RRULE:FREQ=YEARLY;BYMONTH=11;BYDAY=1SU
END:STANDARD
END:VTIMEZONE
BEGIN:VEVENT
UID:waxahachie-263451@ygametime.com
DTSTAMP:20211204T000000Z
DTSTART;TZID=America/Chicago:20211203T180000
DURATION:PT0H60M0S
SUMMARY:Lil Ballers vs Black Mambas
DESCRIPTION:Kinder Division | Youth Basketball\nWaxahachie Family YMCA\n
URL;VALUE=URI:https://ygametime.com/branch/waxahachie/sports/2021-winter-youth-basketball/11355/?utm_medium=calendar&utm_source=team_cal&utm_content=league_url#game-263451
LOCATION:Waxahachie YMCA - Front Court
BEGIN:VALARM
TRIGGER:-P2H
ACTION:DISPLAY
DESCRIPTION:Lil Ballers vs Black Mambas
END:VALARM
END:VEVENT
BEGIN:VEVENT
UID:waxahachie-263455@ygametime.com
DTSTAMP:20211211T000000Z
DTSTART;TZID=America/Chicago:20211210T180000
DURATION:PT0H60M0S
SUMMARY:Black Mambas vs Lions
DESCRIPTION:Kinder Division | Youth Basketball\nWaxahachie Family YMCA\n
URL;VALUE=URI:https://ygametime.com/branch/waxahachie/sports/2021-winter-youth-basketball/11355/?utm_medium=calendar&utm_source=team_cal&utm_content=league_url#game-263455
LOCATION:Waxahachie YMCA - Front Court
BEGIN:VALARM
TRIGGER:-P2H
ACTION:DISPLAY
DESCRIPTION:Black Mambas vs Lions
END:VALARM
END:VEVENT
BEGIN:VEVENT
UID:waxahachie-263459@ygametime.com
DTSTAMP:20211218T000000Z
DTSTART;TZID=America/Chicago:20211217T180000
DURATION:PT0H60M0S
SUMMARY:Ballin' Braves vs Black Mambas
DESCRIPTION:Kinder Division | Youth Basketball\nWaxahachie Family YMCA\n
URL;VALUE=URI:https://ygametime.com/branch/waxahachie/sports/2021-winter-youth-basketball/11355/?utm_medium=calendar&utm_source=team_cal&utm_content=league_url#game-263459
LOCATION:Waxahachie YMCA - Front Court
BEGIN:VALARM
TRIGGER:-P2H
ACTION:DISPLAY
DESCRIPTION:Ballin' Braves vs Black Mambas
END:VALARM
END:VEVENT
BEGIN:VEVENT
UID:waxahachie-263470@ygametime.com
DTSTAMP:20220108T000000Z
DTSTART;TZID=America/Chicago:20220107T180000
DURATION:PT0H60M0S
SUMMARY:Black Mambas vs Space Jammers
DESCRIPTION:Kinder Division | Youth Basketball\nWaxahachie Family YMCA\n
URL;VALUE=URI:https://ygametime.com/branch/waxahachie/sports/2021-winter-youth-basketball/11355/?utm_medium=calendar&utm_source=team_cal&utm_content=league_url#game-263470
LOCATION:Waxahachie YMCA - Back Court
BEGIN:VALARM
TRIGGER:-P2H
ACTION:DISPLAY
DESCRIPTION:Black Mambas vs Space Jammers
END:VALARM
END:VEVENT
BEGIN:VEVENT
UID:waxahachie-263476@ygametime.com
DTSTAMP:20220115T010000Z
DTSTART;TZID=America/Chicago:20220114T190000
DURATION:PT0H60M0S
SUMMARY:Black Mambas vs Tune Squad
DESCRIPTION:Kinder Division | Youth Basketball\nWaxahachie Family YMCA\n
URL;VALUE=URI:https://ygametime.com/branch/waxahachie/sports/2021-winter-youth-basketball/11355/?utm_medium=calendar&utm_source=team_cal&utm_content=league_url#game-263476
LOCATION:Waxahachie YMCA - Back Court
BEGIN:VALARM
TRIGGER:-P2H
ACTION:DISPLAY
DESCRIPTION:Black Mambas vs Tune Squad
END:VALARM
END:VEVENT
BEGIN:VEVENT
UID:waxahachie-263462@ygametime.com
DTSTAMP:20220122T000000Z
DTSTART;TZID=America/Chicago:20220121T180000
DURATION:PT0H60M0S
SUMMARY:Black Mambas vs Hurricanes
DESCRIPTION:Kinder Division | Youth Basketball\nWaxahachie Family YMCA\n
URL;VALUE=URI:https://ygametime.com/branch/waxahachie/sports/2021-winter-youth-basketball/11355/?utm_medium=calendar&utm_source=team_cal&utm_content=league_url#game-263462
LOCATION:Waxahachie YMCA - Back Court
BEGIN:VALARM
TRIGGER:-P2H
ACTION:DISPLAY
DESCRIPTION:Black Mambas vs Hurricanes
END:VALARM
END:VEVENT
BEGIN:VEVENT
UID:waxahachie-263468@ygametime.com
DTSTAMP:20220129T010000Z
DTSTART;TZID=America/Chicago:20220128T190000
DURATION:PT0H60M0S
SUMMARY:Mighty Mavs vs Black Mambas
DESCRIPTION:Kinder Division | Youth Basketball\nWaxahachie Family YMCA\n
URL;VALUE=URI:https://ygametime.com/branch/waxahachie/sports/2021-winter-youth-basketball/11355/?utm_medium=calendar&utm_source=team_cal&utm_content=league_url#game-263468
LOCATION:Waxahachie YMCA - Back Court
BEGIN:VALARM
TRIGGER:-P2H
ACTION:DISPLAY
DESCRIPTION:Mighty Mavs vs Black Mambas
END:VALARM
END:VEVENT
END:VCALENDAR

