BEGIN:VCALENDAR
VERSION:2.0
PRODID:-//YGAMETIME.com//YGT iCal Creator//EN
METHOD:PUBLISH
X-PUBLISHED-TTL:PT6H
REFRESH-INTERVAL;VALUE=DURATION:PT6H
CALSCALE:GREGORIAN
X-WR-CALNAME:YGAMETIME CALENDAR
BEGIN:VTIMEZONE
TZID:America/Chicago
X-LIC-LOCATION:America/Chicago
BEGIN:DAYLIGHT
TZOFFSETFROM:-0600
TZOFFSETTO:-0500
TZNAME:CDT
DTSTART:19700308T020000
RRULE:FREQ=YEARLY;BYMONTH=3;BYDAY=2SU
END:DAYLIGHT
BEGIN:STANDARD
TZOFFSETFROM:-0500
TZOFFSETTO:-0600
TZNAME:CST
DTSTART:19701101T020000
RRULE:FREQ=YEARLY;BYMONTH=11;BYDAY=1SU
END:STANDARD
END:VTIMEZONE
BEGIN:VEVENT
UID:waxahachie-263452@ygametime.com
DTSTAMP:20211204T010000Z
DTSTART;TZID=America/Chicago:20211203T190000
DURATION:PT0H60M0S
SUMMARY:Ballin' Braves vs Mighty Mavs
DESCRIPTION:Kinder Division | Youth Basketball\nWaxahachie Family YMCA\n
URL;VALUE=URI:https://ygametime.com/branch/waxahachie/sports/2021-winter-youth-basketball/11355/?utm_medium=calendar&utm_source=team_cal&utm_content=league_url#game-263452
LOCATION:Waxahachie YMCA - Back Court
BEGIN:VALARM
TRIGGER:-P2H
ACTION:DISPLAY
DESCRIPTION:Ballin' Braves vs Mighty Mavs
END:VALARM
END:VEVENT
BEGIN:VEVENT
UID:waxahachie-263456@ygametime.com
DTSTAMP:20211211T010000Z
DTSTART;TZID=America/Chicago:20211210T190000
DURATION:PT0H60M0S
SUMMARY:Space Jammers vs Ballin' Braves
DESCRIPTION:Kinder Division | Youth Basketball\nWaxahachie Family YMCA\n
URL;VALUE=URI:https://ygametime.com/branch/waxahachie/sports/2021-winter-youth-basketball/11355/?utm_medium=calendar&utm_source=team_cal&utm_content=league_url#game-263456
LOCATION:Waxahachie YMCA - Back Court
BEGIN:VALARM
TRIGGER:-P2H
ACTION:DISPLAY
DESCRIPTION:Space Jammers vs Ballin' Braves
END:VALARM
END:VEVENT
BEGIN:VEVENT
UID:waxahachie-263459@ygametime.com
DTSTAMP:20211218T000000Z
DTSTART;TZID=America/Chicago:20211217T180000
DURATION:PT0H60M0S
SUMMARY:Ballin' Braves vs Black Mambas
DESCRIPTION:Kinder Division | Youth Basketball\nWaxahachie Family YMCA\n
URL;VALUE=URI:https://ygametime.com/branch/waxahachie/sports/2021-winter-youth-basketball/11355/?utm_medium=calendar&utm_source=team_cal&utm_content=league_url#game-263459
LOCATION:Waxahachie YMCA - Front Court
BEGIN:VALARM
TRIGGER:-P2H
ACTION:DISPLAY
DESCRIPTION:Ballin' Braves vs Black Mambas
END:VALARM
END:VEVENT
BEGIN:VEVENT
UID:waxahachie-263473@ygametime.com
DTSTAMP:20220108T010000Z
DTSTART;TZID=America/Chicago:20220107T190000
DURATION:PT0H60M0S
SUMMARY:Tune Squad vs Ballin' Braves
DESCRIPTION:Kinder Division | Youth Basketball\nWaxahachie Family YMCA\n
URL;VALUE=URI:https://ygametime.com/branch/waxahachie/sports/2021-winter-youth-basketball/11355/?utm_medium=calendar&utm_source=team_cal&utm_content=league_url#game-263473
LOCATION:Waxahachie YMCA - Front Court
BEGIN:VALARM
TRIGGER:-P2H
ACTION:DISPLAY
DESCRIPTION:Tune Squad vs Ballin' Braves
END:VALARM
END:VEVENT
BEGIN:VEVENT
UID:waxahachie-263477@ygametime.com
DTSTAMP:20220115T010000Z
DTSTART;TZID=America/Chicago:20220114T190000
DURATION:PT0H60M0S
SUMMARY:Hurricanes vs Ballin' Braves
DESCRIPTION:Kinder Division | Youth Basketball\nWaxahachie Family YMCA\n
URL;VALUE=URI:https://ygametime.com/branch/waxahachie/sports/2021-winter-youth-basketball/11355/?utm_medium=calendar&utm_source=team_cal&utm_content=league_url#game-263477
LOCATION:Waxahachie YMCA - Front Court
BEGIN:VALARM
TRIGGER:-P2H
ACTION:DISPLAY
DESCRIPTION:Hurricanes vs Ballin' Braves
END:VALARM
END:VEVENT
BEGIN:VEVENT
UID:waxahachie-263465@ygametime.com
DTSTAMP:20220122T010000Z
DTSTART;TZID=America/Chicago:20220121T190000
DURATION:PT0H60M0S
SUMMARY:Lil Ballers vs Ballin' Braves
DESCRIPTION:Kinder Division | Youth Basketball\nWaxahachie Family YMCA\n
URL;VALUE=URI:https://ygametime.com/branch/waxahachie/sports/2021-winter-youth-basketball/11355/?utm_medium=calendar&utm_source=team_cal&utm_content=league_url#game-263465
LOCATION:Waxahachie YMCA - Front Court
BEGIN:VALARM
TRIGGER:-P2H
ACTION:DISPLAY
DESCRIPTION:Lil Ballers vs Ballin' Braves
END:VALARM
END:VEVENT
BEGIN:VEVENT
UID:waxahachie-263467@ygametime.com
DTSTAMP:20220129T000000Z
DTSTART;TZID=America/Chicago:20220128T180000
DURATION:PT0H60M0S
SUMMARY:Ballin' Braves vs Lions
DESCRIPTION:Kinder Division | Youth Basketball\nWaxahachie Family YMCA\n
URL;VALUE=URI:https://ygametime.com/branch/waxahachie/sports/2021-winter-youth-basketball/11355/?utm_medium=calendar&utm_source=team_cal&utm_content=league_url#game-263467
LOCATION:Waxahachie YMCA - Front Court
BEGIN:VALARM
TRIGGER:-P2H
ACTION:DISPLAY
DESCRIPTION:Ballin' Braves vs Lions
END:VALARM
END:VEVENT
END:VCALENDAR

