BEGIN:VCALENDAR
VERSION:2.0
PRODID:-//YGAMETIME.com//YGT iCal Creator//EN
METHOD:PUBLISH
X-PUBLISHED-TTL:PT6H
REFRESH-INTERVAL;VALUE=DURATION:PT6H
CALSCALE:GREGORIAN
X-WR-CALNAME:YGAMETIME CALENDAR
BEGIN:VTIMEZONE
TZID:America/Chicago
X-LIC-LOCATION:America/Chicago
BEGIN:DAYLIGHT
TZOFFSETFROM:-0600
TZOFFSETTO:-0500
TZNAME:CDT
DTSTART:19700308T020000
RRULE:FREQ=YEARLY;BYMONTH=3;BYDAY=2SU
END:DAYLIGHT
BEGIN:STANDARD
TZOFFSETFROM:-0500
TZOFFSETTO:-0600
TZNAME:CST
DTSTART:19701101T020000
RRULE:FREQ=YEARLY;BYMONTH=11;BYDAY=1SU
END:STANDARD
END:VTIMEZONE
BEGIN:VEVENT
UID:waxahachie-263453@ygametime.com
DTSTAMP:20211204T010000Z
DTSTART;TZID=America/Chicago:20211203T190000
DURATION:PT0H60M0S
SUMMARY:Lions vs Space Jammers
DESCRIPTION:Kinder Division | Youth Basketball\nWaxahachie Family YMCA\n
URL;VALUE=URI:https://ygametime.com/branch/waxahachie/sports/2021-winter-youth-basketball/11355/?utm_medium=calendar&utm_source=team_cal&utm_content=league_url#game-263453
LOCATION:Waxahachie YMCA - Front Court
BEGIN:VALARM
TRIGGER:-P2H
ACTION:DISPLAY
DESCRIPTION:Lions vs Space Jammers
END:VALARM
END:VEVENT
BEGIN:VEVENT
UID:waxahachie-263456@ygametime.com
DTSTAMP:20211211T010000Z
DTSTART;TZID=America/Chicago:20211210T190000
DURATION:PT0H60M0S
SUMMARY:Space Jammers vs Ballin' Braves
DESCRIPTION:Kinder Division | Youth Basketball\nWaxahachie Family YMCA\n
URL;VALUE=URI:https://ygametime.com/branch/waxahachie/sports/2021-winter-youth-basketball/11355/?utm_medium=calendar&utm_source=team_cal&utm_content=league_url#game-263456
LOCATION:Waxahachie YMCA - Back Court
BEGIN:VALARM
TRIGGER:-P2H
ACTION:DISPLAY
DESCRIPTION:Space Jammers vs Ballin' Braves
END:VALARM
END:VEVENT
BEGIN:VEVENT
UID:waxahachie-263458@ygametime.com
DTSTAMP:20211218T000000Z
DTSTART;TZID=America/Chicago:20211217T180000
DURATION:PT0H60M0S
SUMMARY:Hurricanes vs Space Jammers
DESCRIPTION:Kinder Division | Youth Basketball\nWaxahachie Family YMCA\n
URL;VALUE=URI:https://ygametime.com/branch/waxahachie/sports/2021-winter-youth-basketball/11355/?utm_medium=calendar&utm_source=team_cal&utm_content=league_url#game-263458
LOCATION:Waxahachie YMCA - Back Court
BEGIN:VALARM
TRIGGER:-P2H
ACTION:DISPLAY
DESCRIPTION:Hurricanes vs Space Jammers
END:VALARM
END:VEVENT
BEGIN:VEVENT
UID:waxahachie-263470@ygametime.com
DTSTAMP:20220108T000000Z
DTSTART;TZID=America/Chicago:20220107T180000
DURATION:PT0H60M0S
SUMMARY:Black Mambas vs Space Jammers
DESCRIPTION:Kinder Division | Youth Basketball\nWaxahachie Family YMCA\n
URL;VALUE=URI:https://ygametime.com/branch/waxahachie/sports/2021-winter-youth-basketball/11355/?utm_medium=calendar&utm_source=team_cal&utm_content=league_url#game-263470
LOCATION:Waxahachie YMCA - Back Court
BEGIN:VALARM
TRIGGER:-P2H
ACTION:DISPLAY
DESCRIPTION:Black Mambas vs Space Jammers
END:VALARM
END:VEVENT
BEGIN:VEVENT
UID:waxahachie-263474@ygametime.com
DTSTAMP:20220115T000000Z
DTSTART;TZID=America/Chicago:20220114T180000
DURATION:PT0H60M0S
SUMMARY:Space Jammers vs Lil Ballers
DESCRIPTION:Kinder Division | Youth Basketball\nWaxahachie Family YMCA\n
URL;VALUE=URI:https://ygametime.com/branch/waxahachie/sports/2021-winter-youth-basketball/11355/?utm_medium=calendar&utm_source=team_cal&utm_content=league_url#game-263474
LOCATION:Waxahachie YMCA - Back Court
BEGIN:VALARM
TRIGGER:-P2H
ACTION:DISPLAY
DESCRIPTION:Space Jammers vs Lil Ballers
END:VALARM
END:VEVENT
BEGIN:VEVENT
UID:waxahachie-263464@ygametime.com
DTSTAMP:20220122T010000Z
DTSTART;TZID=America/Chicago:20220121T190000
DURATION:PT0H60M0S
SUMMARY:Space Jammers vs Mighty Mavs
DESCRIPTION:Kinder Division | Youth Basketball\nWaxahachie Family YMCA\n
URL;VALUE=URI:https://ygametime.com/branch/waxahachie/sports/2021-winter-youth-basketball/11355/?utm_medium=calendar&utm_source=team_cal&utm_content=league_url#game-263464
LOCATION:Waxahachie YMCA - Back Court
BEGIN:VALARM
TRIGGER:-P2H
ACTION:DISPLAY
DESCRIPTION:Space Jammers vs Mighty Mavs
END:VALARM
END:VEVENT
BEGIN:VEVENT
UID:waxahachie-263466@ygametime.com
DTSTAMP:20220129T000000Z
DTSTART;TZID=America/Chicago:20220128T180000
DURATION:PT0H60M0S
SUMMARY:Space Jammers vs Tune Squad
DESCRIPTION:Kinder Division | Youth Basketball\nWaxahachie Family YMCA\n
URL;VALUE=URI:https://ygametime.com/branch/waxahachie/sports/2021-winter-youth-basketball/11355/?utm_medium=calendar&utm_source=team_cal&utm_content=league_url#game-263466
LOCATION:Waxahachie YMCA - Back Court
BEGIN:VALARM
TRIGGER:-P2H
ACTION:DISPLAY
DESCRIPTION:Space Jammers vs Tune Squad
END:VALARM
END:VEVENT
END:VCALENDAR

